PDS_VERSION_ID = PDS3
/* FILE DATA ELEMENTS */
RECORD_TYPE = UNDEFINED
/* POINTERS TO DATA OBJECTS */
^IMAGE = ("H7355_0000_P24.TIF")
/* IDENTIFICATION DATA ELEMENTS */
DATA_SET_ID = "MEX-M-HRSC-4-REFDR-MAPPROJECT-EXT3-V4.0"
DATA_SET_NAME = "MARS EXPRESS HRSC MAP PROJECTED REFDR EXTENSION3 V4.0"
DETECTOR_ID = MEX_HRSC_P2
EVENT_TYPE = "MARS-REGIONAL-MAPPING-Vo"
INSTRUMENT_HOST_ID = MEX
INSTRUMENT_HOST_NAME = "MARS EXPRESS"
INSTRUMENT_ID = HRSC
INSTRUMENT_NAME = "HIGH RESOLUTION STEREO CAMERA"
MISSION_NAME = "MARS EXPRESS"
MISSION_PHASE_NAME = ME_Phase_18
PROCESSING_LEVEL_ID = 4
PRODUCT_CREATION_TIME = 2023-02-01T22:33:16.000Z
PRODUCT_ID = "H7355_0000_P24.TIF"
RELEASE_ID = 0002
REVISION_ID = 0000
/* QUALITY DATA ELEMENTS */
DATA_QUALITY_ID = 1
DATA_QUALITY_DESC = "Data calculated based on original SPICE kernels"
/* TIME DATA ELEMENTS */
SPACECRAFT_CLOCK_START_COUNT = "1/0202086718.09074"
SPACECRAFT_CLOCK_STOP_COUNT = "1/0202087122.08909"
START_TIME = 2009-09-26T23:12:53.930Z
STOP_TIME = 2009-09-26T23:18:23.679Z
/* ORBITAL DATA ELEMENTS */
ASCENDING_NODE_LONGITUDE = 77.11
MAXIMUM_RESOLUTION = 0.0586
FOOTPRINT_POINT_LATITUDE = (25.3935,25.3888,25.3887,25.3892, 24.4848,23.9371,23.2327,22.4931,22.0675 ,21.6429,21.2202,20.5862,20.1646, 19.7438,19.3238,18.9047,18.4864,18.069, 17.6523,17.2367,16.8219,16.4082,15.9954 ,15.5837,15.1728,14.7633,14.3548, 13.9476,13.5409,13.1357,12.7316,12.3285 ,11.9265,11.5257,11.126,10.7274,10.33, 9.93361,9.53846,9.1444,8.7517,8.36023, 7.9698,7.58073,7.19276,6.8059,6.42047, 5.65354,5.46246,5.44999,5.4438,5.4349, 5.42921,5.42907,5.42991,6.19676,6.96876 ,7.35678,7.74587,8.13631,8.52789, 8.92061,9.31456,9.70969,10.1058,10.5034 ,10.902,11.3019,11.7028,12.1048,12.508, 12.9124,13.3177,13.7241,14.1318,14.5401 ,14.9496,15.3602,15.7715,16.184,16.5975 ,17.0121,17.4275,17.8441,18.2614, 18.6797,19.0988,19.519,19.9398,20.3615, 20.784,21.2072,21.6313,22.0561,22.4816, 23.2252,24.2982,25.203,25.3835,25.3935)
FOOTPRINT_POINT_LONGITUDE = (263.621,262.258,262.245,262.242, 262.248,262.254,262.249,262.248,262.247 ,262.246,262.245,262.242,262.24,262.237 ,262.234,262.231,262.227,262.223, 262.219,262.215,262.21,262.205,262.2, 262.194,262.188,262.182,262.175,262.168 ,262.161,262.153,262.145,262.137, 262.129,262.12,262.111,262.102,262.093, 262.083,262.074,262.064,262.053,262.043 ,262.032,262.021,262.01,261.998,261.986 ,261.962,261.956,261.956,262.406, 263.158,263.727,263.744,263.749,263.742 ,263.735,263.732,263.728,263.725, 263.722,263.719,263.716,263.713,263.71, 263.707,263.704,263.701,263.699,263.696 ,263.693,263.691,263.688,263.686, 263.683,263.681,263.678,263.676,263.673 ,263.671,263.669,263.667,263.664, 263.662,263.66,263.658,263.655,263.653, 263.651,263.649,263.646,263.644,263.642 ,263.64,263.637,263.633,263.625,263.623 ,263.622,263.621)
ORBIT_NUMBER = 7355
ORBITAL_ECCENTRICITY = 0.573
ORBITAL_INCLINATION = 86.8
ORBITAL_SEMIMAJOR_AXIS = 8756.92
PERIAPSIS_ALTITUDE = 348.83
PERIAPSIS_ARGUMENT_ANGLE = 148.06
PERIAPSIS_TIME = 2009-09-26T23:10:52.000Z
SPACECRAFT_ORIENTATION = (0.0,-1.0,0.0)
^MEX_ORIENTATION_DESC = "MEX_ORIENTATION_DESC.TXT"
SPACECRAFT_POINTING_MODE = NADIR
^MEX_POINTING_DESC = "MEX_POINTING_DESC.TXT"
RIGHT_ASCENSION = -1e+32
DECLINATION = -1e+32
OFFSET_ANGLE = -1e+32
SPACECRAFT_SOLAR_DISTANCE = 2.27355e+08
TARGET_NAME = MARS
/* CAMERA DATA ELEMENTS */
DETECTOR_TEMPERATURE = 18.3705
FOCAL_PLANE_TEMPERATURE = 8.1755
INST_CMPRS_NAME = "DISCRETE COSINE TRANSFORMATION (DCT)"
INST_CMPRS_RATIO = 9.41632
INST_CMPRS_QUALITY = 0
INST_CMPRS_QUANTZ_TBL_ID = 0
INSTRUMENT_TEMPERATURE = 11.0301
LENS_TEMPERATURE = 8.5833
MACROPIXEL_SIZE = 4
MISSING_FRAMES = 0
PIXEL_SUBSAMPLING_FLAG = N
SIGNAL_CHAIN_ID = 3
/* RADIOMETRIC DATA ELEMENTS */
BANDWIDTH = 177.0
CENTER_FILTER_WAVELENGTH = 676.5
RADIANCE_OFFSET = 4.55676
RADIANCE_SCALING_FACTOR = 0.0244532
REFLECTANCE_SCALING_FACTOR = 0.000670199
MEX:REFLECTANCE_OFFSET = 0.124889
/* IMAGE OBJECT DEFINITIONS */
OBJECT = IMAGE
  INTERCHANGE_FORMAT = BINARY
  LINES = 23663
  LINE_SAMPLES = 2016
  SAMPLE_TYPE = UNSIGNED_INTEGER
  SAMPLE_BITS = 8
  BANDS = 1
  BAND_STORAGE_TYPE = BAND_SEQUENTIAL
  MAXIMUM = 255
  MEAN = 158.702
  MINIMUM = 1
  STANDARD_DEVIATION = 24.7917
END_OBJECT = IMAGE
/* MAP OBJECT DEFINITIONS */
OBJECT = IMAGE_MAP_PROJECTION
  ^DATA_SET_MAP_PROJECTION_CATALOG= "DSMAP.CAT"
  A_AXIS_RADIUS = 3396.0
  B_AXIS_RADIUS = 3396.0
  C_AXIS_RADIUS = 3396.0
  CENTER_LATITUDE = 0.0
  CENTER_LONGITUDE = 263.0
  COORDINATE_SYSTEM_NAME = PLANETOGRAPHIC
  COORDINATE_SYSTEM_TYPE = "BODY-FIXED ROTATING"
  EASTERNMOST_LONGITUDE = 263.749
  FIRST_STANDARD_PARALLEL = "N/A"
  LINE_FIRST_PIXEL = 1
  LINE_LAST_PIXEL = 23663
  LINE_PROJECTION_OFFSET = 30133.875
  MAP_PROJECTION_ROTATION = 0.0
  MAP_PROJECTION_TYPE = SINUSOIDAL
  MAP_RESOLUTION = 1185.42760773333
  MAP_SCALE = 0.05
  MAXIMUM_LATITUDE = 25.3935
  MINIMUM_LATITUDE = 5.42907
  POSITIVE_LONGITUDE_DIRECTION = EAST
  REFERENCE_LATITUDE = "N/A"
  REFERENCE_LONGITUDE = "N/A"
  SAMPLE_FIRST_PIXEL = 1
  SAMPLE_LAST_PIXEL = 2016
  SAMPLE_PROJECTION_OFFSET = 1184.125
  SECOND_STANDARD_PARALLEL = "N/A"
  WESTERNMOST_LONGITUDE = 261.956
END_OBJECT = IMAGE_MAP_PROJECTION
END
