PDS_VERSION_ID = PDS3
/* FILE DATA ELEMENTS */
RECORD_TYPE = UNDEFINED
/* POINTERS TO DATA OBJECTS */
^IMAGE = ("H7350_0000_P14.TIF")
/* IDENTIFICATION DATA ELEMENTS */
DATA_SET_ID = "MEX-M-HRSC-4-REFDR-MAPPROJECT-EXT3-V4.0"
DATA_SET_NAME = "MARS EXPRESS HRSC MAP PROJECTED REFDR EXTENSION3 V4.0"
DETECTOR_ID = MEX_HRSC_P1
EVENT_TYPE = "MARS-REGIONAL-MAPPING-Im-Fl"
INSTRUMENT_HOST_ID = MEX
INSTRUMENT_HOST_NAME = "MARS EXPRESS"
INSTRUMENT_ID = HRSC
INSTRUMENT_NAME = "HIGH RESOLUTION STEREO CAMERA"
MISSION_NAME = "MARS EXPRESS"
MISSION_PHASE_NAME = ME_Phase_18
PROCESSING_LEVEL_ID = 4
PRODUCT_CREATION_TIME = 2023-02-01T22:33:16.000Z
PRODUCT_ID = "H7350_0000_P14.TIF"
RELEASE_ID = 0002
REVISION_ID = 0000
/* QUALITY DATA ELEMENTS */
DATA_QUALITY_ID = 1
DATA_QUALITY_DESC = "Data calculated based on original SPICE kernels"
/* TIME DATA ELEMENTS */
SPACECRAFT_CLOCK_START_COUNT = "1/0201962582.09113"
SPACECRAFT_CLOCK_STOP_COUNT = "1/0201962848.09206"
START_TIME = 2009-09-25T12:43:15.282Z
STOP_TIME = 2009-09-25T12:46:23.837Z
/* ORBITAL DATA ELEMENTS */
ASCENDING_NODE_LONGITUDE = 77.2
MAXIMUM_RESOLUTION = 0.0576
FOOTPRINT_POINT_LATITUDE = (25.7265,25.7238,25.7187,25.7119, 25.7068,25.7065,25.6938,25.3528,24.8997 ,24.6722,24.4442,24.1036,23.8754, 23.6475,23.3065,23.0787,22.8509,22.6234 ,22.3964,22.1683,21.9409,21.7138, 21.3726,21.1448,20.803,20.4621,20.2344, 20.0075,19.6677,19.4398,18.9855,18.5783 ,18.307,18.0358,17.6294,17.2211,16.8153 ,16.4093,16.004,15.7339,15.4649,15.1957 ,14.9232,14.6531,14.385,14.1153,13.5761 ,13.4412,13.4351,13.439,13.44,13.4403, 13.4403,13.4413,13.7117,14.1164,14.3861 ,14.6561,15.0603,15.3308,15.6015, 16.0072,16.2777,16.5494,16.8201,17.2269 ,17.4981,17.7693,18.04,18.3114,18.7186, 18.9913,19.2204,19.4483,19.6754,19.9023 ,20.1313,20.3578,20.5869,20.8143, 21.1547,21.3831,21.7244,21.9521,22.18, 22.4083,22.6357,22.8632,23.0916,23.3205 ,23.7679,23.9958,24.2251,24.5663, 24.9066,25.1336,25.3612,25.589,25.7032, 25.7265)
FOOTPRINT_POINT_LONGITUDE = (47.6058,47.332,46.9323,46.5308,46.2785 ,46.2659,46.2549,46.2584,46.2638, 46.2656,46.2671,46.27,46.2711,46.2723, 46.2744,46.2754,46.2763,46.2773,46.2784 ,46.2788,46.2795,46.2803,46.2809,46.281 ,46.2808,46.2809,46.2805,46.2806, 46.2808,46.28,46.2788,46.2766,46.2753, 46.2739,46.2716,46.2678,46.2651,46.2619 ,46.2587,46.2564,46.2545,46.2524,46.248 ,46.2449,46.2429,46.2396,46.2326, 46.2307,46.2306,46.7776,47.15,47.64, 47.6532,47.6576,47.6564,47.655,47.6541, 47.6532,47.6521,47.6512,47.6501,47.6488 ,47.6479,47.6467,47.6458,47.6443, 47.6433,47.6423,47.6416,47.6406,47.6391 ,47.6377,47.6365,47.6355,47.6348, 47.6342,47.6329,47.6325,47.6312,47.6304 ,47.6295,47.6284,47.6272,47.6263, 47.6253,47.6242,47.6234,47.6226,47.6214 ,47.6201,47.621,47.6199,47.6184,47.617, 47.6158,47.615,47.614,47.6128,47.6121, 47.6058)
ORBIT_NUMBER = 7350
ORBITAL_ECCENTRICITY = 0.573
ORBITAL_INCLINATION = 86.81
ORBITAL_SEMIMAJOR_AXIS = 8753.25
PERIAPSIS_ALTITUDE = 348.5
PERIAPSIS_ARGUMENT_ANGLE = 148.96
PERIAPSIS_TIME = 2009-09-25T12:42:14.000Z
SPACECRAFT_ORIENTATION = (0.0,-1.0,0.0)
^MEX_ORIENTATION_DESC = "MEX_ORIENTATION_DESC.TXT"
SPACECRAFT_POINTING_MODE = ACROSSTRACK
^MEX_POINTING_DESC = "MEX_POINTING_DESC.TXT"
RIGHT_ASCENSION = -1e+32
DECLINATION = -1e+32
OFFSET_ANGLE = -0.2
SPACECRAFT_SOLAR_DISTANCE = 2.27075e+08
TARGET_NAME = MARS
/* CAMERA DATA ELEMENTS */
DETECTOR_TEMPERATURE = 17.7588
FOCAL_PLANE_TEMPERATURE = 9.195
INST_CMPRS_NAME = "DISCRETE COSINE TRANSFORMATION (DCT)"
INST_CMPRS_RATIO = 15.6876
INST_CMPRS_QUALITY = 0
INST_CMPRS_QUANTZ_TBL_ID = 0
INSTRUMENT_TEMPERATURE = 11.4379
LENS_TEMPERATURE = 9.3989
MACROPIXEL_SIZE = 4
MISSING_FRAMES = 0
PIXEL_SUBSAMPLING_FLAG = N
SIGNAL_CHAIN_ID = 3
/* RADIOMETRIC DATA ELEMENTS */
BANDWIDTH = 174.0
CENTER_FILTER_WAVELENGTH = 675.0
RADIANCE_OFFSET = 5.5737
RADIANCE_SCALING_FACTOR = 0.0153387
REFLECTANCE_SCALING_FACTOR = 0.000425415
MEX:REFLECTANCE_OFFSET = 0.154585
/* IMAGE OBJECT DEFINITIONS */
OBJECT = IMAGE
  INTERCHANGE_FORMAT = BINARY
  LINES = 14544
  LINE_SAMPLES = 1695
  SAMPLE_TYPE = UNSIGNED_INTEGER
  SAMPLE_BITS = 8
  BANDS = 1
  BAND_STORAGE_TYPE = BAND_SEQUENTIAL
  MAXIMUM = 255
  MEAN = 142.689
  MINIMUM = 1
  STANDARD_DEVIATION = 25.2983
END_OBJECT = IMAGE
/* MAP OBJECT DEFINITIONS */
OBJECT = IMAGE_MAP_PROJECTION
  ^DATA_SET_MAP_PROJECTION_CATALOG= "DSMAP.CAT"
  A_AXIS_RADIUS = 3396.0
  B_AXIS_RADIUS = 3396.0
  C_AXIS_RADIUS = 3396.0
  CENTER_LATITUDE = 0.0
  CENTER_LONGITUDE = 47.0
  COORDINATE_SYSTEM_NAME = PLANETOGRAPHIC
  COORDINATE_SYSTEM_TYPE = "BODY-FIXED ROTATING"
  EASTERNMOST_LONGITUDE = 47.6576
  FIRST_STANDARD_PARALLEL = "N/A"
  LINE_FIRST_PIXEL = 1
  LINE_LAST_PIXEL = 14544
  LINE_PROJECTION_OFFSET = 30458.125
  MAP_PROJECTION_ROTATION = 0.0
  MAP_PROJECTION_TYPE = SINUSOIDAL
  MAP_RESOLUTION = 1185.42760773333
  MAP_SCALE = 0.05
  MAXIMUM_LATITUDE = 25.7265
  MINIMUM_LATITUDE = 13.4351
  POSITIVE_LONGITUDE_DIRECTION = EAST
  REFERENCE_LATITUDE = "N/A"
  REFERENCE_LONGITUDE = "N/A"
  SAMPLE_FIRST_PIXEL = 1
  SAMPLE_LAST_PIXEL = 1695
  SAMPLE_PROJECTION_OFFSET = 914.875
  SECOND_STANDARD_PARALLEL = "N/A"
  WESTERNMOST_LONGITUDE = 46.2306
END_OBJECT = IMAGE_MAP_PROJECTION
END
