PDS_VERSION_ID = PDS3
/* FILE DATA ELEMENTS */
RECORD_TYPE = UNDEFINED
/* POINTERS TO DATA OBJECTS */
^IMAGE = ("H7347_0000_S14.TIF")
/* IDENTIFICATION DATA ELEMENTS */
DATA_SET_ID = "MEX-M-HRSC-4-REFDR-MAPPROJECT-EXT3-V4.0"
DATA_SET_NAME = "MARS EXPRESS HRSC MAP PROJECTED REFDR EXTENSION3 V4.0"
DETECTOR_ID = MEX_HRSC_S1
EVENT_TYPE = "MARS-REGIONAL-MAPPING-Im-Fl-Lc"
INSTRUMENT_HOST_ID = MEX
INSTRUMENT_HOST_NAME = "MARS EXPRESS"
INSTRUMENT_ID = HRSC
INSTRUMENT_NAME = "HIGH RESOLUTION STEREO CAMERA"
MISSION_NAME = "MARS EXPRESS"
MISSION_PHASE_NAME = ME_Phase_18
PROCESSING_LEVEL_ID = 4
PRODUCT_CREATION_TIME = 2023-02-01T22:33:16.000Z
PRODUCT_ID = "H7347_0000_S14.TIF"
RELEASE_ID = 0002
REVISION_ID = 0000
/* QUALITY DATA ELEMENTS */
DATA_QUALITY_ID = 1
DATA_QUALITY_DESC = "Data calculated based on original SPICE kernels"
/* TIME DATA ELEMENTS */
SPACECRAFT_CLOCK_START_COUNT = "1/0201888115.08393"
SPACECRAFT_CLOCK_STOP_COUNT = "1/0201888388.47216"
START_TIME = 2009-09-24T16:01:57.606Z
STOP_TIME = 2009-09-24T16:05:11.326Z
/* ORBITAL DATA ELEMENTS */
ASCENDING_NODE_LONGITUDE = 77.27
MAXIMUM_RESOLUTION = 0.0299
FOOTPRINT_POINT_LATITUDE = (24.9292,24.9194,24.9077,24.891,24.8906 ,24.8543,24.5041,24.2685,23.9165, 23.6817,23.4455,23.093,22.8574,22.6232, 22.2698,21.9163,21.6807,21.4454,21.0933 ,20.8564,20.4999,20.2616,20.0258, 19.5595,19.2007,18.9617,18.7266,18.4953 ,18.2611,18.0255,17.7889,17.3757, 17.0933,16.8118,16.5315,16.2488,15.9662 ,15.5438,15.262,14.8395,14.5569,14.2747 ,13.8528,13.5717,13.2898,13.0084,12.588 ,12.3064,12.1659,12.1628,12.169,12.1764 ,12.1806,12.1852,12.1853,12.1859,12.609 ,12.8926,13.164,13.4417,13.865,14.1504, 14.5818,14.8639,15.2866,15.7097,15.9924 ,16.2759,16.5493,16.8359,17.261,17.6841 ,17.9343,18.1697,18.4022,18.6339, 18.8685,19.1063,19.4701,19.7114,20.0636 ,20.3,20.5347,20.8882,21.2423,21.4786, 21.7135,21.9492,22.303,22.5387,22.7747, 23.0105,23.3632,23.7166,23.9518,24.1854 ,24.4215,24.7751,24.8922,24.9292)
FOOTPRINT_POINT_LONGITUDE = (349.985,349.573,349.157,348.659, 348.645,348.623,348.628,348.63,348.633, 348.635,348.637,348.64,348.641,348.643, 348.645,348.647,348.648,348.649,348.651 ,348.651,348.65,348.649,348.649,348.652 ,348.65,348.648,348.648,348.65,348.65, 348.65,348.648,348.646,348.645,348.643, 348.642,348.64,348.638,348.635,348.632, 348.629,348.626,348.622,348.618,348.615 ,348.612,348.608,348.603,348.599, 348.598,348.597,348.894,349.301,349.58, 350.024,350.037,350.042,350.041,350.039 ,350.04,350.039,350.038,350.036,350.033 ,350.032,350.031,350.029,350.028, 350.027,350.027,350.025,350.024,350.022 ,350.021,350.02,350.02,350.02,350.019, 350.018,350.015,350.013,350.012,350.011 ,350.01,350.009,350.007,350.006,350.005 ,350.004,350.003,350.002,350.001, 349.999,349.998,349.996,349.995,349.994 ,349.993,349.991,349.99,349.985)
ORBIT_NUMBER = 7347
ORBITAL_ECCENTRICITY = 0.572
ORBITAL_INCLINATION = 86.81
ORBITAL_SEMIMAJOR_AXIS = 8746.83
PERIAPSIS_ALTITUDE = 348.47
PERIAPSIS_ARGUMENT_ANGLE = 149.44
PERIAPSIS_TIME = 2009-09-24T16:01:02.000Z
SPACECRAFT_ORIENTATION = (0.0,-1.0,0.0)
^MEX_ORIENTATION_DESC = "MEX_ORIENTATION_DESC.TXT"
SPACECRAFT_POINTING_MODE = ACROSSTRACK
^MEX_POINTING_DESC = "MEX_POINTING_DESC.TXT"
RIGHT_ASCENSION = -1e+32
DECLINATION = -1e+32
OFFSET_ANGLE = -0.35
SPACECRAFT_SOLAR_DISTANCE = 2.26907e+08
TARGET_NAME = MARS
/* CAMERA DATA ELEMENTS */
DETECTOR_TEMPERATURE = 17.5549
FOCAL_PLANE_TEMPERATURE = 8.3794
INST_CMPRS_NAME = "DISCRETE COSINE TRANSFORMATION (DCT)"
INST_CMPRS_RATIO = 10.6559
INST_CMPRS_QUALITY = 0
INST_CMPRS_QUANTZ_TBL_ID = 0
INSTRUMENT_TEMPERATURE = 11.4379
LENS_TEMPERATURE = 8.7872
MACROPIXEL_SIZE = 2
MISSING_FRAMES = 0
PIXEL_SUBSAMPLING_FLAG = N
SIGNAL_CHAIN_ID = 1
/* RADIOMETRIC DATA ELEMENTS */
BANDWIDTH = 180.0
CENTER_FILTER_WAVELENGTH = 677.0
RADIANCE_OFFSET = 4.75107
RADIANCE_SCALING_FACTOR = 0.0192892
REFLECTANCE_SCALING_FACTOR = 0.000518144
MEX:REFLECTANCE_OFFSET = 0.127622
/* IMAGE OBJECT DEFINITIONS */
OBJECT = IMAGE
  INTERCHANGE_FORMAT = BINARY
  LINES = 30094
  LINE_SAMPLES = 3473
  SAMPLE_TYPE = UNSIGNED_INTEGER
  SAMPLE_BITS = 8
  BANDS = 1
  BAND_STORAGE_TYPE = BAND_SEQUENTIAL
  MAXIMUM = 255
  MEAN = 126.381
  MINIMUM = 1
  STANDARD_DEVIATION = 37.6012
END_OBJECT = IMAGE
/* MAP OBJECT DEFINITIONS */
OBJECT = IMAGE_MAP_PROJECTION
  ^DATA_SET_MAP_PROJECTION_CATALOG= "DSMAP.CAT"
  A_AXIS_RADIUS = 3396.0
  B_AXIS_RADIUS = 3396.0
  C_AXIS_RADIUS = 3396.0
  CENTER_LATITUDE = 0.0
  CENTER_LONGITUDE = 349.0
  COORDINATE_SYSTEM_NAME = PLANETOGRAPHIC
  COORDINATE_SYSTEM_TYPE = "BODY-FIXED ROTATING"
  EASTERNMOST_LONGITUDE = 350.042
  FIRST_STANDARD_PARALLEL = "N/A"
  LINE_FIRST_PIXEL = 1
  LINE_LAST_PIXEL = 30094
  LINE_PROJECTION_OFFSET = 59004.25
  MAP_PROJECTION_ROTATION = 0.0
  MAP_PROJECTION_TYPE = SINUSOIDAL
  MAP_RESOLUTION = 2370.85521546667
  MAP_SCALE = 0.025
  MAXIMUM_LATITUDE = 24.9292
  MINIMUM_LATITUDE = 12.1628
  POSITIVE_LONGITUDE_DIRECTION = EAST
  REFERENCE_LATITUDE = "N/A"
  REFERENCE_LONGITUDE = "N/A"
  SAMPLE_FIRST_PIXEL = 1
  SAMPLE_LAST_PIXEL = 3473
  SAMPLE_PROJECTION_OFFSET = 994.25
  SECOND_STANDARD_PARALLEL = "N/A"
  WESTERNMOST_LONGITUDE = 348.597
END_OBJECT = IMAGE_MAP_PROJECTION
END
