PDS_VERSION_ID = PDS3
/* FILE DATA ELEMENTS */
RECORD_TYPE = UNDEFINED
/* POINTERS TO DATA OBJECTS */
^IMAGE = ("H7338_0000_P14.TIF")
/* IDENTIFICATION DATA ELEMENTS */
DATA_SET_ID = "MEX-M-HRSC-4-REFDR-MAPPROJECT-EXT3-V4.0"
DATA_SET_NAME = "MARS EXPRESS HRSC MAP PROJECTED REFDR EXTENSION3 V4.0"
DETECTOR_ID = MEX_HRSC_P1
EVENT_TYPE = "MARS-REGIONAL-MAPPING-Vo-Te-Pf"
INSTRUMENT_HOST_ID = MEX
INSTRUMENT_HOST_NAME = "MARS EXPRESS"
INSTRUMENT_ID = HRSC
INSTRUMENT_NAME = "HIGH RESOLUTION STEREO CAMERA"
MISSION_NAME = "MARS EXPRESS"
MISSION_PHASE_NAME = ME_Phase_18
PROCESSING_LEVEL_ID = 4
PRODUCT_CREATION_TIME = 2023-02-01T22:33:16.000Z
PRODUCT_ID = "H7338_0000_P14.TIF"
RELEASE_ID = 0002
REVISION_ID = 0000
/* QUALITY DATA ELEMENTS */
DATA_QUALITY_ID = 1
DATA_QUALITY_DESC = "Data calculated based on original SPICE kernels"
/* TIME DATA ELEMENTS */
SPACECRAFT_CLOCK_START_COUNT = "1/0201664521.07291"
SPACECRAFT_CLOCK_STOP_COUNT = "1/0201664803.40248"
START_TIME = 2009-09-22T01:55:35.380Z
STOP_TIME = 2009-09-22T01:59:10.074Z
/* ORBITAL DATA ELEMENTS */
ASCENDING_NODE_LONGITUDE = 77.43
MAXIMUM_RESOLUTION = 0.0577
FOOTPRINT_POINT_LATITUDE = (35.5678,35.561,35.5517,35.5514,35.5057 ,35.2335,34.9609,34.6884,34.279,33.8692 ,33.5956,33.185,32.9111,32.4993,32.0872 ,31.8123,31.537,31.1241,30.7104,30.4345 ,30.1584,29.8823,29.4676,29.1909, 28.7757,28.36,27.9441,27.6669,27.389, 26.9722,26.5548,26.2766,25.8591,25.5807 ,25.3022,25.0235,24.7461,24.4666, 24.1875,23.7716,23.4937,23.2119,22.9325 ,22.6534,22.3737,22.0944,21.8153, 21.6758,21.6499,21.6507,21.6503,21.6502 ,21.6466,21.6465,21.6473,22.0623, 22.3426,22.766,23.0444,23.4634,23.7428, 24.1617,24.5805,24.8599,25.2781,25.5569 ,25.8357,26.2537,26.5323,26.95,27.2283, 27.5065,27.7842,28.0623,28.3401,28.7561 ,29.0335,29.3104,29.5875,29.8644, 30.1409,30.5556,30.9702,31.2461,31.6598 ,31.9354,32.2113,32.4859,32.7606,33.035 ,33.447,33.7212,33.9953,34.2689,34.5424 ,34.8158,35.0888,35.3614,35.4977, 35.5678)
FOOTPRINT_POINT_LONGITUDE = (178.035,177.122,176.525,176.511, 176.488,176.498,176.507,176.517,176.53, 176.544,176.552,176.565,176.573,176.584 ,176.595,176.602,176.609,176.619, 176.628,176.634,176.64,176.646,176.654, 176.659,176.666,176.673,176.679,176.683 ,176.687,176.693,176.697,176.7,176.705, 176.707,176.71,176.712,176.715,176.717, 176.718,176.722,176.724,176.724,176.725 ,176.726,176.726,176.727,176.727, 176.728,176.728,177.026,177.413,177.663 ,178.052,178.064,178.069,178.071, 178.071,178.068,178.069,178.069,178.069 ,178.069,178.069,178.069,178.069, 178.069,178.069,178.069,178.069,178.069 ,178.069,178.069,178.069,178.069, 178.069,178.069,178.069,178.069,178.069 ,178.069,178.069,178.069,178.069, 178.069,178.069,178.069,178.068,178.068 ,178.068,178.068,178.068,178.067, 178.067,178.067,178.067,178.066,178.066 ,178.066,178.065,178.035)
ORBIT_NUMBER = 7338
ORBITAL_ECCENTRICITY = 0.573
ORBITAL_INCLINATION = 86.81
ORBITAL_SEMIMAJOR_AXIS = 8746.71
PERIAPSIS_ALTITUDE = 347.54
PERIAPSIS_ARGUMENT_ANGLE = 151.05
PERIAPSIS_TIME = 2009-09-22T01:57:39.000Z
SPACECRAFT_ORIENTATION = (0.0,-1.0,0.0)
^MEX_ORIENTATION_DESC = "MEX_ORIENTATION_DESC.TXT"
SPACECRAFT_POINTING_MODE = ACROSSTRACK
^MEX_POINTING_DESC = "MEX_POINTING_DESC.TXT"
RIGHT_ASCENSION = -1e+32
DECLINATION = -1e+32
OFFSET_ANGLE = 0.1
SPACECRAFT_SOLAR_DISTANCE = 2.26401e+08
TARGET_NAME = MARS
/* CAMERA DATA ELEMENTS */
DETECTOR_TEMPERATURE = 16.5354
FOCAL_PLANE_TEMPERATURE = 8.1755
INST_CMPRS_NAME = "DISCRETE COSINE TRANSFORMATION (DCT)"
INST_CMPRS_RATIO = 17.4733
INST_CMPRS_QUALITY = 0
INST_CMPRS_QUANTZ_TBL_ID = 0
INSTRUMENT_TEMPERATURE = 11.0301
LENS_TEMPERATURE = 8.5833
MACROPIXEL_SIZE = 4
MISSING_FRAMES = 0
PIXEL_SUBSAMPLING_FLAG = N
SIGNAL_CHAIN_ID = 3
/* RADIOMETRIC DATA ELEMENTS */
BANDWIDTH = 174.0
CENTER_FILTER_WAVELENGTH = 675.0
RADIANCE_OFFSET = 4.5516
RADIANCE_SCALING_FACTOR = 0.0173918
REFLECTANCE_SCALING_FACTOR = 0.000479497
MEX:REFLECTANCE_OFFSET = 0.12549
/* IMAGE OBJECT DEFINITIONS */
OBJECT = IMAGE
  INTERCHANGE_FORMAT = BINARY
  LINES = 16451
  LINE_SAMPLES = 1675
  SAMPLE_TYPE = UNSIGNED_INTEGER
  SAMPLE_BITS = 8
  BANDS = 1
  BAND_STORAGE_TYPE = BAND_SEQUENTIAL
  MAXIMUM = 255
  MEAN = 111.183
  MINIMUM = 1
  STANDARD_DEVIATION = 35.7095
END_OBJECT = IMAGE
/* MAP OBJECT DEFINITIONS */
OBJECT = IMAGE_MAP_PROJECTION
  ^DATA_SET_MAP_PROJECTION_CATALOG= "DSMAP.CAT"
  A_AXIS_RADIUS = 3396.0
  B_AXIS_RADIUS = 3396.0
  C_AXIS_RADIUS = 3396.0
  CENTER_LATITUDE = 0.0
  CENTER_LONGITUDE = 177.0
  COORDINATE_SYSTEM_NAME = PLANETOGRAPHIC
  COORDINATE_SYSTEM_TYPE = "BODY-FIXED ROTATING"
  EASTERNMOST_LONGITUDE = 178.071
  FIRST_STANDARD_PARALLEL = "N/A"
  LINE_FIRST_PIXEL = 1
  LINE_LAST_PIXEL = 16451
  LINE_PROJECTION_OFFSET = 42135.625
  MAP_PROJECTION_ROTATION = 0.0
  MAP_PROJECTION_TYPE = SINUSOIDAL
  MAP_RESOLUTION = 1185.42760773333
  MAP_SCALE = 0.05
  MAXIMUM_LATITUDE = 35.5678
  MINIMUM_LATITUDE = 21.6465
  POSITIVE_LONGITUDE_DIRECTION = EAST
  REFERENCE_LATITUDE = "N/A"
  REFERENCE_LONGITUDE = "N/A"
  SAMPLE_FIRST_PIXEL = 1
  SAMPLE_LAST_PIXEL = 1675
  SAMPLE_PROJECTION_OFFSET = 491.875
  SECOND_STANDARD_PARALLEL = "N/A"
  WESTERNMOST_LONGITUDE = 176.488
END_OBJECT = IMAGE_MAP_PROJECTION
END
