PDS_VERSION_ID = PDS3
/* FILE DATA ELEMENTS */
RECORD_TYPE = UNDEFINED
/* POINTERS TO DATA OBJECTS */
^IMAGE = ("H7337_0000_RE4.TIF")
/* IDENTIFICATION DATA ELEMENTS */
DATA_SET_ID = "MEX-M-HRSC-4-REFDR-MAPPROJECT-EXT3-V4.0"
DATA_SET_NAME = "MARS EXPRESS HRSC MAP PROJECTED REFDR EXTENSION3 V4.0"
DETECTOR_ID = MEX_HRSC_RED
EVENT_TYPE = "MARS-REGIONAL-MAPPING-Vo-Te"
INSTRUMENT_HOST_ID = MEX
INSTRUMENT_HOST_NAME = "MARS EXPRESS"
INSTRUMENT_ID = HRSC
INSTRUMENT_NAME = "HIGH RESOLUTION STEREO CAMERA"
MISSION_NAME = "MARS EXPRESS"
MISSION_PHASE_NAME = ME_Phase_18
PROCESSING_LEVEL_ID = 4
PRODUCT_CREATION_TIME = 2023-02-01T22:33:16.000Z
PRODUCT_ID = "H7337_0000_RE4.TIF"
RELEASE_ID = 0002
REVISION_ID = 0000
/* QUALITY DATA ELEMENTS */
DATA_QUALITY_ID = 1
DATA_QUALITY_DESC = "Data calculated based on original SPICE kernels"
/* TIME DATA ELEMENTS */
SPACECRAFT_CLOCK_START_COUNT = "1/0201639821.07294"
SPACECRAFT_CLOCK_STOP_COUNT = "1/0201640097.53811"
START_TIME = 2009-09-21T19:04:41.307Z
STOP_TIME = 2009-09-21T19:08:11.654Z
/* ORBITAL DATA ELEMENTS */
ASCENDING_NODE_LONGITUDE = 77.46
MAXIMUM_RESOLUTION = 0.1162
FOOTPRINT_POINT_LATITUDE = (27.6082,27.6096,27.6109,27.6124, 27.6124,27.6272,27.2484,26.8698,26.618, 26.3662,26.1146,25.8632,25.6119,25.3608 ,25.1099,24.8594,24.609,24.3586,24.1087 ,23.8588,23.6093,23.36,23.111,22.8621, 22.6134,22.1173,21.6217,21.1273,20.6341 ,20.1419,19.6504,19.3756,19.0833, 18.7916,18.4999,18.2085,17.9176,17.6272 ,17.3373,17.0477,16.7588,16.4704, 16.1826,15.8952,15.6079,15.1777,14.8917 ,14.6063,14.4639,14.3908,14.3837, 14.3769,14.3713,14.3711,14.3729,14.6583 ,14.9442,15.2307,15.5177,15.805,16.0929 ,16.3811,16.6699,16.9592,17.2487, 17.5387,17.8292,18.1201,18.4115,18.7034 ,18.9957,19.2885,19.5756,20.0674, 20.5604,21.0539,21.5487,22.0446,22.293, 22.5416,22.7906,23.1644,23.4137,23.6635 ,23.9133,24.1633,24.4137,24.6642,24.915 ,25.166,25.4171,25.6685,25.9201,26.1714 ,26.4229,26.6747,27.0531,27.4314, 27.5577,27.6082)
FOOTPRINT_POINT_LONGITUDE = (278.536,278.234,277.867,277.205, 277.192,277.176,277.182,277.187,277.19, 277.193,277.196,277.199,277.202,277.204 ,277.207,277.209,277.211,277.213, 277.214,277.216,277.217,277.219,277.22, 277.221,277.222,277.223,277.224,277.224 ,277.224,277.223,277.222,277.221,277.22 ,277.219,277.218,277.216,277.215, 277.213,277.211,277.209,277.207,277.204 ,277.201,277.198,277.196,277.191, 277.188,277.184,277.183,277.182,277.68, 278.177,278.593,278.606,278.615,278.613 ,278.612,278.61,278.608,278.607,278.605 ,278.604,278.602,278.601,278.599, 278.597,278.596,278.594,278.593,278.591 ,278.59,278.588,278.587,278.584,278.582 ,278.579,278.576,278.573,278.572, 278.571,278.569,278.567,278.566,278.565 ,278.563,278.562,278.56,278.559,278.557 ,278.556,278.554,278.553,278.551,278.55 ,278.548,278.546,278.544,278.541, 278.541,278.536)
ORBIT_NUMBER = 7337
ORBITAL_ECCENTRICITY = 0.573
ORBITAL_INCLINATION = 86.8
ORBITAL_SEMIMAJOR_AXIS = 8758.64
PERIAPSIS_ALTITUDE = 346.87
PERIAPSIS_ARGUMENT_ANGLE = 151.23
PERIAPSIS_TIME = 2009-09-21T19:03:58.000Z
SPACECRAFT_ORIENTATION = (0.0,-1.0,0.0)
^MEX_ORIENTATION_DESC = "MEX_ORIENTATION_DESC.TXT"
SPACECRAFT_POINTING_MODE = ACROSSTRACK
^MEX_POINTING_DESC = "MEX_POINTING_DESC.TXT"
RIGHT_ASCENSION = -1e+32
DECLINATION = -1e+32
OFFSET_ANGLE = -0.2
SPACECRAFT_SOLAR_DISTANCE = 2.26345e+08
TARGET_NAME = MARS
/* CAMERA DATA ELEMENTS */
DETECTOR_TEMPERATURE = 18.5744
FOCAL_PLANE_TEMPERATURE = 8.5833
INST_CMPRS_NAME = "DISCRETE COSINE TRANSFORMATION (DCT)"
INST_CMPRS_RATIO = 26.0979
INST_CMPRS_QUALITY = 0
INST_CMPRS_QUANTZ_TBL_ID = 0
INSTRUMENT_TEMPERATURE = 11.0301
LENS_TEMPERATURE = 10.2145
MACROPIXEL_SIZE = 8
MISSING_FRAMES = 0
PIXEL_SUBSAMPLING_FLAG = N
SIGNAL_CHAIN_ID = 2
/* RADIOMETRIC DATA ELEMENTS */
BANDWIDTH = 48.0
CENTER_FILTER_WAVELENGTH = 748.0
RADIANCE_OFFSET = 1.44955
RADIANCE_SCALING_FACTOR = 0.00485419
REFLECTANCE_SCALING_FACTOR = 0.000567526
MEX:REFLECTANCE_OFFSET = 0.169474
/* IMAGE OBJECT DEFINITIONS */
OBJECT = IMAGE
  INTERCHANGE_FORMAT = BINARY
  LINES = 7867
  LINE_SAMPLES = 801
  SAMPLE_TYPE = UNSIGNED_INTEGER
  SAMPLE_BITS = 8
  BANDS = 1
  BAND_STORAGE_TYPE = BAND_SEQUENTIAL
  MAXIMUM = 255
  MEAN = 144.357
  MINIMUM = 1
  STANDARD_DEVIATION = 22.9258
END_OBJECT = IMAGE
/* MAP OBJECT DEFINITIONS */
OBJECT = IMAGE_MAP_PROJECTION
  ^DATA_SET_MAP_PROJECTION_CATALOG= "DSMAP.CAT"
  A_AXIS_RADIUS = 3396.0
  B_AXIS_RADIUS = 3396.0
  C_AXIS_RADIUS = 3396.0
  CENTER_LATITUDE = 0.0
  CENTER_LONGITUDE = 278.0
  COORDINATE_SYSTEM_NAME = PLANETOGRAPHIC
  COORDINATE_SYSTEM_TYPE = "BODY-FIXED ROTATING"
  EASTERNMOST_LONGITUDE = 278.615
  FIRST_STANDARD_PARALLEL = "N/A"
  LINE_FIRST_PIXEL = 1
  LINE_LAST_PIXEL = 7867
  LINE_PROJECTION_OFFSET = 16395.8125
  MAP_PROJECTION_ROTATION = 0.0
  MAP_PROJECTION_TYPE = SINUSOIDAL
  MAP_RESOLUTION = 592.713803866667
  MAP_SCALE = 0.1
  MAXIMUM_LATITUDE = 27.6272
  MINIMUM_LATITUDE = 14.3711
  POSITIVE_LONGITUDE_DIRECTION = EAST
  REFERENCE_LATITUDE = "N/A"
  REFERENCE_LONGITUDE = "N/A"
  SAMPLE_FIRST_PIXEL = 1
  SAMPLE_LAST_PIXEL = 801
  SAMPLE_PROJECTION_OFFSET = 461.1875
  SECOND_STANDARD_PARALLEL = "N/A"
  WESTERNMOST_LONGITUDE = 277.176
END_OBJECT = IMAGE_MAP_PROJECTION
END
