PDS_VERSION_ID = PDS3
/* FILE DATA ELEMENTS */
RECORD_TYPE = UNDEFINED
/* POINTERS TO DATA OBJECTS */
^IMAGE = ("H7336_0000_P24.TIF")
/* IDENTIFICATION DATA ELEMENTS */
DATA_SET_ID = "MEX-M-HRSC-4-REFDR-MAPPROJECT-EXT3-V4.0"
DATA_SET_NAME = "MARS EXPRESS HRSC MAP PROJECTED REFDR EXTENSION3 V4.0"
DETECTOR_ID = MEX_HRSC_P2
EVENT_TYPE = "MARS-REGIONAL-MAPPING-Te-Im-La"
INSTRUMENT_HOST_ID = MEX
INSTRUMENT_HOST_NAME = "MARS EXPRESS"
INSTRUMENT_ID = HRSC
INSTRUMENT_NAME = "HIGH RESOLUTION STEREO CAMERA"
MISSION_NAME = "MARS EXPRESS"
MISSION_PHASE_NAME = ME_Phase_18
PROCESSING_LEVEL_ID = 4
PRODUCT_CREATION_TIME = 2023-02-01T22:33:16.000Z
PRODUCT_ID = "H7336_0000_P24.TIF"
RELEASE_ID = 0002
REVISION_ID = 0000
/* QUALITY DATA ELEMENTS */
DATA_QUALITY_ID = 1
DATA_QUALITY_DESC = "Data calculated based on original SPICE kernels"
/* TIME DATA ELEMENTS */
SPACECRAFT_CLOCK_START_COUNT = "1/0201614990.09058"
SPACECRAFT_CLOCK_STOP_COUNT = "1/0201615306.42377"
START_TIME = 2009-09-21T12:10:44.741Z
STOP_TIME = 2009-09-21T12:14:53.268Z
/* ORBITAL DATA ELEMENTS */
ASCENDING_NODE_LONGITUDE = 77.48
MAXIMUM_RESOLUTION = 0.0288
FOOTPRINT_POINT_LATITUDE = (27.6081,27.6078,27.607,27.6045,27.6045 ,27.628,27.1828,26.7382,26.4422,26.1467 ,25.8524,25.5569,25.1141,24.819,24.5245 ,24.0833,23.7892,23.4952,23.202,22.7623 ,22.4696,22.1773,21.8846,21.593,21.3013 ,20.8639,20.5719,19.8453,19.2673, 18.9643,18.6199,18.2761,17.9332,17.5904 ,17.2482,16.9065,16.5649,16.2242, 15.8841,15.5445,15.2056,14.8664,14.531, 14.1912,13.8547,13.5187,13.1832,12.8485 ,12.5141,12.1761,12.0051,11.9769, 11.9728,11.9671,11.9666,11.9665,11.9669 ,12.3064,12.639,12.9747,13.4781,13.9832 ,14.3205,14.6589,14.9973,15.3365, 15.6761,16.0163,16.5277,16.8691,17.2119 ,17.5526,18.0689,18.4138,18.7577, 19.2382,19.8169,20.2531,20.8353,21.127, 21.4187,21.7107,22.0026,22.2956,22.5891 ,23.029,23.4691,23.7631,24.2048,24.4996 ,24.7945,25.0904,25.3856,25.6811,26.124 ,26.5676,27.0122,27.4577,27.6062, 27.6081)
FOOTPRINT_POINT_LONGITUDE = (19.5195,19.1648,18.8227,18.1759, 18.1626,18.1438,18.1503,18.1561,18.1597 ,18.1629,18.1653,18.1683,18.1724,18.175 ,18.1772,18.18,18.1819,18.1836,18.1848, 18.1866,18.1875,18.1881,18.189,18.1892, 18.1895,18.1899,18.1903,18.1896,18.1872 ,18.1859,18.1844,18.1825,18.1802,18.178 ,18.1755,18.1728,18.1701,18.167,18.1638 ,18.1603,18.1566,18.1532,18.1479,18.145 ,18.1406,18.1359,18.1312,18.1262, 18.1212,18.1169,18.1141,18.1134,18.5455 ,19.1924,19.5813,19.5957,19.6009, 19.5983,19.5959,19.5945,19.592,19.5896, 19.588,19.5866,19.585,19.5834,19.5819, 19.5803,19.578,19.5763,19.5751,19.5728, 19.5711,19.57,19.5682,19.5661,19.5633, 19.5618,19.5594,19.5583,19.5571,19.5558 ,19.5544,19.5534,19.5523,19.5505, 19.5484,19.5472,19.5453,19.5441,19.5428 ,19.5418,19.5404,19.539,19.5366,19.5342 ,19.5319,19.5299,19.5292,19.5195)
ORBIT_NUMBER = 7336
ORBITAL_ECCENTRICITY = 0.573
ORBITAL_INCLINATION = 86.8
ORBITAL_SEMIMAJOR_AXIS = 8754.22
PERIAPSIS_ALTITUDE = 347.19
PERIAPSIS_ARGUMENT_ANGLE = 151.39
PERIAPSIS_TIME = 2009-09-21T12:10:09.000Z
SPACECRAFT_ORIENTATION = (0.0,-1.0,0.0)
^MEX_ORIENTATION_DESC = "MEX_ORIENTATION_DESC.TXT"
SPACECRAFT_POINTING_MODE = ACROSSTRACK
^MEX_POINTING_DESC = "MEX_POINTING_DESC.TXT"
RIGHT_ASCENSION = -1e+32
DECLINATION = -1e+32
OFFSET_ANGLE = -0.1
SPACECRAFT_SOLAR_DISTANCE = 2.26289e+08
TARGET_NAME = MARS
/* CAMERA DATA ELEMENTS */
DETECTOR_TEMPERATURE = 18.5744
FOCAL_PLANE_TEMPERATURE = 8.3794
INST_CMPRS_NAME = "DISCRETE COSINE TRANSFORMATION (DCT)"
INST_CMPRS_RATIO = 6.81688
INST_CMPRS_QUALITY = 0
INST_CMPRS_QUANTZ_TBL_ID = 0
INSTRUMENT_TEMPERATURE = 11.234
LENS_TEMPERATURE = 8.7872
MACROPIXEL_SIZE = 2
MISSING_FRAMES = 0
PIXEL_SUBSAMPLING_FLAG = N
SIGNAL_CHAIN_ID = 3
/* RADIOMETRIC DATA ELEMENTS */
BANDWIDTH = 177.0
CENTER_FILTER_WAVELENGTH = 676.5
RADIANCE_OFFSET = 5.47198
RADIANCE_SCALING_FACTOR = 0.0138082
REFLECTANCE_SCALING_FACTOR = 0.000374907
MEX:REFLECTANCE_OFFSET = 0.14857
/* IMAGE OBJECT DEFINITIONS */
OBJECT = IMAGE
  INTERCHANGE_FORMAT = BINARY
  LINES = 37169
  LINE_SAMPLES = 3340
  SAMPLE_TYPE = UNSIGNED_INTEGER
  SAMPLE_BITS = 8
  BANDS = 1
  BAND_STORAGE_TYPE = BAND_SEQUENTIAL
  MAXIMUM = 255
  MEAN = 138.525
  MINIMUM = 1
  STANDARD_DEVIATION = 25.9855
END_OBJECT = IMAGE
/* MAP OBJECT DEFINITIONS */
OBJECT = IMAGE_MAP_PROJECTION
  ^DATA_SET_MAP_PROJECTION_CATALOG= "DSMAP.CAT"
  A_AXIS_RADIUS = 3396.0
  B_AXIS_RADIUS = 3396.0
  C_AXIS_RADIUS = 3396.0
  CENTER_LATITUDE = 0.0
  CENTER_LONGITUDE = 19.0
  COORDINATE_SYSTEM_NAME = PLANETOGRAPHIC
  COORDINATE_SYSTEM_TYPE = "BODY-FIXED ROTATING"
  EASTERNMOST_LONGITUDE = 19.6009
  FIRST_STANDARD_PARALLEL = "N/A"
  LINE_FIRST_PIXEL = 1
  LINE_LAST_PIXEL = 37169
  LINE_PROJECTION_OFFSET = 65536.25
  MAP_PROJECTION_ROTATION = 0.0
  MAP_PROJECTION_TYPE = SINUSOIDAL
  MAP_RESOLUTION = 2370.85521546667
  MAP_SCALE = 0.025
  MAXIMUM_LATITUDE = 27.628
  MINIMUM_LATITUDE = 11.9665
  POSITIVE_LONGITUDE_DIRECTION = EAST
  REFERENCE_LATITUDE = "N/A"
  REFERENCE_LONGITUDE = "N/A"
  SAMPLE_FIRST_PIXEL = 1
  SAMPLE_LAST_PIXEL = 3340
  SAMPLE_PROJECTION_OFFSET = 1998.75
  SECOND_STANDARD_PARALLEL = "N/A"
  WESTERNMOST_LONGITUDE = 18.1134
END_OBJECT = IMAGE_MAP_PROJECTION
END
