PDS_VERSION_ID = PDS3
/* FILE DATA ELEMENTS */
RECORD_TYPE = UNDEFINED
/* POINTERS TO DATA OBJECTS */
^IMAGE = ("H7336_0000_BL4.TIF")
/* IDENTIFICATION DATA ELEMENTS */
DATA_SET_ID = "MEX-M-HRSC-4-REFDR-MAPPROJECT-EXT3-V4.0"
DATA_SET_NAME = "MARS EXPRESS HRSC MAP PROJECTED REFDR EXTENSION3 V4.0"
DETECTOR_ID = MEX_HRSC_BLUE
EVENT_TYPE = "MARS-REGIONAL-MAPPING-Te-Im-La"
INSTRUMENT_HOST_ID = MEX
INSTRUMENT_HOST_NAME = "MARS EXPRESS"
INSTRUMENT_ID = HRSC
INSTRUMENT_NAME = "HIGH RESOLUTION STEREO CAMERA"
MISSION_NAME = "MARS EXPRESS"
MISSION_PHASE_NAME = ME_Phase_18
PROCESSING_LEVEL_ID = 4
PRODUCT_CREATION_TIME = 2023-02-01T22:33:16.000Z
PRODUCT_ID = "H7336_0000_BL4.TIF"
RELEASE_ID = 0002
REVISION_ID = 0000
/* QUALITY DATA ELEMENTS */
DATA_QUALITY_ID = 1
DATA_QUALITY_DESC = "Data calculated based on original SPICE kernels"
/* TIME DATA ELEMENTS */
SPACECRAFT_CLOCK_START_COUNT = "1/0201614990.09058"
SPACECRAFT_CLOCK_STOP_COUNT = "1/0201615306.42377"
START_TIME = 2009-09-21T12:10:29.235Z
STOP_TIME = 2009-09-21T12:14:34.308Z
/* ORBITAL DATA ELEMENTS */
ASCENDING_NODE_LONGITUDE = 77.48
MAXIMUM_RESOLUTION = 0.0558
FOOTPRINT_POINT_LATITUDE = (27.6363,27.634,27.6283,27.6282,27.6342 ,27.0402,26.7437,26.4472,26.1508, 25.7068,25.4106,25.1145,24.8185,24.5226 ,24.2269,23.9312,23.6357,23.1928, 22.7501,22.4553,22.1605,21.7187,21.4244 ,20.983,20.6891,20.395,20.1014,19.8083, 19.2226,18.6377,18.0538,17.5439,17.1963 ,16.8491,16.5023,16.1558,15.8099, 15.4642,15.1189,14.774,14.4299,14.0856, 13.7421,13.3991,13.0564,12.7143,12.2013 ,12.031,11.9739,11.9716,11.9671,11.9653 ,11.9651,11.9661,12.307,12.6486,12.9912 ,13.3341,13.6776,14.0214,14.3657, 14.7105,15.0556,15.4012,15.7472,16.0935 ,16.4403,16.7874,17.3091,17.6566, 18.0024,18.5873,19.3192,19.6121,19.9056 ,20.1994,20.4934,20.9345,21.3763, 21.6709,21.9656,22.2606,22.5559,22.8513 ,23.1467,23.4422,23.7379,24.1818,24.626 ,24.9223,25.2188,25.5152,25.8118, 26.2567,26.5533,26.8501,27.1471,27.4441 ,27.5927,27.6363)
FOOTPRINT_POINT_LONGITUDE = (19.5161,18.8901,18.1864,18.1738, 18.1555,18.1656,18.1696,18.1734,18.1769 ,18.1811,18.1841,18.1871,18.1899, 18.1924,18.1945,18.1968,18.1988,18.2012 ,18.2034,18.2045,18.2054,18.2067, 18.2072,18.2081,18.2085,18.2093,18.2094 ,18.2087,18.2069,18.2049,18.202,18.1993 ,18.1971,18.1949,18.1924,18.1896, 18.1865,18.1834,18.1802,18.1769,18.1725 ,18.1692,18.1652,18.1608,18.1564, 18.1518,18.1457,18.1428,18.1419,18.6114 ,19.2422,19.5649,19.5783,19.5828, 19.5806,19.5786,19.5776,19.5762,19.5751 ,19.5738,19.5726,19.5715,19.5702,19.569 ,19.5678,19.5666,19.5653,19.5641, 19.5628,19.5607,19.5598,19.5582,19.5554 ,19.5541,19.5532,19.5524,19.5517, 19.5501,19.5489,19.5478,19.5467,19.5458 ,19.5451,19.5441,19.543,19.5418,19.5408 ,19.5393,19.5378,19.5367,19.5359, 19.5346,19.5336,19.5316,19.5301,19.5288 ,19.5277,19.5264,19.5258,19.5161)
ORBIT_NUMBER = 7336
ORBITAL_ECCENTRICITY = 0.573
ORBITAL_INCLINATION = 86.8
ORBITAL_SEMIMAJOR_AXIS = 8754.22
PERIAPSIS_ALTITUDE = 347.19
PERIAPSIS_ARGUMENT_ANGLE = 151.39
PERIAPSIS_TIME = 2009-09-21T12:10:09.000Z
SPACECRAFT_ORIENTATION = (0.0,-1.0,0.0)
^MEX_ORIENTATION_DESC = "MEX_ORIENTATION_DESC.TXT"
SPACECRAFT_POINTING_MODE = ACROSSTRACK
^MEX_POINTING_DESC = "MEX_POINTING_DESC.TXT"
RIGHT_ASCENSION = -1e+32
DECLINATION = -1e+32
OFFSET_ANGLE = -0.1
SPACECRAFT_SOLAR_DISTANCE = 2.26289e+08
TARGET_NAME = MARS
/* CAMERA DATA ELEMENTS */
DETECTOR_TEMPERATURE = 18.1666
FOCAL_PLANE_TEMPERATURE = 8.3794
INST_CMPRS_NAME = "DISCRETE COSINE TRANSFORMATION (DCT)"
INST_CMPRS_RATIO = 11.0919
INST_CMPRS_QUALITY = 0
INST_CMPRS_QUANTZ_TBL_ID = 0
INSTRUMENT_TEMPERATURE = 11.234
LENS_TEMPERATURE = 8.7872
MACROPIXEL_SIZE = 4
MISSING_FRAMES = 0
PIXEL_SUBSAMPLING_FLAG = N
SIGNAL_CHAIN_ID = 2
/* RADIOMETRIC DATA ELEMENTS */
BANDWIDTH = 76.0
CENTER_FILTER_WAVELENGTH = 444.0
RADIANCE_OFFSET = 0.631133
RADIANCE_SCALING_FACTOR = 0.00120658
REFLECTANCE_SCALING_FACTOR = 6.34802e-05
MEX:REFLECTANCE_OFFSET = 0.033205
/* IMAGE OBJECT DEFINITIONS */
OBJECT = IMAGE
  INTERCHANGE_FORMAT = BINARY
  LINES = 18585
  LINE_SAMPLES = 1670
  SAMPLE_TYPE = UNSIGNED_INTEGER
  SAMPLE_BITS = 8
  BANDS = 1
  BAND_STORAGE_TYPE = BAND_SEQUENTIAL
  MAXIMUM = 255
  MEAN = 142.406
  MINIMUM = 1
  STANDARD_DEVIATION = 24.0381
END_OBJECT = IMAGE
/* MAP OBJECT DEFINITIONS */
OBJECT = IMAGE_MAP_PROJECTION
  ^DATA_SET_MAP_PROJECTION_CATALOG= "DSMAP.CAT"
  A_AXIS_RADIUS = 3396.0
  B_AXIS_RADIUS = 3396.0
  C_AXIS_RADIUS = 3396.0
  CENTER_LATITUDE = 0.0
  CENTER_LONGITUDE = 19.0
  COORDINATE_SYSTEM_NAME = PLANETOGRAPHIC
  COORDINATE_SYSTEM_TYPE = "BODY-FIXED ROTATING"
  EASTERNMOST_LONGITUDE = 19.5828
  FIRST_STANDARD_PARALLEL = "N/A"
  LINE_FIRST_PIXEL = 1
  LINE_LAST_PIXEL = 18585
  LINE_PROJECTION_OFFSET = 32767.875
  MAP_PROJECTION_ROTATION = 0.0
  MAP_PROJECTION_TYPE = SINUSOIDAL
  MAP_RESOLUTION = 1185.42760773333
  MAP_SCALE = 0.05
  MAXIMUM_LATITUDE = 27.6363
  MINIMUM_LATITUDE = 11.9651
  POSITIVE_LONGITUDE_DIRECTION = EAST
  REFERENCE_LATITUDE = "N/A"
  REFERENCE_LONGITUDE = "N/A"
  SAMPLE_FIRST_PIXEL = 1
  SAMPLE_LAST_PIXEL = 1670
  SAMPLE_PROJECTION_OFFSET = 999.125
  SECOND_STANDARD_PARALLEL = "N/A"
  WESTERNMOST_LONGITUDE = 18.1419
END_OBJECT = IMAGE_MAP_PROJECTION
END
