PDS_VERSION_ID = PDS3
/* FILE DATA ELEMENTS */
RECORD_TYPE = UNDEFINED
/* POINTERS TO DATA OBJECTS */
^IMAGE = ("H7333_0000_S14.TIF")
/* IDENTIFICATION DATA ELEMENTS */
DATA_SET_ID = "MEX-M-HRSC-4-REFDR-MAPPROJECT-EXT3-V4.0"
DATA_SET_NAME = "MARS EXPRESS HRSC MAP PROJECTED REFDR EXTENSION3 V4.0"
DETECTOR_ID = MEX_HRSC_S1
EVENT_TYPE = "MARS-REGIONAL-MAPPING-Im-Fl"
INSTRUMENT_HOST_ID = MEX
INSTRUMENT_HOST_NAME = "MARS EXPRESS"
INSTRUMENT_ID = HRSC
INSTRUMENT_NAME = "HIGH RESOLUTION STEREO CAMERA"
MISSION_NAME = "MARS EXPRESS"
MISSION_PHASE_NAME = ME_Phase_18
PROCESSING_LEVEL_ID = 4
PRODUCT_CREATION_TIME = 2023-02-01T22:33:16.000Z
PRODUCT_ID = "H7333_0000_S14.TIF"
RELEASE_ID = 0002
REVISION_ID = 0000
/* QUALITY DATA ELEMENTS */
DATA_QUALITY_ID = 1
DATA_QUALITY_DESC = "Data calculated based on original SPICE kernels"
/* TIME DATA ELEMENTS */
SPACECRAFT_CLOCK_START_COUNT = "1/0201540625.07284"
SPACECRAFT_CLOCK_STOP_COUNT = "1/0201540821.24411"
START_TIME = 2009-09-20T15:30:27.594Z
STOP_TIME = 2009-09-20T15:32:28.455Z
/* ORBITAL DATA ELEMENTS */
ASCENDING_NODE_LONGITUDE = 77.54
MAXIMUM_RESOLUTION = 0.0303
FOOTPRINT_POINT_LATITUDE = (20.3801,20.3812,20.3815,20.3813, 20.3807,20.3796,20.3784,20.3782,20.3361 ,20.0364,19.6612,19.3615,19.2114, 18.9862,18.6114,18.4613,18.1616,17.7874 ,17.4894,17.3391,17.0393,16.889,16.7388 ,16.5886,16.4383,16.2867,16.0582, 15.9079,15.7575,15.6072,15.4569,15.3065 ,15.1561,14.9306,14.684,14.504,14.3246, 14.1455,13.9659,13.6969,13.4276,13.2484 ,13.0696,12.8901,12.7112,12.5325, 12.4426,12.4042,12.4036,12.4016,12.4008 ,12.3986,12.396,12.3959,12.3964,12.6658 ,12.9354,13.1155,13.2952,13.4749,13.744 ,13.9234,14.103,14.2825,14.4616,14.6418 ,14.8182,14.9687,15.1198,15.3452, 15.4965,15.6472,15.7977,15.9483,16.099, 16.2496,16.4002,16.5503,16.7006,16.8509 ,17.0015,17.1519,17.3023,17.4526, 17.6031,17.7535,17.9038,18.1292,18.2796 ,18.5051,18.7304,18.8805,19.1059, 19.2565,19.5559,19.7061,20.0061,20.2311 ,20.306,20.3801)
FOOTPRINT_POINT_LONGITUDE = (322.175,321.897,321.707,321.454, 321.252,321.05,320.885,320.873,320.855, 320.855,320.855,320.855,320.854,320.854 ,320.853,320.853,320.852,320.851,320.85 ,320.85,320.848,320.847,320.846,320.846 ,320.845,320.843,320.841,320.84,320.838 ,320.837,320.836,320.835,320.833, 320.831,320.829,320.827,320.825,320.824 ,320.822,320.819,320.816,320.814, 320.812,320.81,320.807,320.805,320.804, 320.804,321.139,321.353,321.568,321.864 ,322.173,322.186,322.191,322.191,322.19 ,322.19,322.19,322.19,322.19,322.19, 322.189,322.189,322.189,322.189,322.189 ,322.189,322.189,322.189,322.189, 322.189,322.189,322.189,322.188,322.188 ,322.188,322.188,322.188,322.188, 322.188,322.188,322.188,322.188,322.188 ,322.188,322.188,322.188,322.188, 322.188,322.188,322.188,322.188,322.188 ,322.189,322.189,322.189,322.189, 322.189,322.175)
ORBIT_NUMBER = 7333
ORBITAL_ECCENTRICITY = 0.573
ORBITAL_INCLINATION = 86.82
ORBITAL_SEMIMAJOR_AXIS = 8749.13
PERIAPSIS_ALTITUDE = 346.82
PERIAPSIS_ARGUMENT_ANGLE = 151.92
PERIAPSIS_TIME = 2009-09-20T15:29:00.000Z
SPACECRAFT_ORIENTATION = (0.0,-1.0,0.0)
^MEX_ORIENTATION_DESC = "MEX_ORIENTATION_DESC.TXT"
SPACECRAFT_POINTING_MODE = NADIR
^MEX_POINTING_DESC = "MEX_POINTING_DESC.TXT"
RIGHT_ASCENSION = -1e+32
DECLINATION = -1e+32
OFFSET_ANGLE = -1e+32
SPACECRAFT_SOLAR_DISTANCE = 2.26121e+08
TARGET_NAME = MARS
/* CAMERA DATA ELEMENTS */
DETECTOR_TEMPERATURE = 17.5549
FOCAL_PLANE_TEMPERATURE = 8.5833
INST_CMPRS_NAME = "DISCRETE COSINE TRANSFORMATION (DCT)"
INST_CMPRS_RATIO = 13.1633
INST_CMPRS_QUALITY = 0
INST_CMPRS_QUANTZ_TBL_ID = 0
INSTRUMENT_TEMPERATURE = 11.234
LENS_TEMPERATURE = 9.195
MACROPIXEL_SIZE = 2
MISSING_FRAMES = 0
PIXEL_SUBSAMPLING_FLAG = N
SIGNAL_CHAIN_ID = 1
/* RADIOMETRIC DATA ELEMENTS */
BANDWIDTH = 180.0
CENTER_FILTER_WAVELENGTH = 677.0
RADIANCE_OFFSET = 5.36591
RADIANCE_SCALING_FACTOR = 0.0129325
REFLECTANCE_SCALING_FACTOR = 0.00034499
MEX:REFLECTANCE_OFFSET = 0.143142
/* IMAGE OBJECT DEFINITIONS */
OBJECT = IMAGE
  INTERCHANGE_FORMAT = BINARY
  LINES = 18801
  LINE_SAMPLES = 3311
  SAMPLE_TYPE = UNSIGNED_INTEGER
  SAMPLE_BITS = 8
  BANDS = 1
  BAND_STORAGE_TYPE = BAND_SEQUENTIAL
  MAXIMUM = 255
  MEAN = 139.174
  MINIMUM = 1
  STANDARD_DEVIATION = 37.7429
END_OBJECT = IMAGE
/* MAP OBJECT DEFINITIONS */
OBJECT = IMAGE_MAP_PROJECTION
  ^DATA_SET_MAP_PROJECTION_CATALOG= "DSMAP.CAT"
  A_AXIS_RADIUS = 3396.0
  B_AXIS_RADIUS = 3396.0
  C_AXIS_RADIUS = 3396.0
  CENTER_LATITUDE = 0.0
  CENTER_LONGITUDE = 322.0
  COORDINATE_SYSTEM_NAME = PLANETOGRAPHIC
  COORDINATE_SYSTEM_TYPE = "BODY-FIXED ROTATING"
  EASTERNMOST_LONGITUDE = 322.191
  FIRST_STANDARD_PARALLEL = "N/A"
  LINE_FIRST_PIXEL = 1
  LINE_LAST_PIXEL = 18801
  LINE_PROJECTION_OFFSET = 48259.25
  MAP_PROJECTION_ROTATION = 0.0
  MAP_PROJECTION_TYPE = SINUSOIDAL
  MAP_RESOLUTION = 2370.85521546667
  MAP_SCALE = 0.025
  MAXIMUM_LATITUDE = 20.3815
  MINIMUM_LATITUDE = 12.3959
  POSITIVE_LONGITUDE_DIRECTION = EAST
  REFERENCE_LATITUDE = "N/A"
  REFERENCE_LONGITUDE = "N/A"
  SAMPLE_FIRST_PIXEL = 1
  SAMPLE_LAST_PIXEL = 3311
  SAMPLE_PROJECTION_OFFSET = 2824.25
  SECOND_STANDARD_PARALLEL = "N/A"
  WESTERNMOST_LONGITUDE = 320.804
END_OBJECT = IMAGE_MAP_PROJECTION
END
