PDS_VERSION_ID = PDS3
/* FILE DATA ELEMENTS */
RECORD_TYPE = UNDEFINED
/* POINTERS TO DATA OBJECTS */
^IMAGE = ("H7333_0000_IR4.TIF")
/* IDENTIFICATION DATA ELEMENTS */
DATA_SET_ID = "MEX-M-HRSC-4-REFDR-MAPPROJECT-EXT3-V4.0"
DATA_SET_NAME = "MARS EXPRESS HRSC MAP PROJECTED REFDR EXTENSION3 V4.0"
DETECTOR_ID = MEX_HRSC_IR
EVENT_TYPE = "MARS-REGIONAL-MAPPING-Im-Fl"
INSTRUMENT_HOST_ID = MEX
INSTRUMENT_HOST_NAME = "MARS EXPRESS"
INSTRUMENT_ID = HRSC
INSTRUMENT_NAME = "HIGH RESOLUTION STEREO CAMERA"
MISSION_NAME = "MARS EXPRESS"
MISSION_PHASE_NAME = ME_Phase_18
PROCESSING_LEVEL_ID = 4
PRODUCT_CREATION_TIME = 2023-02-01T22:33:16.000Z
PRODUCT_ID = "H7333_0000_IR4.TIF"
RELEASE_ID = 0002
REVISION_ID = 0000
/* QUALITY DATA ELEMENTS */
DATA_QUALITY_ID = 1
DATA_QUALITY_DESC = "Data calculated based on original SPICE kernels"
/* TIME DATA ELEMENTS */
SPACECRAFT_CLOCK_START_COUNT = "1/0201540625.07284"
SPACECRAFT_CLOCK_STOP_COUNT = "1/0201540821.24411"
START_TIME = 2009-09-20T15:30:33.033Z
STOP_TIME = 2009-09-20T15:32:34.418Z
/* ORBITAL DATA ELEMENTS */
ASCENDING_NODE_LONGITUDE = 77.54
MAXIMUM_RESOLUTION = 0.1193
FOOTPRINT_POINT_LATITUDE = (20.3701,20.3712,20.3715,20.3714, 20.3702,20.3688,20.3687,20.3324,20.1094 ,19.8118,19.5885,19.2911,19.1423,18.919 ,18.6216,18.3985,18.1012,17.8046, 17.5829,17.2854,16.9883,16.8394,16.6906 ,16.4673,16.243,16.0916,15.9428,15.7939 ,15.5707,15.4218,15.2729,15.1125,14.935 ,14.7573,14.5792,14.4015,14.1354,13.958 ,13.6919,13.5145,13.248,12.9829,12.8058 ,12.5403,12.452,12.3976,12.3971,12.3959 ,12.395,12.394,12.3927,12.3913,12.3895, 12.3894,12.3914,12.5689,12.7466,12.9243 ,13.1023,13.2799,13.5462,13.7238, 13.9013,14.0789,14.2566,14.4338,14.6999 ,14.8778,15.056,15.2249,15.374,15.598, 15.747,15.8961,16.0453,16.1944,16.3435, 16.6411,16.7902,16.9392,17.0882,17.2372 ,17.3863,17.5353,17.6844,17.8334, 18.0569,18.2804,18.4294,18.6528,18.8018 ,18.9507,19.1,19.3228,19.4718,19.7694, 19.9927,20.2163,20.2904,20.3701)
FOOTPRINT_POINT_LONGITUDE = (322.175,321.871,321.639,321.445, 321.117,320.898,320.885,320.866,320.866 ,320.866,320.866,320.865,320.865, 320.865,320.864,320.863,320.862,320.861 ,320.861,320.86,320.858,320.857,320.856 ,320.855,320.853,320.851,320.85,320.849 ,320.847,320.846,320.844,320.843, 320.841,320.84,320.838,320.836,320.833, 320.831,320.828,320.827,320.823,320.82, 320.818,320.815,320.814,320.813,321.044 ,321.212,321.406,321.575,321.782, 321.964,322.171,322.184,322.192,322.192 ,322.192,322.192,322.191,322.191, 322.191,322.191,322.191,322.191,322.19, 322.19,322.19,322.19,322.19,322.19, 322.19,322.189,322.189,322.189,322.189, 322.189,322.189,322.189,322.189,322.189 ,322.189,322.189,322.189,322.188, 322.188,322.188,322.188,322.188,322.188 ,322.188,322.188,322.188,322.188, 322.188,322.188,322.188,322.188,322.188 ,322.188,322.175)
ORBIT_NUMBER = 7333
ORBITAL_ECCENTRICITY = 0.573
ORBITAL_INCLINATION = 86.82
ORBITAL_SEMIMAJOR_AXIS = 8749.13
PERIAPSIS_ALTITUDE = 346.82
PERIAPSIS_ARGUMENT_ANGLE = 151.92
PERIAPSIS_TIME = 2009-09-20T15:29:00.000Z
SPACECRAFT_ORIENTATION = (0.0,-1.0,0.0)
^MEX_ORIENTATION_DESC = "MEX_ORIENTATION_DESC.TXT"
SPACECRAFT_POINTING_MODE = NADIR
^MEX_POINTING_DESC = "MEX_POINTING_DESC.TXT"
RIGHT_ASCENSION = -1e+32
DECLINATION = -1e+32
OFFSET_ANGLE = -1e+32
SPACECRAFT_SOLAR_DISTANCE = 2.26121e+08
TARGET_NAME = MARS
/* CAMERA DATA ELEMENTS */
DETECTOR_TEMPERATURE = 17.5549
FOCAL_PLANE_TEMPERATURE = 8.5833
INST_CMPRS_NAME = "DISCRETE COSINE TRANSFORMATION (DCT)"
INST_CMPRS_RATIO = 28.052
INST_CMPRS_QUALITY = 0
INST_CMPRS_QUANTZ_TBL_ID = 0
INSTRUMENT_TEMPERATURE = 11.234
LENS_TEMPERATURE = 9.195
MACROPIXEL_SIZE = 8
MISSING_FRAMES = 0
PIXEL_SUBSAMPLING_FLAG = N
SIGNAL_CHAIN_ID = 2
/* RADIOMETRIC DATA ELEMENTS */
BANDWIDTH = 81.0
CENTER_FILTER_WAVELENGTH = 955.5
RADIANCE_OFFSET = 1.11481
RADIANCE_SCALING_FACTOR = 0.00389918
REFLECTANCE_SCALING_FACTOR = 0.00043011
MEX:REFLECTANCE_OFFSET = 0.122972
/* IMAGE OBJECT DEFINITIONS */
OBJECT = IMAGE
  INTERCHANGE_FORMAT = BINARY
  LINES = 4701
  LINE_SAMPLES = 828
  SAMPLE_TYPE = UNSIGNED_INTEGER
  SAMPLE_BITS = 8
  BANDS = 1
  BAND_STORAGE_TYPE = BAND_SEQUENTIAL
  MAXIMUM = 255
  MEAN = 140.741
  MINIMUM = 1
  STANDARD_DEVIATION = 39.2693
END_OBJECT = IMAGE
/* MAP OBJECT DEFINITIONS */
OBJECT = IMAGE_MAP_PROJECTION
  ^DATA_SET_MAP_PROJECTION_CATALOG= "DSMAP.CAT"
  A_AXIS_RADIUS = 3396.0
  B_AXIS_RADIUS = 3396.0
  C_AXIS_RADIUS = 3396.0
  CENTER_LATITUDE = 0.0
  CENTER_LONGITUDE = 322.0
  COORDINATE_SYSTEM_NAME = PLANETOGRAPHIC
  COORDINATE_SYSTEM_TYPE = "BODY-FIXED ROTATING"
  EASTERNMOST_LONGITUDE = 322.192
  FIRST_STANDARD_PARALLEL = "N/A"
  LINE_FIRST_PIXEL = 1
  LINE_LAST_PIXEL = 4701
  LINE_PROJECTION_OFFSET = 12064.4375
  MAP_PROJECTION_ROTATION = 0.0
  MAP_PROJECTION_TYPE = SINUSOIDAL
  MAP_RESOLUTION = 592.713803866667
  MAP_SCALE = 0.1
  MAXIMUM_LATITUDE = 20.3715
  MINIMUM_LATITUDE = 12.3894
  POSITIVE_LONGITUDE_DIRECTION = EAST
  REFERENCE_LATITUDE = "N/A"
  REFERENCE_LONGITUDE = "N/A"
  SAMPLE_FIRST_PIXEL = 1
  SAMPLE_LAST_PIXEL = 828
  SAMPLE_PROJECTION_OFFSET = 705.6875
  SECOND_STANDARD_PARALLEL = "N/A"
  WESTERNMOST_LONGITUDE = 320.813
END_OBJECT = IMAGE_MAP_PROJECTION
END
