PDS_VERSION_ID = PDS3
/* FILE DATA ELEMENTS */
RECORD_TYPE = UNDEFINED
/* POINTERS TO DATA OBJECTS */
^IMAGE = ("H7333_0000_BL4.TIF")
/* IDENTIFICATION DATA ELEMENTS */
DATA_SET_ID = "MEX-M-HRSC-4-REFDR-MAPPROJECT-EXT3-V4.0"
DATA_SET_NAME = "MARS EXPRESS HRSC MAP PROJECTED REFDR EXTENSION3 V4.0"
DETECTOR_ID = MEX_HRSC_BLUE
EVENT_TYPE = "MARS-REGIONAL-MAPPING-Im-Fl"
INSTRUMENT_HOST_ID = MEX
INSTRUMENT_HOST_NAME = "MARS EXPRESS"
INSTRUMENT_ID = HRSC
INSTRUMENT_NAME = "HIGH RESOLUTION STEREO CAMERA"
MISSION_NAME = "MARS EXPRESS"
MISSION_PHASE_NAME = ME_Phase_18
PROCESSING_LEVEL_ID = 4
PRODUCT_CREATION_TIME = 2023-02-01T22:33:16.000Z
PRODUCT_ID = "H7333_0000_BL4.TIF"
RELEASE_ID = 0002
REVISION_ID = 0000
/* QUALITY DATA ELEMENTS */
DATA_QUALITY_ID = 1
DATA_QUALITY_DESC = "Data calculated based on original SPICE kernels"
/* TIME DATA ELEMENTS */
SPACECRAFT_CLOCK_START_COUNT = "1/0201540625.07284"
SPACECRAFT_CLOCK_STOP_COUNT = "1/0201540821.24411"
START_TIME = 2009-09-20T15:31:04.991Z
STOP_TIME = 2009-09-20T15:33:09.782Z
/* ORBITAL DATA ELEMENTS */
ASCENDING_NODE_LONGITUDE = 77.54
MAXIMUM_RESOLUTION = 0.1162
FOOTPRINT_POINT_LATITUDE = (20.347,20.3477,20.3482,20.3483,20.3482 ,20.3475,20.3475,20.3534,20.1394, 19.9968,19.8542,19.7117,19.5693,19.2132 ,18.9287,18.6443,18.3601,18.0761, 17.7923,17.3669,17.1989,17.0297,16.8608 ,16.6921,16.5234,16.3549,16.187,16.0188 ,15.8505,15.6823,15.5142,15.3462, 15.1783,15.0105,14.8428,14.6752,14.4241 ,14.2566,14.0893,13.9222,13.7551, 13.5881,13.4213,13.2546,13.0877,12.9212 ,12.5882,12.5053,12.4302,12.4287, 12.4274,12.4262,12.4244,12.4217,12.4216 ,12.4235,12.5899,12.7564,12.9229, 13.0896,13.2564,13.4233,13.5903,13.7575 ,13.9248,14.0921,14.2596,14.4273, 14.5949,14.7628,14.9306,15.0985,15.2666 ,15.5187,15.687,15.8553,16.0238,16.1923 ,16.361,16.5298,16.6986,16.8676,17.0365 ,17.2056,17.3721,17.6557,17.9396, 18.2238,18.5081,18.7927,19.0063,19.1486 ,19.3625,19.5051,19.6476,19.8617, 20.0045,20.2186,20.29,20.347)
FOOTPRINT_POINT_LONGITUDE = (322.182,321.973,321.74,321.408,321.236 ,320.891,320.879,320.859,320.859, 320.859,320.859,320.858,320.858,320.857 ,320.856,320.854,320.853,320.852,320.85 ,320.848,320.847,320.846,320.845, 320.844,320.842,320.841,320.839,320.837 ,320.835,320.834,320.832,320.83,320.828 ,320.827,320.825,320.823,320.82,320.818 ,320.816,320.814,320.812,320.809, 320.807,320.805,320.803,320.801,320.796 ,320.795,320.793,321.165,321.405, 321.591,321.858,322.192,322.205,322.214 ,322.214,322.213,322.213,322.212, 322.211,322.211,322.211,322.21,322.21, 322.209,322.209,322.209,322.208,322.208 ,322.207,322.207,322.207,322.206, 322.205,322.205,322.204,322.204,322.204 ,322.203,322.203,322.203,322.202, 322.202,322.201,322.201,322.2,322.2, 322.199,322.199,322.198,322.198,322.198 ,322.198,322.197,322.197,322.197, 322.196,322.196,322.182)
ORBIT_NUMBER = 7333
ORBITAL_ECCENTRICITY = 0.573
ORBITAL_INCLINATION = 86.82
ORBITAL_SEMIMAJOR_AXIS = 8749.13
PERIAPSIS_ALTITUDE = 346.82
PERIAPSIS_ARGUMENT_ANGLE = 151.92
PERIAPSIS_TIME = 2009-09-20T15:29:00.000Z
SPACECRAFT_ORIENTATION = (0.0,-1.0,0.0)
^MEX_ORIENTATION_DESC = "MEX_ORIENTATION_DESC.TXT"
SPACECRAFT_POINTING_MODE = NADIR
^MEX_POINTING_DESC = "MEX_POINTING_DESC.TXT"
RIGHT_ASCENSION = -1e+32
DECLINATION = -1e+32
OFFSET_ANGLE = -1e+32
SPACECRAFT_SOLAR_DISTANCE = 2.26121e+08
TARGET_NAME = MARS
/* CAMERA DATA ELEMENTS */
DETECTOR_TEMPERATURE = 18.3705
FOCAL_PLANE_TEMPERATURE = 8.5833
INST_CMPRS_NAME = "DISCRETE COSINE TRANSFORMATION (DCT)"
INST_CMPRS_RATIO = 30.2078
INST_CMPRS_QUALITY = 0
INST_CMPRS_QUANTZ_TBL_ID = 0
INSTRUMENT_TEMPERATURE = 11.234
LENS_TEMPERATURE = 9.195
MACROPIXEL_SIZE = 8
MISSING_FRAMES = 0
PIXEL_SUBSAMPLING_FLAG = N
SIGNAL_CHAIN_ID = 2
/* RADIOMETRIC DATA ELEMENTS */
BANDWIDTH = 76.0
CENTER_FILTER_WAVELENGTH = 444.0
RADIANCE_OFFSET = 0.750771
RADIANCE_SCALING_FACTOR = 0.00100228
REFLECTANCE_SCALING_FACTOR = 5.26534e-05
MEX:REFLECTANCE_OFFSET = 0.0394407
/* IMAGE OBJECT DEFINITIONS */
OBJECT = IMAGE
  INTERCHANGE_FORMAT = BINARY
  LINES = 4701
  LINE_SAMPLES = 828
  SAMPLE_TYPE = UNSIGNED_INTEGER
  SAMPLE_BITS = 8
  BANDS = 1
  BAND_STORAGE_TYPE = BAND_SEQUENTIAL
  MAXIMUM = 255
  MEAN = 131.9
  MINIMUM = 1
  STANDARD_DEVIATION = 24.2952
END_OBJECT = IMAGE
/* MAP OBJECT DEFINITIONS */
OBJECT = IMAGE_MAP_PROJECTION
  ^DATA_SET_MAP_PROJECTION_CATALOG= "DSMAP.CAT"
  A_AXIS_RADIUS = 3396.0
  B_AXIS_RADIUS = 3396.0
  C_AXIS_RADIUS = 3396.0
  CENTER_LATITUDE = 0.0
  CENTER_LONGITUDE = 322.0
  COORDINATE_SYSTEM_NAME = PLANETOGRAPHIC
  COORDINATE_SYSTEM_TYPE = "BODY-FIXED ROTATING"
  EASTERNMOST_LONGITUDE = 322.214
  FIRST_STANDARD_PARALLEL = "N/A"
  LINE_FIRST_PIXEL = 1
  LINE_LAST_PIXEL = 4701
  LINE_PROJECTION_OFFSET = 12064.4375
  MAP_PROJECTION_ROTATION = 0.0
  MAP_PROJECTION_TYPE = SINUSOIDAL
  MAP_RESOLUTION = 592.713803866667
  MAP_SCALE = 0.1
  MAXIMUM_LATITUDE = 20.3534
  MINIMUM_LATITUDE = 12.4216
  POSITIVE_LONGITUDE_DIRECTION = EAST
  REFERENCE_LATITUDE = "N/A"
  REFERENCE_LONGITUDE = "N/A"
  SAMPLE_FIRST_PIXEL = 1
  SAMPLE_LAST_PIXEL = 828
  SAMPLE_PROJECTION_OFFSET = 705.6875
  SECOND_STANDARD_PARALLEL = "N/A"
  WESTERNMOST_LONGITUDE = 320.793
END_OBJECT = IMAGE_MAP_PROJECTION
END
