PDS_VERSION_ID = PDS3
/* FILE DATA ELEMENTS */
RECORD_TYPE = UNDEFINED
/* POINTERS TO DATA OBJECTS */
^IMAGE = ("H7330_0000_ND4.TIF")
/* IDENTIFICATION DATA ELEMENTS */
DATA_SET_ID = "MEX-M-HRSC-4-REFDR-MAPPROJECT-EXT3-V4.0"
DATA_SET_NAME = "MARS EXPRESS HRSC MAP PROJECTED REFDR EXTENSION3 V4.0"
DETECTOR_ID = MEX_HRSC_NADIR
EVENT_TYPE = "MARS-REGIONAL-MAPPING-Vo"
INSTRUMENT_HOST_ID = MEX
INSTRUMENT_HOST_NAME = "MARS EXPRESS"
INSTRUMENT_ID = HRSC
INSTRUMENT_NAME = "HIGH RESOLUTION STEREO CAMERA"
MISSION_NAME = "MARS EXPRESS"
MISSION_PHASE_NAME = ME_Phase_18
PROCESSING_LEVEL_ID = 4
PRODUCT_CREATION_TIME = 2023-02-01T22:33:16.000Z
PRODUCT_ID = "H7330_0000_ND4.TIF"
RELEASE_ID = 0002
REVISION_ID = 0000
/* QUALITY DATA ELEMENTS */
DATA_QUALITY_ID = 1
DATA_QUALITY_DESC = "Data calculated based on original SPICE kernels"
/* TIME DATA ELEMENTS */
SPACECRAFT_CLOCK_START_COUNT = "1/0201466086.09117"
SPACECRAFT_CLOCK_STOP_COUNT = "1/0201466373.25256"
START_TIME = 2009-09-19T18:48:39.865Z
STOP_TIME = 2009-09-19T18:52:14.851Z
/* ORBITAL DATA ELEMENTS */
ASCENDING_NODE_LONGITUDE = 77.6
MAXIMUM_RESOLUTION = 0.0137
FOOTPRINT_POINT_LATITUDE = (24.8345,24.8339,24.8301,24.83,24.8298, 24.5689,24.308,24.0471,23.7863,23.5258, 23.2653,23.0048,22.7443,22.4839,22.2236 ,21.9633,21.7031,21.443,21.1831,20.9232 ,20.6634,20.4036,20.1441,19.6252, 19.1068,18.5889,18.0716,17.5548,17.0386 ,16.523,16.0809,15.7739,15.4671,15.1606 ,14.8544,14.5484,14.2426,13.9372, 13.6321,13.3272,13.0226,12.7183,12.4144 ,12.1107,11.8074,11.5044,11.2017, 11.0505,11.0371,11.033,11.031,11.028, 11.0278,11.028,11.3308,11.634,11.9374, 12.2412,12.5453,12.8497,13.1544,13.4594 ,13.7647,14.0703,14.3761,14.6823, 14.9887,15.2954,15.6023,15.9095,16.2209 ,16.5079,17.0239,17.5406,18.0579, 18.5757,19.0941,19.3534,19.613,19.8726, 20.1323,20.3922,20.7822,21.0422,21.3025 ,21.5628,21.8231,22.0836,22.3442, 22.6048,22.8655,23.1263,23.3872,23.6481 ,23.9091,24.1701,24.4312,24.6923, 24.8229,24.8345)
FOOTPRINT_POINT_LONGITUDE = (264.831,264.23,263.527,263.514,263.508 ,263.51,263.514,263.518,263.52,263.519, 263.517,263.518,263.519,263.52,263.521, 263.521,263.521,263.522,263.522,263.522 ,263.521,263.521,263.521,263.52,263.518 ,263.516,263.514,263.51,263.507,263.503 ,263.5,263.497,263.494,263.491,263.488, 263.484,263.481,263.477,263.473,263.469 ,263.465,263.461,263.457,263.452, 263.448,263.443,263.438,263.435,263.435 ,264.168,264.446,264.823,264.837, 264.844,264.843,264.842,264.842,264.841 ,264.841,264.84,264.84,264.839,264.839, 264.838,264.838,264.837,264.837,264.837 ,264.836,264.836,264.835,264.835, 264.835,264.834,264.834,264.834,264.833 ,264.833,264.833,264.833,264.833, 264.833,264.834,264.833,264.833,264.833 ,264.832,264.832,264.832,264.832, 264.832,264.832,264.832,264.832,264.832 ,264.832,264.832,264.832,264.832, 264.831)
ORBIT_NUMBER = 7330
ORBITAL_ECCENTRICITY = 0.573
ORBITAL_INCLINATION = 86.8
ORBITAL_SEMIMAJOR_AXIS = 8763.91
PERIAPSIS_ALTITUDE = 345.98
PERIAPSIS_ARGUMENT_ANGLE = 152.44
PERIAPSIS_TIME = 2009-09-19T18:47:58.000Z
SPACECRAFT_ORIENTATION = (0.0,-1.0,0.0)
^MEX_ORIENTATION_DESC = "MEX_ORIENTATION_DESC.TXT"
SPACECRAFT_POINTING_MODE = ACROSSTRACK
^MEX_POINTING_DESC = "MEX_POINTING_DESC.TXT"
RIGHT_ASCENSION = -1e+32
DECLINATION = -1e+32
OFFSET_ANGLE = 0.15
SPACECRAFT_SOLAR_DISTANCE = 2.25952e+08
TARGET_NAME = MARS
/* CAMERA DATA ELEMENTS */
DETECTOR_TEMPERATURE = 18.1666
FOCAL_PLANE_TEMPERATURE = 8.5833
INST_CMPRS_NAME = "DISCRETE COSINE TRANSFORMATION (DCT)"
INST_CMPRS_RATIO = 7.01093
INST_CMPRS_QUALITY = 0
INST_CMPRS_QUANTZ_TBL_ID = 0
INSTRUMENT_TEMPERATURE = 11.234
LENS_TEMPERATURE = 8.9911
MACROPIXEL_SIZE = 1
MISSING_FRAMES = 2
PIXEL_SUBSAMPLING_FLAG = N
SIGNAL_CHAIN_ID = 0
/* RADIOMETRIC DATA ELEMENTS */
BANDWIDTH = 177.0
CENTER_FILTER_WAVELENGTH = 677.5
RADIANCE_OFFSET = 4.28272
RADIANCE_SCALING_FACTOR = 0.0220865
REFLECTANCE_SCALING_FACTOR = 0.000599025
MEX:REFLECTANCE_OFFSET = 0.116155
/* IMAGE OBJECT DEFINITIONS */
OBJECT = IMAGE
  INTERCHANGE_FORMAT = BINARY
  LINES = 65468
  LINE_SAMPLES = 6555
  SAMPLE_TYPE = UNSIGNED_INTEGER
  SAMPLE_BITS = 8
  BANDS = 1
  BAND_STORAGE_TYPE = BAND_SEQUENTIAL
  MAXIMUM = 255
  MEAN = 134.131
  MINIMUM = 1
  STANDARD_DEVIATION = 25.0404
END_OBJECT = IMAGE
/* MAP OBJECT DEFINITIONS */
OBJECT = IMAGE_MAP_PROJECTION
  ^DATA_SET_MAP_PROJECTION_CATALOG= "DSMAP.CAT"
  A_AXIS_RADIUS = 3396.0
  B_AXIS_RADIUS = 3396.0
  C_AXIS_RADIUS = 3396.0
  CENTER_LATITUDE = 0.0
  CENTER_LONGITUDE = 264.0
  COORDINATE_SYSTEM_NAME = PLANETOGRAPHIC
  COORDINATE_SYSTEM_TYPE = "BODY-FIXED ROTATING"
  EASTERNMOST_LONGITUDE = 264.844
  FIRST_STANDARD_PARALLEL = "N/A"
  LINE_FIRST_PIXEL = 1
  LINE_LAST_PIXEL = 65468
  LINE_PROJECTION_OFFSET = 117758.0
  MAP_PROJECTION_ROTATION = 0.0
  MAP_PROJECTION_TYPE = SINUSOIDAL
  MAP_RESOLUTION = 4741.71043093333
  MAP_SCALE = 0.0125
  MAXIMUM_LATITUDE = 24.8345
  MINIMUM_LATITUDE = 11.0278
  POSITIVE_LONGITUDE_DIRECTION = EAST
  REFERENCE_LATITUDE = "N/A"
  REFERENCE_LONGITUDE = "N/A"
  SAMPLE_FIRST_PIXEL = 1
  SAMPLE_LAST_PIXEL = 6555
  SAMPLE_PROJECTION_OFFSET = 2628.0
  SECOND_STANDARD_PARALLEL = "N/A"
  WESTERNMOST_LONGITUDE = 263.435
END_OBJECT = IMAGE_MAP_PROJECTION
END
