PDS_VERSION_ID = PDS3
/* FILE DATA ELEMENTS */
RECORD_TYPE = UNDEFINED
/* POINTERS TO DATA OBJECTS */
^IMAGE = ("H7325_0000_S24.TIF")
/* IDENTIFICATION DATA ELEMENTS */
DATA_SET_ID = "MEX-M-HRSC-4-REFDR-MAPPROJECT-EXT3-V4.0"
DATA_SET_NAME = "MARS EXPRESS HRSC MAP PROJECTED REFDR EXTENSION3 V4.0"
DETECTOR_ID = MEX_HRSC_S2
EVENT_TYPE = "MARS-REGIONAL-MAPPING-Im-Fl"
INSTRUMENT_HOST_ID = MEX
INSTRUMENT_HOST_NAME = "MARS EXPRESS"
INSTRUMENT_ID = HRSC
INSTRUMENT_NAME = "HIGH RESOLUTION STEREO CAMERA"
MISSION_NAME = "MARS EXPRESS"
MISSION_PHASE_NAME = ME_Phase_18
PROCESSING_LEVEL_ID = 4
PRODUCT_CREATION_TIME = 2023-02-01T22:33:16.000Z
PRODUCT_ID = "H7325_0000_S24.TIF"
RELEASE_ID = 0002
REVISION_ID = 0000
/* QUALITY DATA ELEMENTS */
DATA_QUALITY_ID = 1
DATA_QUALITY_DESC = "Data calculated based on original SPICE kernels"
/* TIME DATA ELEMENTS */
SPACECRAFT_CLOCK_START_COUNT = "1/0201342258.09064"
SPACECRAFT_CLOCK_STOP_COUNT = "1/0201342540.24797"
START_TIME = 2009-09-18T08:25:44.981Z
STOP_TIME = 2009-09-18T08:29:00.866Z
/* ORBITAL DATA ELEMENTS */
ASCENDING_NODE_LONGITUDE = 77.69
MAXIMUM_RESOLUTION = 0.0398
FOOTPRINT_POINT_LATITUDE = (4.96783,4.96401,4.961,4.95839,4.95623, 4.95444,4.95268,4.9526,4.93896,4.60766, 4.38319,4.16226,3.94164,3.72211,3.50231 ,3.28374,3.06458,2.73672,2.51858, 2.30136,2.08419,1.75824,1.54211,1.32708 ,1.11221,0.898141,0.683302,0.470069, 0.15049,-0.0582146,-0.269617,-0.586364, -0.90535,-1.11462,-1.32333,-1.53162, -1.73969,-2.05176,-2.25832,-2.56804, -2.77462,-3.18492,-3.59441,-4.00023, -4.40402,-4.80494,-5.10772,-5.50529, -5.60184,-5.62528,-5.62642,-5.62923, -5.6362,-5.63524,-5.63234,-5.62583, -5.62556,-5.62418,-5.2257,-4.72791, -4.42317,-4.21779,-3.61685,-3.20993, -2.90131,-2.69382,-2.48687,-2.17697, -1.96999,-1.76144,-1.55377,-1.34492, -1.13438,-0.92403,-0.713262,-0.502186, -0.29027,-0.0792803,0.132837,0.345446, 0.558699,0.772348,1.0948,1.41739, 1.63306,1.95718,2.17343,2.39321,2.60905 ,2.82773,3.04718,3.2661,3.48554,3.81532 ,4.03587,4.25677,4.47841,4.81114, 4.92388,4.96783)
FOOTPRINT_POINT_LONGITUDE = (49.408,49.1152,48.8561,48.5981,48.3414 ,48.0856,47.7667,47.7508,47.7475, 47.7375,47.7313,47.7246,47.7179,47.711, 47.7042,47.6971,47.6902,47.6797,47.6726 ,47.6654,47.6582,47.6475,47.6402, 47.6327,47.6252,47.6176,47.6102,47.6025 ,47.5909,47.5826,47.5746,47.5627, 47.5512,47.543,47.5348,47.5265,47.5182, 47.5057,47.4972,47.4845,47.4761,47.4589 ,47.4416,47.4238,47.4058,47.3875, 47.3742,47.3555,47.3504,47.3484,47.7075 ,47.962,48.2585,48.5985,49.0042,49.5197 ,49.5412,49.5494,49.5413,49.5302, 49.5256,49.5233,49.5089,49.5011,49.4963 ,49.4937,49.4906,49.4855,49.4821, 49.4791,49.4757,49.4725,49.4699,49.4671 ,49.4643,49.4615,49.4588,49.4556, 49.4527,49.4499,49.4472,49.4444,49.4409 ,49.4371,49.4346,49.4308,49.4282, 49.4269,49.4238,49.4217,49.4198,49.4175 ,49.4153,49.4119,49.4098,49.4076, 49.4056,49.4025,49.4022,49.408)
ORBIT_NUMBER = 7325
ORBITAL_ECCENTRICITY = 0.573
ORBITAL_INCLINATION = 86.81
ORBITAL_SEMIMAJOR_AXIS = 8759.68
PERIAPSIS_ALTITUDE = 345.55
PERIAPSIS_ARGUMENT_ANGLE = 153.34
PERIAPSIS_TIME = 2009-09-18T08:19:20.000Z
SPACECRAFT_ORIENTATION = (0.0,-1.0,0.0)
^MEX_ORIENTATION_DESC = "MEX_ORIENTATION_DESC.TXT"
SPACECRAFT_POINTING_MODE = ACROSSTRACK
^MEX_POINTING_DESC = "MEX_POINTING_DESC.TXT"
RIGHT_ASCENSION = -1e+32
DECLINATION = -1e+32
OFFSET_ANGLE = 0.4
SPACECRAFT_SOLAR_DISTANCE = 2.25671e+08
TARGET_NAME = MARS
/* CAMERA DATA ELEMENTS */
DETECTOR_TEMPERATURE = 18.7783
FOCAL_PLANE_TEMPERATURE = 9.195
INST_CMPRS_NAME = "DISCRETE COSINE TRANSFORMATION (DCT)"
INST_CMPRS_RATIO = 11.5126
INST_CMPRS_QUALITY = 0
INST_CMPRS_QUANTZ_TBL_ID = 0
INSTRUMENT_TEMPERATURE = 11.6418
LENS_TEMPERATURE = 9.6028
MACROPIXEL_SIZE = 2
MISSING_FRAMES = 0
PIXEL_SUBSAMPLING_FLAG = N
SIGNAL_CHAIN_ID = 1
/* RADIOMETRIC DATA ELEMENTS */
BANDWIDTH = 178.0
CENTER_FILTER_WAVELENGTH = 679.0
RADIANCE_OFFSET = 5.02265
RADIANCE_SCALING_FACTOR = 0.0179061
REFLECTANCE_SCALING_FACTOR = 0.000482932
MEX:REFLECTANCE_OFFSET = 0.135462
/* IMAGE OBJECT DEFINITIONS */
OBJECT = IMAGE
  INTERCHANGE_FORMAT = BINARY
  LINES = 25148
  LINE_SAMPLES = 4672
  SAMPLE_TYPE = UNSIGNED_INTEGER
  SAMPLE_BITS = 8
  BANDS = 1
  BAND_STORAGE_TYPE = BAND_SEQUENTIAL
  MAXIMUM = 255
  MEAN = 140.935
  MINIMUM = 1
  STANDARD_DEVIATION = 22.1094
END_OBJECT = IMAGE
/* MAP OBJECT DEFINITIONS */
OBJECT = IMAGE_MAP_PROJECTION
  ^DATA_SET_MAP_PROJECTION_CATALOG= "DSMAP.CAT"
  A_AXIS_RADIUS = 3396.0
  B_AXIS_RADIUS = 3396.0
  C_AXIS_RADIUS = 3396.0
  CENTER_LATITUDE = 0.0
  CENTER_LONGITUDE = 49.0
  COORDINATE_SYSTEM_NAME = PLANETOGRAPHIC
  COORDINATE_SYSTEM_TYPE = "BODY-FIXED ROTATING"
  EASTERNMOST_LONGITUDE = 49.5494
  FIRST_STANDARD_PARALLEL = "N/A"
  LINE_FIRST_PIXEL = 1
  LINE_LAST_PIXEL = 25148
  LINE_PROJECTION_OFFSET = 11792.25
  MAP_PROJECTION_ROTATION = 0.0
  MAP_PROJECTION_TYPE = SINUSOIDAL
  MAP_RESOLUTION = 2370.85521546667
  MAP_SCALE = 0.025
  MAXIMUM_LATITUDE = 4.96783
  MINIMUM_LATITUDE = -5.6362
  POSITIVE_LONGITUDE_DIRECTION = EAST
  REFERENCE_LATITUDE = "N/A"
  REFERENCE_LONGITUDE = "N/A"
  SAMPLE_FIRST_PIXEL = 1
  SAMPLE_LAST_PIXEL = 4672
  SAMPLE_PROJECTION_OFFSET = 3645.75
  SECOND_STANDARD_PARALLEL = "N/A"
  WESTERNMOST_LONGITUDE = 47.3484
END_OBJECT = IMAGE_MAP_PROJECTION
END
