PDS_VERSION_ID = PDS3
/* FILE DATA ELEMENTS */
RECORD_TYPE = UNDEFINED
/* POINTERS TO DATA OBJECTS */
^IMAGE = ("H7324_0000_S24.TIF")
/* IDENTIFICATION DATA ELEMENTS */
DATA_SET_ID = "MEX-M-HRSC-4-REFDR-MAPPROJECT-EXT3-V4.0"
DATA_SET_NAME = "MARS EXPRESS HRSC MAP PROJECTED REFDR EXTENSION3 V4.0"
DETECTOR_ID = MEX_HRSC_S2
EVENT_TYPE = "MARS-REGIONAL-MAPPING-Vo-Pf"
INSTRUMENT_HOST_ID = MEX
INSTRUMENT_HOST_NAME = "MARS EXPRESS"
INSTRUMENT_ID = HRSC
INSTRUMENT_NAME = "HIGH RESOLUTION STEREO CAMERA"
MISSION_NAME = "MARS EXPRESS"
MISSION_PHASE_NAME = ME_Phase_18
PROCESSING_LEVEL_ID = 4
PRODUCT_CREATION_TIME = 2023-02-01T22:33:16.000Z
PRODUCT_ID = "H7324_0000_S24.TIF"
RELEASE_ID = 0002
REVISION_ID = 0000
/* QUALITY DATA ELEMENTS */
DATA_QUALITY_ID = 1
DATA_QUALITY_DESC = "Data calculated based on original SPICE kernels"
/* TIME DATA ELEMENTS */
SPACECRAFT_CLOCK_START_COUNT = "1/0201316876.08226"
SPACECRAFT_CLOCK_STOP_COUNT = "1/0201317100.65014"
START_TIME = 2009-09-18T01:22:32.013Z
STOP_TIME = 2009-09-18T01:25:01.484Z
/* ORBITAL DATA ELEMENTS */
ASCENDING_NODE_LONGITUDE = 77.71
MAXIMUM_RESOLUTION = 0.0296
FOOTPRINT_POINT_LATITUDE = (40.7944,40.7824,40.7733,40.7639, 40.7542,40.7443,40.7341,40.7335,40.8085 ,40.5848,40.2497,39.9145,39.5792, 39.2437,39.0199,38.7964,38.5728,38.3494 ,38.0143,37.8154,37.6287,37.4411, 37.2539,36.9733,36.7856,36.5987,36.3182 ,36.1303,35.9435,35.663,35.4759,35.2891 ,35.0085,34.8214,34.4478,34.0738, 33.7937,33.5139,33.2326,33.0445,32.8564 ,32.6662,32.4761,32.2891,32.0999, 31.9028,31.7152,31.3491,31.075,30.9827, 30.968,30.9646,30.9684,30.9778,30.9912, 30.9916,30.9922,31.3537,31.8168,32.101, 32.291,32.4822,32.6769,32.9693,33.1621, 33.4505,33.7362,34.0168,34.2038,34.3911 ,34.5782,34.765,34.9528,35.2336,35.421, 35.6083,35.7957,35.9831,36.1705,36.3579 ,36.6393,36.8268,37.1078,37.2958, 37.4832,37.671,37.9524,38.1663,38.3903, 38.6145,38.8388,39.0629,39.2868,39.511, 39.8471,40.1835,40.5195,40.7435,40.8556 ,40.7944)
FOOTPRINT_POINT_LONGITUDE = (150.334,149.957,149.684,149.413, 149.145,148.877,148.611,148.594,148.58, 148.591,148.606,148.621,148.636,148.651 ,148.66,148.669,148.678,148.687,148.699 ,148.707,148.714,148.72,148.727,148.737 ,148.743,148.749,148.758,148.764,148.77 ,148.778,148.784,148.789,148.797, 148.802,148.812,148.822,148.829,148.835 ,148.842,148.846,148.85,148.855,148.859 ,148.863,148.867,148.871,148.875, 148.881,148.885,148.887,148.887,149.176 ,149.493,149.854,150.305,150.319, 150.324,150.319,150.319,150.323,150.326 ,150.329,150.335,150.344,150.349, 150.355,150.36,150.361,150.362,150.363, 150.363,150.364,150.365,150.366,150.367 ,150.368,150.368,150.369,150.37,150.371 ,150.372,150.373,150.374,150.374, 150.375,150.376,150.377,150.378,150.379 ,150.38,150.381,150.382,150.382,150.383 ,150.385,150.386,150.387,150.388, 150.388,150.334)
ORBIT_NUMBER = 7324
ORBITAL_ECCENTRICITY = 0.573
ORBITAL_INCLINATION = 86.8
ORBITAL_SEMIMAJOR_AXIS = 8755.22
PERIAPSIS_ALTITUDE = 346.08
PERIAPSIS_ARGUMENT_ANGLE = 153.51
PERIAPSIS_TIME = 2009-09-18T01:25:39.000Z
SPACECRAFT_ORIENTATION = (0.0,-1.0,0.0)
^MEX_ORIENTATION_DESC = "MEX_ORIENTATION_DESC.TXT"
SPACECRAFT_POINTING_MODE = ACROSSTRACK
^MEX_POINTING_DESC = "MEX_POINTING_DESC.TXT"
RIGHT_ASCENSION = -1e+32
DECLINATION = -1e+32
OFFSET_ANGLE = 0.5
SPACECRAFT_SOLAR_DISTANCE = 2.25615e+08
TARGET_NAME = MARS
/* CAMERA DATA ELEMENTS */
DETECTOR_TEMPERATURE = 18.7783
FOCAL_PLANE_TEMPERATURE = 8.9911
INST_CMPRS_NAME = "DISCRETE COSINE TRANSFORMATION (DCT)"
INST_CMPRS_RATIO = 7.50354
INST_CMPRS_QUALITY = 0
INST_CMPRS_QUANTZ_TBL_ID = 0
INSTRUMENT_TEMPERATURE = 11.4379
LENS_TEMPERATURE = 8.9911
MACROPIXEL_SIZE = 2
MISSING_FRAMES = 0
PIXEL_SUBSAMPLING_FLAG = N
SIGNAL_CHAIN_ID = 1
/* RADIOMETRIC DATA ELEMENTS */
BANDWIDTH = 178.0
CENTER_FILTER_WAVELENGTH = 679.0
RADIANCE_OFFSET = 3.82406
RADIANCE_SCALING_FACTOR = 0.0215373
REFLECTANCE_SCALING_FACTOR = 0.000580569
MEX:REFLECTANCE_OFFSET = 0.103083
/* IMAGE OBJECT DEFINITIONS */
OBJECT = IMAGE
  INTERCHANGE_FORMAT = BINARY
  LINES = 23349
  LINE_SAMPLES = 3324
  SAMPLE_TYPE = UNSIGNED_INTEGER
  SAMPLE_BITS = 8
  BANDS = 1
  BAND_STORAGE_TYPE = BAND_SEQUENTIAL
  MAXIMUM = 255
  MEAN = 97.8087
  MINIMUM = 1
  STANDARD_DEVIATION = 26.7466
END_OBJECT = IMAGE
/* MAP OBJECT DEFINITIONS */
OBJECT = IMAGE_MAP_PROJECTION
  ^DATA_SET_MAP_PROJECTION_CATALOG= "DSMAP.CAT"
  A_AXIS_RADIUS = 3396.0
  B_AXIS_RADIUS = 3396.0
  C_AXIS_RADIUS = 3396.0
  CENTER_LATITUDE = 0.0
  CENTER_LONGITUDE = 150.0
  COORDINATE_SYSTEM_NAME = PLANETOGRAPHIC
  COORDINATE_SYSTEM_TYPE = "BODY-FIXED ROTATING"
  EASTERNMOST_LONGITUDE = 150.388
  FIRST_STANDARD_PARALLEL = "N/A"
  LINE_FIRST_PIXEL = 1
  LINE_LAST_PIXEL = 23349
  LINE_PROJECTION_OFFSET = 96825.25
  MAP_PROJECTION_ROTATION = 0.0
  MAP_PROJECTION_TYPE = SINUSOIDAL
  MAP_RESOLUTION = 2370.85521546667
  MAP_SCALE = 0.025
  MAXIMUM_LATITUDE = 40.8556
  MINIMUM_LATITUDE = 30.9646
  POSITIVE_LONGITUDE_DIRECTION = EAST
  REFERENCE_LATITUDE = "N/A"
  REFERENCE_LONGITUDE = "N/A"
  SAMPLE_FIRST_PIXEL = 1
  SAMPLE_LAST_PIXEL = 3324
  SAMPLE_PROJECTION_OFFSET = 2602.25
  SECOND_STANDARD_PARALLEL = "N/A"
  WESTERNMOST_LONGITUDE = 148.58
END_OBJECT = IMAGE_MAP_PROJECTION
END
