PDS_VERSION_ID = PDS3
/* FILE DATA ELEMENTS */
RECORD_TYPE = UNDEFINED
/* POINTERS TO DATA OBJECTS */
^IMAGE = ("H7324_0000_BL4.TIF")
/* IDENTIFICATION DATA ELEMENTS */
DATA_SET_ID = "MEX-M-HRSC-4-REFDR-MAPPROJECT-EXT3-V4.0"
DATA_SET_NAME = "MARS EXPRESS HRSC MAP PROJECTED REFDR EXTENSION3 V4.0"
DETECTOR_ID = MEX_HRSC_BLUE
EVENT_TYPE = "MARS-REGIONAL-MAPPING-Vo-Pf"
INSTRUMENT_HOST_ID = MEX
INSTRUMENT_HOST_NAME = "MARS EXPRESS"
INSTRUMENT_ID = HRSC
INSTRUMENT_NAME = "HIGH RESOLUTION STEREO CAMERA"
MISSION_NAME = "MARS EXPRESS"
MISSION_PHASE_NAME = ME_Phase_18
PROCESSING_LEVEL_ID = 4
PRODUCT_CREATION_TIME = 2023-02-01T22:33:16.000Z
PRODUCT_ID = "H7324_0000_BL4.TIF"
RELEASE_ID = 0002
REVISION_ID = 0000
/* QUALITY DATA ELEMENTS */
DATA_QUALITY_ID = 1
DATA_QUALITY_DESC = "Data calculated based on original SPICE kernels"
/* TIME DATA ELEMENTS */
SPACECRAFT_CLOCK_START_COUNT = "1/0201316876.08226"
SPACECRAFT_CLOCK_STOP_COUNT = "1/0201317100.65014"
START_TIME = 2009-09-18T01:22:02.953Z
STOP_TIME = 2009-09-18T01:24:35.211Z
/* ORBITAL DATA ELEMENTS */
ASCENDING_NODE_LONGITUDE = 77.71
MAXIMUM_RESOLUTION = 0.1121
FOOTPRINT_POINT_LATITUDE = (40.824,40.8196,40.8158,40.8115,40.8067 ,40.8013,40.7946,40.7942,40.8055, 40.5917,40.3778,40.1637,39.9496,39.7353 ,39.5208,39.3063,39.0916,38.8768,38.662 ,38.3395,38.1244,37.9091,37.5861, 37.2628,37.0472,36.8314,36.6157,36.3999 ,36.0879,35.7258,35.3634,35.0009, 34.6381,34.2751,34.0028,33.8212,33.6397 ,33.4579,33.2761,33.0029,32.8207,32.547 ,32.365,32.1828,31.9067,31.6342,31.4526 ,31.0898,30.9991,30.9819,30.984,30.9867 ,30.9885,30.9911,30.9924,30.9925, 30.9942,31.3566,31.7202,31.9028,32.177, 32.4515,32.6346,32.8184,33.0016,33.1848 ,33.459,33.7327,33.9146,34.0964,34.2782 ,34.46,34.6417,34.9143,35.0958,35.3682, 35.7312,36.0939,36.4034,36.6196,36.8357 ,37.1598,37.3759,37.5917,37.9154, 38.1311,38.3466,38.5621,38.7775,38.9928 ,39.2079,39.423,39.6379,39.8528,40.0675 ,40.2821,40.4966,40.711,40.8181,40.824)
FOOTPRINT_POINT_LONGITUDE = (150.343,149.958,149.692,149.427, 149.164,148.903,148.61,148.594,148.579, 148.589,148.6,148.61,148.62,148.63, 148.64,148.649,148.659,148.668,148.677, 148.69,148.699,148.707,148.72,148.732, 148.739,148.747,148.755,148.762,148.772 ,148.784,148.795,148.806,148.816, 148.826,148.833,148.838,148.843,148.847 ,148.852,148.858,148.863,148.869, 148.873,148.877,148.884,148.889,148.892 ,148.899,148.9,148.901,149.175,149.492, 149.718,150.054,150.297,150.311,150.32, 150.314,150.313,150.315,150.319,150.325 ,150.33,150.337,150.342,150.347,150.353 ,150.357,150.358,150.359,150.36,150.361 ,150.362,150.364,150.365,150.366, 150.368,150.37,150.372,150.373,150.374, 150.376,150.377,150.378,150.38,150.381, 150.383,150.384,150.385,150.386,150.387 ,150.389,150.39,150.391,150.392,150.393 ,150.394,150.396,150.396,150.343)
ORBIT_NUMBER = 7324
ORBITAL_ECCENTRICITY = 0.573
ORBITAL_INCLINATION = 86.8
ORBITAL_SEMIMAJOR_AXIS = 8755.22
PERIAPSIS_ALTITUDE = 346.08
PERIAPSIS_ARGUMENT_ANGLE = 153.51
PERIAPSIS_TIME = 2009-09-18T01:25:39.000Z
SPACECRAFT_ORIENTATION = (0.0,-1.0,0.0)
^MEX_ORIENTATION_DESC = "MEX_ORIENTATION_DESC.TXT"
SPACECRAFT_POINTING_MODE = ACROSSTRACK
^MEX_POINTING_DESC = "MEX_POINTING_DESC.TXT"
RIGHT_ASCENSION = -1e+32
DECLINATION = -1e+32
OFFSET_ANGLE = 0.5
SPACECRAFT_SOLAR_DISTANCE = 2.25615e+08
TARGET_NAME = MARS
/* CAMERA DATA ELEMENTS */
DETECTOR_TEMPERATURE = 18.5744
FOCAL_PLANE_TEMPERATURE = 8.9911
INST_CMPRS_NAME = "DISCRETE COSINE TRANSFORMATION (DCT)"
INST_CMPRS_RATIO = 11.4197
INST_CMPRS_QUALITY = 0
INST_CMPRS_QUANTZ_TBL_ID = 0
INSTRUMENT_TEMPERATURE = 11.4379
LENS_TEMPERATURE = 8.9911
MACROPIXEL_SIZE = 8
MISSING_FRAMES = 0
PIXEL_SUBSAMPLING_FLAG = N
SIGNAL_CHAIN_ID = 2
/* RADIOMETRIC DATA ELEMENTS */
BANDWIDTH = 76.0
CENTER_FILTER_WAVELENGTH = 444.0
RADIANCE_OFFSET = 0.420745
RADIANCE_SCALING_FACTOR = 0.00206798
REFLECTANCE_SCALING_FACTOR = 0.000108152
MEX:REFLECTANCE_OFFSET = 0.0220044
/* IMAGE OBJECT DEFINITIONS */
OBJECT = IMAGE
  INTERCHANGE_FORMAT = BINARY
  LINES = 5838
  LINE_SAMPLES = 831
  SAMPLE_TYPE = UNSIGNED_INTEGER
  SAMPLE_BITS = 8
  BANDS = 1
  BAND_STORAGE_TYPE = BAND_SEQUENTIAL
  MAXIMUM = 255
  MEAN = 121.335
  MINIMUM = 1
  STANDARD_DEVIATION = 16.4767
END_OBJECT = IMAGE
/* MAP OBJECT DEFINITIONS */
OBJECT = IMAGE_MAP_PROJECTION
  ^DATA_SET_MAP_PROJECTION_CATALOG= "DSMAP.CAT"
  A_AXIS_RADIUS = 3396.0
  B_AXIS_RADIUS = 3396.0
  C_AXIS_RADIUS = 3396.0
  CENTER_LATITUDE = 0.0
  CENTER_LONGITUDE = 150.0
  COORDINATE_SYSTEM_NAME = PLANETOGRAPHIC
  COORDINATE_SYSTEM_TYPE = "BODY-FIXED ROTATING"
  EASTERNMOST_LONGITUDE = 150.396
  FIRST_STANDARD_PARALLEL = "N/A"
  LINE_FIRST_PIXEL = 1
  LINE_LAST_PIXEL = 5838
  LINE_PROJECTION_OFFSET = 24205.9375
  MAP_PROJECTION_ROTATION = 0.0
  MAP_PROJECTION_TYPE = SINUSOIDAL
  MAP_RESOLUTION = 592.713803866667
  MAP_SCALE = 0.1
  MAXIMUM_LATITUDE = 40.824
  MINIMUM_LATITUDE = 30.9819
  POSITIVE_LONGITUDE_DIRECTION = EAST
  REFERENCE_LATITUDE = "N/A"
  REFERENCE_LONGITUDE = "N/A"
  SAMPLE_FIRST_PIXEL = 1
  SAMPLE_LAST_PIXEL = 831
  SAMPLE_PROJECTION_OFFSET = 650.1875
  SECOND_STANDARD_PARALLEL = "N/A"
  WESTERNMOST_LONGITUDE = 148.579
END_OBJECT = IMAGE_MAP_PROJECTION
END
