PDS_VERSION_ID = PDS3
/* FILE DATA ELEMENTS */
RECORD_TYPE = UNDEFINED
/* POINTERS TO DATA OBJECTS */
^IMAGE = ("H7323_0000_S24.TIF")
/* IDENTIFICATION DATA ELEMENTS */
DATA_SET_ID = "MEX-M-HRSC-4-REFDR-MAPPROJECT-EXT3-V4.0"
DATA_SET_NAME = "MARS EXPRESS HRSC MAP PROJECTED REFDR EXTENSION3 V4.0"
DETECTOR_ID = MEX_HRSC_S2
EVENT_TYPE = "MARS-LOCAL-STEREO-Vo-Te"
INSTRUMENT_HOST_ID = MEX
INSTRUMENT_HOST_NAME = "MARS EXPRESS"
INSTRUMENT_ID = HRSC
INSTRUMENT_NAME = "HIGH RESOLUTION STEREO CAMERA"
MISSION_NAME = "MARS EXPRESS"
MISSION_PHASE_NAME = ME_Phase_18
PROCESSING_LEVEL_ID = 4
PRODUCT_CREATION_TIME = 2023-02-01T22:33:16.000Z
PRODUCT_ID = "H7323_0000_S24.TIF"
RELEASE_ID = 0002
REVISION_ID = 0000
/* QUALITY DATA ELEMENTS */
DATA_QUALITY_ID = 1
DATA_QUALITY_DESC = "Data calculated based on original SPICE kernels"
/* TIME DATA ELEMENTS */
SPACECRAFT_CLOCK_START_COUNT = "1/0201292225.07295"
SPACECRAFT_CLOCK_STOP_COUNT = "1/0201292438.24941"
START_TIME = 2009-09-17T18:31:30.839Z
STOP_TIME = 2009-09-17T18:33:58.825Z
/* ORBITAL DATA ELEMENTS */
ASCENDING_NODE_LONGITUDE = 77.74
MAXIMUM_RESOLUTION = 0.0145
FOOTPRINT_POINT_LATITUDE = (29.7912,29.7896,29.7882,29.7856,29.784 ,29.782,29.7819,29.7797,29.5865,29.3945 ,29.1047,28.9116,28.6226,28.4305, 28.2392,28.045,27.8533,27.6637,27.472, 27.2804,26.9932,26.8025,26.6107,26.4195 ,26.2286,25.9421,25.7512,25.5601,25.274 ,25.0839,24.8936,24.7034,24.5133, 24.3231,24.1332,23.9441,23.7539,23.5643 ,23.375,23.1858,22.9967,22.8076,22.6188 ,22.4301,22.2416,21.8649,21.4885,21.113 ,20.7381,20.3637,20.2701,20.2596, 20.2595,20.259,20.2589,20.2583,20.2583, 20.2585,20.6331,21.0075,21.4766,21.7592 ,21.9481,22.3252,22.5145,22.7982, 23.0814,23.2707,23.4602,23.6498,23.84, 24.1247,24.3147,24.6002,24.7907,25.0762 ,25.267,25.4575,25.6483,25.9343,26.2213 ,26.4127,26.6041,26.7953,26.9874, 27.1798,27.468,27.6601,27.8524,28.0449, 28.3337,28.5263,28.719,28.9117,29.1037, 29.296,29.4892,29.6832,29.7804,29.7912)
FOOTPRINT_POINT_LONGITUDE = (250.573,250.273,250.054,249.671, 249.452,249.206,249.192,249.187,249.191 ,249.194,249.2,249.203,249.209,249.212, 249.215,249.218,249.221,249.223,249.226 ,249.229,249.232,249.235,249.237, 249.239,249.241,249.244,249.246,249.248 ,249.251,249.253,249.254,249.256, 249.257,249.259,249.26,249.261,249.262, 249.263,249.264,249.265,249.266,249.267 ,249.267,249.268,249.268,249.269,249.27 ,249.27,249.27,249.27,249.27,249.27, 249.597,249.871,250.277,250.578,250.591 ,250.597,250.596,250.595,250.593, 250.593,250.593,250.592,250.591,250.591 ,250.59,250.589,250.589,250.588,250.588 ,250.587,250.587,250.586,250.586, 250.585,250.584,250.584,250.583,250.583 ,250.582,250.581,250.581,250.58,250.58, 250.58,250.579,250.579,250.578,250.578, 250.577,250.577,250.576,250.576,250.575 ,250.574,250.574,250.573,250.573, 250.573)
ORBIT_NUMBER = 7323
ORBITAL_ECCENTRICITY = 0.574
ORBITAL_INCLINATION = 86.8
ORBITAL_SEMIMAJOR_AXIS = 8766.97
PERIAPSIS_ALTITUDE = 345.02
PERIAPSIS_ARGUMENT_ANGLE = 153.65
PERIAPSIS_TIME = 2009-09-17T18:31:53.000Z
SPACECRAFT_ORIENTATION = (0.0,-1.0,0.0)
^MEX_ORIENTATION_DESC = "MEX_ORIENTATION_DESC.TXT"
SPACECRAFT_POINTING_MODE = NADIR
^MEX_POINTING_DESC = "MEX_POINTING_DESC.TXT"
RIGHT_ASCENSION = -1e+32
DECLINATION = -1e+32
OFFSET_ANGLE = -1e+32
SPACECRAFT_SOLAR_DISTANCE = 2.25559e+08
TARGET_NAME = MARS
/* CAMERA DATA ELEMENTS */
DETECTOR_TEMPERATURE = 18.1666
FOCAL_PLANE_TEMPERATURE = 8.3794
INST_CMPRS_NAME = "DISCRETE COSINE TRANSFORMATION (DCT)"
INST_CMPRS_RATIO = 8.17133
INST_CMPRS_QUALITY = 0
INST_CMPRS_QUANTZ_TBL_ID = 0
INSTRUMENT_TEMPERATURE = 11.234
LENS_TEMPERATURE = 8.7872
MACROPIXEL_SIZE = 1
MISSING_FRAMES = 0
PIXEL_SUBSAMPLING_FLAG = N
SIGNAL_CHAIN_ID = 1
/* RADIOMETRIC DATA ELEMENTS */
BANDWIDTH = 178.0
CENTER_FILTER_WAVELENGTH = 679.0
RADIANCE_OFFSET = 3.89406
RADIANCE_SCALING_FACTOR = 0.0230402
REFLECTANCE_SCALING_FACTOR = 0.000620775
MEX:REFLECTANCE_OFFSET = 0.104918
/* IMAGE OBJECT DEFINITIONS */
OBJECT = IMAGE
  INTERCHANGE_FORMAT = BINARY
  LINES = 45267
  LINE_SAMPLES = 5918
  SAMPLE_TYPE = UNSIGNED_INTEGER
  SAMPLE_BITS = 8
  BANDS = 1
  BAND_STORAGE_TYPE = BAND_SEQUENTIAL
  MAXIMUM = 255
  MEAN = 136.888
  MINIMUM = 1
  STANDARD_DEVIATION = 22.54
END_OBJECT = IMAGE
/* MAP OBJECT DEFINITIONS */
OBJECT = IMAGE_MAP_PROJECTION
  ^DATA_SET_MAP_PROJECTION_CATALOG= "DSMAP.CAT"
  A_AXIS_RADIUS = 3396.0
  B_AXIS_RADIUS = 3396.0
  C_AXIS_RADIUS = 3396.0
  CENTER_LATITUDE = 0.0
  CENTER_LONGITUDE = 250.0
  COORDINATE_SYSTEM_NAME = PLANETOGRAPHIC
  COORDINATE_SYSTEM_TYPE = "BODY-FIXED ROTATING"
  EASTERNMOST_LONGITUDE = 250.597
  FIRST_STANDARD_PARALLEL = "N/A"
  LINE_FIRST_PIXEL = 1
  LINE_LAST_PIXEL = 45267
  LINE_PROJECTION_OFFSET = 141473.0
  MAP_PROJECTION_ROTATION = 0.0
  MAP_PROJECTION_TYPE = SINUSOIDAL
  MAP_RESOLUTION = 4741.71043093333
  MAP_SCALE = 0.0125
  MAXIMUM_LATITUDE = 29.7912
  MINIMUM_LATITUDE = 20.2583
  POSITIVE_LONGITUDE_DIRECTION = EAST
  REFERENCE_LATITUDE = "N/A"
  REFERENCE_LONGITUDE = "N/A"
  SAMPLE_FIRST_PIXEL = 1
  SAMPLE_LAST_PIXEL = 5918
  SAMPLE_PROJECTION_OFFSET = 3339.0
  SECOND_STANDARD_PARALLEL = "N/A"
  WESTERNMOST_LONGITUDE = 249.187
END_OBJECT = IMAGE_MAP_PROJECTION
END
