PDS_VERSION_ID = PDS3
/* FILE DATA ELEMENTS */
RECORD_TYPE = UNDEFINED
/* POINTERS TO DATA OBJECTS */
^IMAGE = ("H7323_0000_P24.TIF")
/* IDENTIFICATION DATA ELEMENTS */
DATA_SET_ID = "MEX-M-HRSC-4-REFDR-MAPPROJECT-EXT3-V4.0"
DATA_SET_NAME = "MARS EXPRESS HRSC MAP PROJECTED REFDR EXTENSION3 V4.0"
DETECTOR_ID = MEX_HRSC_P2
EVENT_TYPE = "MARS-LOCAL-STEREO-Vo-Te"
INSTRUMENT_HOST_ID = MEX
INSTRUMENT_HOST_NAME = "MARS EXPRESS"
INSTRUMENT_ID = HRSC
INSTRUMENT_NAME = "HIGH RESOLUTION STEREO CAMERA"
MISSION_NAME = "MARS EXPRESS"
MISSION_PHASE_NAME = ME_Phase_18
PROCESSING_LEVEL_ID = 4
PRODUCT_CREATION_TIME = 2023-02-01T22:33:16.000Z
PRODUCT_ID = "H7323_0000_P24.TIF"
RELEASE_ID = 0002
REVISION_ID = 0000
/* QUALITY DATA ELEMENTS */
DATA_QUALITY_ID = 1
DATA_QUALITY_DESC = "Data calculated based on original SPICE kernels"
/* TIME DATA ELEMENTS */
SPACECRAFT_CLOCK_START_COUNT = "1/0201292225.07295"
SPACECRAFT_CLOCK_STOP_COUNT = "1/0201292438.24941"
START_TIME = 2009-09-17T18:31:20.071Z
STOP_TIME = 2009-09-17T18:33:47.576Z
/* ORBITAL DATA ELEMENTS */
ASCENDING_NODE_LONGITUDE = 77.74
MAXIMUM_RESOLUTION = 0.0281
FOOTPRINT_POINT_LATITUDE = (29.8085,29.8062,29.8017,29.798,29.7978 ,29.7964,29.6036,29.412,29.1235,28.9309 ,28.6431,28.3546,28.162,27.9701,27.7787 ,27.5887,27.3968,27.2055,26.9183, 26.7275,26.5358,26.3446,26.058,25.8668, 25.5803,25.389,25.1983,25.0077,24.8171, 24.5312,24.3407,24.1503,23.9607,23.7697 ,23.5796,23.3896,23.1996,23.0098,22.82, 22.6304,22.4408,22.2513,22.062,21.6836, 21.4944,21.1167,20.7394,20.3626,20.2685 ,20.2676,20.268,20.2678,20.2673,20.2673 ,20.2677,20.5506,20.9277,21.3052, 21.6835,21.8732,22.1574,22.4422,22.6319 ,22.9165,23.1064,23.2965,23.4867,23.677 ,23.8676,24.058,24.2485,24.439,24.6299, 24.8208,25.0115,25.2025,25.3934,25.5845 ,25.871,26.0625,26.3495,26.541,26.7324, 26.9242,27.1163,27.3082,27.5001,27.6922 ,27.8842,28.0764,28.2685,28.4608, 28.6531,28.8453,29.1331,29.3254,29.5179 ,29.7115,29.8084,29.8085)
FOOTPRINT_POINT_LONGITUDE = (250.571,250.169,249.594,249.206, 249.192,249.189,249.193,249.196,249.202 ,249.206,249.211,249.216,249.22,249.223 ,249.226,249.228,249.231,249.233, 249.237,249.24,249.242,249.245,249.248, 249.25,249.253,249.255,249.257,249.258, 249.26,249.263,249.264,249.265,249.266, 249.268,249.269,249.27,249.271,249.272, 249.273,249.274,249.275,249.275,249.276 ,249.277,249.277,249.277,249.278, 249.278,249.278,249.278,249.722,250.178 ,250.572,250.585,250.589,250.589, 250.588,250.587,250.586,250.586,250.585 ,250.585,250.585,250.584,250.584, 250.583,250.583,250.583,250.582,250.582 ,250.582,250.581,250.581,250.581,250.58 ,250.58,250.579,250.579,250.578,250.578 ,250.577,250.577,250.576,250.576, 250.576,250.576,250.575,250.575,250.575 ,250.574,250.574,250.574,250.573, 250.573,250.572,250.571,250.571,250.571 ,250.571,250.571)
ORBIT_NUMBER = 7323
ORBITAL_ECCENTRICITY = 0.574
ORBITAL_INCLINATION = 86.8
ORBITAL_SEMIMAJOR_AXIS = 8766.97
PERIAPSIS_ALTITUDE = 345.02
PERIAPSIS_ARGUMENT_ANGLE = 153.65
PERIAPSIS_TIME = 2009-09-17T18:31:53.000Z
SPACECRAFT_ORIENTATION = (0.0,-1.0,0.0)
^MEX_ORIENTATION_DESC = "MEX_ORIENTATION_DESC.TXT"
SPACECRAFT_POINTING_MODE = NADIR
^MEX_POINTING_DESC = "MEX_POINTING_DESC.TXT"
RIGHT_ASCENSION = -1e+32
DECLINATION = -1e+32
OFFSET_ANGLE = -1e+32
SPACECRAFT_SOLAR_DISTANCE = 2.25559e+08
TARGET_NAME = MARS
/* CAMERA DATA ELEMENTS */
DETECTOR_TEMPERATURE = 18.1666
FOCAL_PLANE_TEMPERATURE = 8.3794
INST_CMPRS_NAME = "DISCRETE COSINE TRANSFORMATION (DCT)"
INST_CMPRS_RATIO = 7.41362
INST_CMPRS_QUALITY = 0
INST_CMPRS_QUANTZ_TBL_ID = 0
INSTRUMENT_TEMPERATURE = 11.234
LENS_TEMPERATURE = 8.7872
MACROPIXEL_SIZE = 2
MISSING_FRAMES = 0
PIXEL_SUBSAMPLING_FLAG = N
SIGNAL_CHAIN_ID = 3
/* RADIOMETRIC DATA ELEMENTS */
BANDWIDTH = 177.0
CENTER_FILTER_WAVELENGTH = 676.5
RADIANCE_OFFSET = 3.6914
RADIANCE_SCALING_FACTOR = 0.0227163
REFLECTANCE_SCALING_FACTOR = 0.000612792
MEX:REFLECTANCE_OFFSET = 0.0995787
/* IMAGE OBJECT DEFINITIONS */
OBJECT = IMAGE
  INTERCHANGE_FORMAT = BINARY
  LINES = 22634
  LINE_SAMPLES = 2959
  SAMPLE_TYPE = UNSIGNED_INTEGER
  SAMPLE_BITS = 8
  BANDS = 1
  BAND_STORAGE_TYPE = BAND_SEQUENTIAL
  MAXIMUM = 255
  MEAN = 131.683
  MINIMUM = 1
  STANDARD_DEVIATION = 22.4189
END_OBJECT = IMAGE
/* MAP OBJECT DEFINITIONS */
OBJECT = IMAGE_MAP_PROJECTION
  ^DATA_SET_MAP_PROJECTION_CATALOG= "DSMAP.CAT"
  A_AXIS_RADIUS = 3396.0
  B_AXIS_RADIUS = 3396.0
  C_AXIS_RADIUS = 3396.0
  CENTER_LATITUDE = 0.0
  CENTER_LONGITUDE = 250.0
  COORDINATE_SYSTEM_NAME = PLANETOGRAPHIC
  COORDINATE_SYSTEM_TYPE = "BODY-FIXED ROTATING"
  EASTERNMOST_LONGITUDE = 250.589
  FIRST_STANDARD_PARALLEL = "N/A"
  LINE_FIRST_PIXEL = 1
  LINE_LAST_PIXEL = 22634
  LINE_PROJECTION_OFFSET = 70736.25
  MAP_PROJECTION_ROTATION = 0.0
  MAP_PROJECTION_TYPE = SINUSOIDAL
  MAP_RESOLUTION = 2370.85521546667
  MAP_SCALE = 0.025
  MAXIMUM_LATITUDE = 29.8085
  MINIMUM_LATITUDE = 20.2673
  POSITIVE_LONGITUDE_DIRECTION = EAST
  REFERENCE_LATITUDE = "N/A"
  REFERENCE_LONGITUDE = "N/A"
  SAMPLE_FIRST_PIXEL = 1
  SAMPLE_LAST_PIXEL = 2959
  SAMPLE_PROJECTION_OFFSET = 1669.25
  SECOND_STANDARD_PARALLEL = "N/A"
  WESTERNMOST_LONGITUDE = 249.189
END_OBJECT = IMAGE_MAP_PROJECTION
END
