PDS_VERSION_ID = PDS3
/* FILE DATA ELEMENTS */
RECORD_TYPE = UNDEFINED
/* POINTERS TO DATA OBJECTS */
^IMAGE = ("H7319_0000_S24.TIF")
/* IDENTIFICATION DATA ELEMENTS */
DATA_SET_ID = "MEX-M-HRSC-4-REFDR-MAPPROJECT-EXT3-V4.0"
DATA_SET_NAME = "MARS EXPRESS HRSC MAP PROJECTED REFDR EXTENSION3 V4.0"
DETECTOR_ID = MEX_HRSC_S2
EVENT_TYPE = "MARS-REGIONAL-MAPPING-Vo-Te"
INSTRUMENT_HOST_ID = MEX
INSTRUMENT_HOST_NAME = "MARS EXPRESS"
INSTRUMENT_ID = HRSC
INSTRUMENT_NAME = "HIGH RESOLUTION STEREO CAMERA"
MISSION_NAME = "MARS EXPRESS"
MISSION_PHASE_NAME = ME_Phase_18
PROCESSING_LEVEL_ID = 4
PRODUCT_CREATION_TIME = 2023-02-01T22:33:16.000Z
PRODUCT_ID = "H7319_0000_S24.TIF"
RELEASE_ID = 0002
REVISION_ID = 0000
/* QUALITY DATA ELEMENTS */
DATA_QUALITY_ID = 1
DATA_QUALITY_DESC = "Data calculated based on original SPICE kernels"
/* TIME DATA ELEMENTS */
SPACECRAFT_CLOCK_START_COUNT = "1/0201193113.07284"
SPACECRAFT_CLOCK_STOP_COUNT = "1/0201193450.40675"
START_TIME = 2009-09-16T14:59:40.189Z
STOP_TIME = 2009-09-16T15:04:11.057Z
/* ORBITAL DATA ELEMENTS */
ASCENDING_NODE_LONGITUDE = 77.81
MAXIMUM_RESOLUTION = 0.0311
FOOTPRINT_POINT_LATITUDE = (17.6858,17.687,17.6881,17.6898,17.6898 ,17.7022,17.1259,16.5512,15.8991, 15.5581,15.2174,14.8776,14.5387,14.2004 ,13.8626,13.5254,13.1891,12.8533, 12.5182,12.1838,11.8503,11.3511,11.0189 ,10.6879,10.3579,10.0284,9.69966, 9.37189,9.04492,8.71849,8.39307,8.06828 ,7.74484,7.42173,7.09939,6.7779,6.4574, 6.13778,5.81884,5.50094,5.18383,4.86762 ,4.55209,4.23769,3.92311,3.60971, 2.98487,2.36439,1.74791,1.59451,1.58131 ,1.57476,1.57092,1.56533,1.56247, 1.56236,1.56276,2.17849,2.79824,3.57797 ,4.21437,4.83739,5.15392,5.47168, 5.79013,6.11003,6.42923,6.75014,7.07231 ,7.39491,7.7182,8.04223,8.36695,8.69302 ,9.01959,9.34706,9.67531,10.0041, 10.3336,10.664,10.9955,11.328,11.6609, 11.9943,12.3286,12.6634,12.9991,13.3356 ,13.6727,14.0103,14.3487,14.6876, 15.0264,15.3677,15.8793,16.535,16.9664, 17.5433,17.6876,17.6858)
FOOTPRINT_POINT_LONGITUDE = (293.955,293.45,293.088,292.634,292.621 ,292.613,292.609,292.605,292.6,292.597, 292.594,292.591,292.587,292.583,292.579 ,292.575,292.571,292.566,292.561, 292.557,292.551,292.544,292.538,292.533 ,292.527,292.521,292.515,292.508, 292.502,292.495,292.488,292.481,292.474 ,292.467,292.459,292.452,292.444, 292.436,292.428,292.42,292.411,292.403, 292.394,292.386,292.377,292.368,292.35, 292.331,292.312,292.307,292.307,292.711 ,293.031,293.57,294.026,294.043,294.049 ,294.043,294.037,294.03,294.027,294.019 ,294.017,294.015,294.012,294.01,294.007 ,294.005,294.003,294.001,293.999, 293.997,293.995,293.993,293.991,293.99, 293.988,293.986,293.985,293.983,293.982 ,293.98,293.979,293.977,293.976,293.975 ,293.974,293.972,293.971,293.97,293.969 ,293.968,293.966,293.966,293.964, 293.963,293.962,293.96,293.96,293.955)
ORBIT_NUMBER = 7319
ORBITAL_ECCENTRICITY = 0.573
ORBITAL_INCLINATION = 86.8
ORBITAL_SEMIMAJOR_AXIS = 8758.54
PERIAPSIS_ALTITUDE = 344.91
PERIAPSIS_ARGUMENT_ANGLE = 154.38
PERIAPSIS_TIME = 2009-09-16T14:57:05.000Z
SPACECRAFT_ORIENTATION = (0.0,-1.0,0.0)
^MEX_ORIENTATION_DESC = "MEX_ORIENTATION_DESC.TXT"
SPACECRAFT_POINTING_MODE = NADIR
^MEX_POINTING_DESC = "MEX_POINTING_DESC.TXT"
RIGHT_ASCENSION = -1e+32
DECLINATION = -1e+32
OFFSET_ANGLE = -1e+32
SPACECRAFT_SOLAR_DISTANCE = 2.25334e+08
TARGET_NAME = MARS
/* CAMERA DATA ELEMENTS */
DETECTOR_TEMPERATURE = 18.5744
FOCAL_PLANE_TEMPERATURE = 8.5833
INST_CMPRS_NAME = "DISCRETE COSINE TRANSFORMATION (DCT)"
INST_CMPRS_RATIO = 11.143
INST_CMPRS_QUALITY = 0
INST_CMPRS_QUANTZ_TBL_ID = 0
INSTRUMENT_TEMPERATURE = 11.234
LENS_TEMPERATURE = 9.195
MACROPIXEL_SIZE = 2
MISSING_FRAMES = 0
PIXEL_SUBSAMPLING_FLAG = N
SIGNAL_CHAIN_ID = 1
/* RADIOMETRIC DATA ELEMENTS */
BANDWIDTH = 178.0
CENTER_FILTER_WAVELENGTH = 679.0
RADIANCE_OFFSET = 5.18326
RADIANCE_SCALING_FACTOR = 0.0176163
REFLECTANCE_SCALING_FACTOR = 0.000473696
MEX:REFLECTANCE_OFFSET = 0.139376
/* IMAGE OBJECT DEFINITIONS */
OBJECT = IMAGE
  INTERCHANGE_FORMAT = BINARY
  LINES = 38253
  LINE_SAMPLES = 3825
  SAMPLE_TYPE = UNSIGNED_INTEGER
  SAMPLE_BITS = 8
  BANDS = 1
  BAND_STORAGE_TYPE = BAND_SEQUENTIAL
  MAXIMUM = 246
  MEAN = 92.9604
  MINIMUM = 1
  STANDARD_DEVIATION = 21.5271
END_OBJECT = IMAGE
/* MAP OBJECT DEFINITIONS */
OBJECT = IMAGE_MAP_PROJECTION
  ^DATA_SET_MAP_PROJECTION_CATALOG= "DSMAP.CAT"
  A_AXIS_RADIUS = 3396.0
  B_AXIS_RADIUS = 3396.0
  C_AXIS_RADIUS = 3396.0
  CENTER_LATITUDE = 0.0
  CENTER_LONGITUDE = 293.0
  COORDINATE_SYSTEM_NAME = PLANETOGRAPHIC
  COORDINATE_SYSTEM_TYPE = "BODY-FIXED ROTATING"
  EASTERNMOST_LONGITUDE = 294.049
  FIRST_STANDARD_PARALLEL = "N/A"
  LINE_FIRST_PIXEL = 1
  LINE_LAST_PIXEL = 38253
  LINE_PROJECTION_OFFSET = 41976.25
  MAP_PROJECTION_ROTATION = 0.0
  MAP_PROJECTION_TYPE = SINUSOIDAL
  MAP_RESOLUTION = 2370.85521546667
  MAP_SCALE = 0.025
  MAXIMUM_LATITUDE = 17.7022
  MINIMUM_LATITUDE = 1.56236
  POSITIVE_LONGITUDE_DIRECTION = EAST
  REFERENCE_LATITUDE = "N/A"
  REFERENCE_LONGITUDE = "N/A"
  SAMPLE_FIRST_PIXEL = 1
  SAMPLE_LAST_PIXEL = 3825
  SAMPLE_PROJECTION_OFFSET = 1490.75
  SECOND_STANDARD_PARALLEL = "N/A"
  WESTERNMOST_LONGITUDE = 292.307
END_OBJECT = IMAGE_MAP_PROJECTION
END
