PDS_VERSION_ID = PDS3
/* FILE DATA ELEMENTS */
RECORD_TYPE = UNDEFINED
/* POINTERS TO DATA OBJECTS */
^IMAGE = ("H7319_0000_GR4.TIF")
/* IDENTIFICATION DATA ELEMENTS */
DATA_SET_ID = "MEX-M-HRSC-4-REFDR-MAPPROJECT-EXT3-V4.0"
DATA_SET_NAME = "MARS EXPRESS HRSC MAP PROJECTED REFDR EXTENSION3 V4.0"
DETECTOR_ID = MEX_HRSC_GREEN
EVENT_TYPE = "MARS-REGIONAL-MAPPING-Vo-Te"
INSTRUMENT_HOST_ID = MEX
INSTRUMENT_HOST_NAME = "MARS EXPRESS"
INSTRUMENT_ID = HRSC
INSTRUMENT_NAME = "HIGH RESOLUTION STEREO CAMERA"
MISSION_NAME = "MARS EXPRESS"
MISSION_PHASE_NAME = ME_Phase_18
PROCESSING_LEVEL_ID = 4
PRODUCT_CREATION_TIME = 2023-02-01T22:33:16.000Z
PRODUCT_ID = "H7319_0000_GR4.TIF"
RELEASE_ID = 0002
REVISION_ID = 0000
/* QUALITY DATA ELEMENTS */
DATA_QUALITY_ID = 1
DATA_QUALITY_DESC = "Data calculated based on original SPICE kernels"
/* TIME DATA ELEMENTS */
SPACECRAFT_CLOCK_START_COUNT = "1/0201193113.07284"
SPACECRAFT_CLOCK_STOP_COUNT = "1/0201193450.40675"
START_TIME = 2009-09-16T14:59:01.767Z
STOP_TIME = 2009-09-16T15:03:15.703Z
/* ORBITAL DATA ELEMENTS */
ASCENDING_NODE_LONGITUDE = 77.81
MAXIMUM_RESOLUTION = 0.1138
FOOTPRINT_POINT_LATITUDE = (17.6966,17.6988,17.6994,17.6992, 17.6992,17.6956,16.8331,16.2588,15.685, 15.1118,14.5391,13.9671,13.4765,13.1359 ,12.7955,12.4554,12.1155,11.776,11.4368 ,11.0979,10.7592,10.4209,10.0829, 9.74529,9.40795,9.07099,8.73442,8.39818 ,8.06234,7.72682,7.39172,7.05704, 6.72279,6.38888,6.05544,5.72242,5.38981 ,5.05766,4.72596,4.39468,4.06392, 3.73369,3.40399,3.0748,2.74604,2.41775, 2.08987,1.7626,1.59907,1.58739,1.5834, 1.57795,1.56906,1.56888,1.5707,1.89808, 2.22605,2.55446,2.88335,3.21279,3.54265 ,3.87306,4.2026,4.53506,4.8668,5.19907, 5.53176,5.86486,6.19848,6.53242,6.86676 ,7.20153,7.53674,7.87236,8.20836, 8.54469,8.88144,9.2185,9.55596,9.89379, 10.232,10.5705,10.9092,11.2482,11.5876, 11.9274,12.2674,12.6077,12.9482,13.2891 ,13.6302,13.9523,14.5248,15.0982, 15.6718,16.1026,16.6772,17.5402,17.6841 ,17.6966)
FOOTPRINT_POINT_LONGITUDE = (293.933,293.416,293.056,292.671, 292.659,292.649,292.646,292.643,292.639 ,292.635,292.631,292.626,292.621, 292.617,292.614,292.61,292.606,292.602, 292.597,292.593,292.588,292.583,292.578 ,292.573,292.567,292.562,292.556,292.55 ,292.544,292.538,292.532,292.525, 292.518,292.512,292.505,292.498,292.49, 292.483,292.475,292.468,292.46,292.452, 292.444,292.436,292.428,292.42,292.411, 292.402,292.398,292.398,292.766,293.239 ,293.951,293.966,293.976,293.974, 293.972,293.97,293.969,293.967,293.966, 293.964,293.965,293.962,293.96,293.959, 293.958,293.956,293.955,293.954,293.953 ,293.952,293.951,293.95,293.949,293.948 ,293.947,293.946,293.946,293.945, 293.944,293.943,293.943,293.942,293.942 ,293.941,293.941,293.94,293.94,293.94, 293.939,293.939,293.939,293.938,293.938 ,293.937,293.937,293.937,293.937, 293.933)
ORBIT_NUMBER = 7319
ORBITAL_ECCENTRICITY = 0.573
ORBITAL_INCLINATION = 86.8
ORBITAL_SEMIMAJOR_AXIS = 8758.54
PERIAPSIS_ALTITUDE = 344.91
PERIAPSIS_ARGUMENT_ANGLE = 154.38
PERIAPSIS_TIME = 2009-09-16T14:57:05.000Z
SPACECRAFT_ORIENTATION = (0.0,-1.0,0.0)
^MEX_ORIENTATION_DESC = "MEX_ORIENTATION_DESC.TXT"
SPACECRAFT_POINTING_MODE = NADIR
^MEX_POINTING_DESC = "MEX_POINTING_DESC.TXT"
RIGHT_ASCENSION = -1e+32
DECLINATION = -1e+32
OFFSET_ANGLE = -1e+32
SPACECRAFT_SOLAR_DISTANCE = 2.25334e+08
TARGET_NAME = MARS
/* CAMERA DATA ELEMENTS */
DETECTOR_TEMPERATURE = 18.3705
FOCAL_PLANE_TEMPERATURE = 8.5833
INST_CMPRS_NAME = "DISCRETE COSINE TRANSFORMATION (DCT)"
INST_CMPRS_RATIO = 26.1756
INST_CMPRS_QUALITY = 0
INST_CMPRS_QUANTZ_TBL_ID = 0
INSTRUMENT_TEMPERATURE = 11.234
LENS_TEMPERATURE = 9.195
MACROPIXEL_SIZE = 8
MISSING_FRAMES = 0
PIXEL_SUBSAMPLING_FLAG = N
SIGNAL_CHAIN_ID = 2
/* RADIOMETRIC DATA ELEMENTS */
BANDWIDTH = 88.0
CENTER_FILTER_WAVELENGTH = 538.0
RADIANCE_OFFSET = 1.61153
RADIANCE_SCALING_FACTOR = 0.00405286
REFLECTANCE_SCALING_FACTOR = 0.000177177
MEX:REFLECTANCE_OFFSET = 0.0704503
/* IMAGE OBJECT DEFINITIONS */
OBJECT = IMAGE
  INTERCHANGE_FORMAT = BINARY
  LINES = 9564
  LINE_SAMPLES = 957
  SAMPLE_TYPE = UNSIGNED_INTEGER
  SAMPLE_BITS = 8
  BANDS = 1
  BAND_STORAGE_TYPE = BAND_SEQUENTIAL
  MAXIMUM = 255
  MEAN = 103.571
  MINIMUM = 1
  STANDARD_DEVIATION = 19.6663
END_OBJECT = IMAGE
/* MAP OBJECT DEFINITIONS */
OBJECT = IMAGE_MAP_PROJECTION
  ^DATA_SET_MAP_PROJECTION_CATALOG= "DSMAP.CAT"
  A_AXIS_RADIUS = 3396.0
  B_AXIS_RADIUS = 3396.0
  C_AXIS_RADIUS = 3396.0
  CENTER_LATITUDE = 0.0
  CENTER_LONGITUDE = 293.0
  COORDINATE_SYSTEM_NAME = PLANETOGRAPHIC
  COORDINATE_SYSTEM_TYPE = "BODY-FIXED ROTATING"
  EASTERNMOST_LONGITUDE = 293.976
  FIRST_STANDARD_PARALLEL = "N/A"
  LINE_FIRST_PIXEL = 1
  LINE_LAST_PIXEL = 9564
  LINE_PROJECTION_OFFSET = 10493.6875
  MAP_PROJECTION_ROTATION = 0.0
  MAP_PROJECTION_TYPE = SINUSOIDAL
  MAP_RESOLUTION = 592.713803866667
  MAP_SCALE = 0.1
  MAXIMUM_LATITUDE = 17.6994
  MINIMUM_LATITUDE = 1.56888
  POSITIVE_LONGITUDE_DIRECTION = EAST
  REFERENCE_LATITUDE = "N/A"
  REFERENCE_LONGITUDE = "N/A"
  SAMPLE_FIRST_PIXEL = 1
  SAMPLE_LAST_PIXEL = 957
  SAMPLE_PROJECTION_OFFSET = 372.3125
  SECOND_STANDARD_PARALLEL = "N/A"
  WESTERNMOST_LONGITUDE = 292.398
END_OBJECT = IMAGE_MAP_PROJECTION
END
