PDS_VERSION_ID = PDS3
/* FILE DATA ELEMENTS */
RECORD_TYPE = UNDEFINED
/* POINTERS TO DATA OBJECTS */
^IMAGE = ("H7311_0000_RE4.TIF")
/* IDENTIFICATION DATA ELEMENTS */
DATA_SET_ID = "MEX-M-HRSC-4-REFDR-MAPPROJECT-EXT3-V4.0"
DATA_SET_NAME = "MARS EXPRESS HRSC MAP PROJECTED REFDR EXTENSION3 V4.0"
DETECTOR_ID = MEX_HRSC_RED
EVENT_TYPE = "MARS-REGIONAL-MAPPING-Im-Fl"
INSTRUMENT_HOST_ID = MEX
INSTRUMENT_HOST_NAME = "MARS EXPRESS"
INSTRUMENT_ID = HRSC
INSTRUMENT_NAME = "HIGH RESOLUTION STEREO CAMERA"
MISSION_NAME = "MARS EXPRESS"
MISSION_PHASE_NAME = ME_Phase_18
PROCESSING_LEVEL_ID = 4
PRODUCT_CREATION_TIME = 2023-02-01T22:33:16.000Z
PRODUCT_ID = "H7311_0000_RE4.TIF"
RELEASE_ID = 0002
REVISION_ID = 0000
/* QUALITY DATA ELEMENTS */
DATA_QUALITY_ID = 1
DATA_QUALITY_DESC = "Data calculated based on original SPICE kernels"
/* TIME DATA ELEMENTS */
SPACECRAFT_CLOCK_START_COUNT = "1/0200994318.09068"
SPACECRAFT_CLOCK_STOP_COUNT = "1/0200994657.07846"
START_TIME = 2009-09-14T07:46:19.557Z
STOP_TIME = 2009-09-14T07:50:51.267Z
/* ORBITAL DATA ELEMENTS */
ASCENDING_NODE_LONGITUDE = 77.97
MAXIMUM_RESOLUTION = 0.1159
FOOTPRINT_POINT_LATITUDE = (29.703,29.6892,29.6714,29.6711,29.7026 ,29.3552,29.0098,28.6636,28.3163, 27.7983,27.4532,27.108,26.7631,26.4201, 25.9042,25.3881,25.0445,24.7013,24.3573 ,24.0142,23.5008,22.9878,22.6454, 22.1327,21.6224,21.1131,20.604,20.2644, 19.925,19.4171,18.9113,18.5739,18.2377, 17.9011,17.5637,17.062,16.7275,16.3929, 16.0589,15.7259,15.2266,14.8948,14.5273 ,14.1318,13.7376,13.3443,12.5583, 12.3631,12.3056,12.3091,12.3156,12.3209 ,12.3211,12.3232,12.7149,13.1079, 13.6977,14.0919,14.4842,14.8605,15.1966 ,15.697,16.031,16.3646,16.8668,17.2018, 17.7057,18.0414,18.3781,18.716,19.0531, 19.3917,19.8993,20.2378,20.7481,21.2558 ,21.596,21.9363,22.2774,22.6229,22.9623 ,23.3051,23.8169,24.158,24.5017,25.0199 ,25.5364,25.8809,26.2241,26.5785,26.924 ,27.2692,27.608,27.9522,28.4714,28.8177 ,29.1632,29.5093,29.6827,29.703)
FOOTPRINT_POINT_LONGITUDE = (21.1603,20.5307,19.7954,19.7826, 19.7715,19.7774,19.7827,19.7879,19.793, 19.7997,19.8039,19.8079,19.8116,19.8148 ,19.8193,19.8235,19.8259,19.8281, 19.8302,19.8319,19.8341,19.8358,19.8367 ,19.8377,19.8381,19.8379,19.8374, 19.8368,19.8361,19.8347,19.8327,19.8312 ,19.8294,19.8276,19.8257,19.8221, 19.8196,19.817,19.8142,19.8112,19.8064, 19.803,19.7992,19.7948,19.7901,19.7852, 19.775,19.7722,19.7712,20.1128,20.7157, 21.1181,21.1311,21.1398,21.1396,21.1398 ,21.1394,21.1393,21.1376,21.138,21.1404 ,21.1414,21.142,21.1421,21.1429,21.1432 ,21.144,21.1442,21.1447,21.1458,21.1461 ,21.1472,21.1482,21.1486,21.1505, 21.1503,21.151,21.1516,21.1525,21.1561, 21.1555,21.157,21.1573,21.1572,21.1587, 21.1624,21.1646,21.166,21.1664,21.1742, 21.1759,21.1773,21.1741,21.1746,21.1771 ,21.1786,21.1796,21.1809,21.1817, 21.1603)
ORBIT_NUMBER = 7311
ORBITAL_ECCENTRICITY = 0.573
ORBITAL_INCLINATION = 86.79
ORBITAL_SEMIMAJOR_AXIS = 8760.37
PERIAPSIS_ALTITUDE = 344.2
PERIAPSIS_ARGUMENT_ANGLE = 155.77
PERIAPSIS_TIME = 2009-09-14T07:47:18.000Z
SPACECRAFT_ORIENTATION = (0.0,-1.0,0.0)
^MEX_ORIENTATION_DESC = "MEX_ORIENTATION_DESC.TXT"
SPACECRAFT_POINTING_MODE = ACROSSTRACK
^MEX_POINTING_DESC = "MEX_POINTING_DESC.TXT"
RIGHT_ASCENSION = -1e+32
DECLINATION = -1e+32
OFFSET_ANGLE = 0.4
SPACECRAFT_SOLAR_DISTANCE = 2.24885e+08
TARGET_NAME = MARS
/* CAMERA DATA ELEMENTS */
DETECTOR_TEMPERATURE = 18.7783
FOCAL_PLANE_TEMPERATURE = 8.5833
INST_CMPRS_NAME = "DISCRETE COSINE TRANSFORMATION (DCT)"
INST_CMPRS_RATIO = 18.9886
INST_CMPRS_QUALITY = 0
INST_CMPRS_QUANTZ_TBL_ID = 0
INSTRUMENT_TEMPERATURE = 11.4379
LENS_TEMPERATURE = 9.195
MACROPIXEL_SIZE = 8
MISSING_FRAMES = 0
PIXEL_SUBSAMPLING_FLAG = N
SIGNAL_CHAIN_ID = 2
/* RADIOMETRIC DATA ELEMENTS */
BANDWIDTH = 48.0
CENTER_FILTER_WAVELENGTH = 748.0
RADIANCE_OFFSET = 1.28668
RADIANCE_SCALING_FACTOR = 0.00427936
REFLECTANCE_SCALING_FACTOR = 0.000493885
MEX:REFLECTANCE_OFFSET = 0.148497
/* IMAGE OBJECT DEFINITIONS */
OBJECT = IMAGE
  INTERCHANGE_FORMAT = BINARY
  LINES = 10328
  LINE_SAMPLES = 776
  SAMPLE_TYPE = UNSIGNED_INTEGER
  SAMPLE_BITS = 8
  BANDS = 1
  BAND_STORAGE_TYPE = BAND_SEQUENTIAL
  MAXIMUM = 255
  MEAN = 134.083
  MINIMUM = 1
  STANDARD_DEVIATION = 27.8658
END_OBJECT = IMAGE
/* MAP OBJECT DEFINITIONS */
OBJECT = IMAGE_MAP_PROJECTION
  ^DATA_SET_MAP_PROJECTION_CATALOG= "DSMAP.CAT"
  A_AXIS_RADIUS = 3396.0
  B_AXIS_RADIUS = 3396.0
  C_AXIS_RADIUS = 3396.0
  CENTER_LATITUDE = 0.0
  CENTER_LONGITUDE = 20.0
  COORDINATE_SYSTEM_NAME = PLANETOGRAPHIC
  COORDINATE_SYSTEM_TYPE = "BODY-FIXED ROTATING"
  EASTERNMOST_LONGITUDE = 21.1817
  FIRST_STANDARD_PARALLEL = "N/A"
  LINE_FIRST_PIXEL = 1
  LINE_LAST_PIXEL = 10328
  LINE_PROJECTION_OFFSET = 17623.3125
  MAP_PROJECTION_ROTATION = 0.0
  MAP_PROJECTION_TYPE = SINUSOIDAL
  MAP_RESOLUTION = 592.713803866667
  MAP_SCALE = 0.1
  MAXIMUM_LATITUDE = 29.703
  MINIMUM_LATITUDE = 12.3056
  POSITIVE_LONGITUDE_DIRECTION = EAST
  REFERENCE_LATITUDE = "N/A"
  REFERENCE_LONGITUDE = "N/A"
  SAMPLE_FIRST_PIXEL = 1
  SAMPLE_LAST_PIXEL = 776
  SAMPLE_PROJECTION_OFFSET = 127.3125
  SECOND_STANDARD_PARALLEL = "N/A"
  WESTERNMOST_LONGITUDE = 19.7712
END_OBJECT = IMAGE_MAP_PROJECTION
END
