PDS_VERSION_ID = PDS3
/* FILE DATA ELEMENTS */
RECORD_TYPE = UNDEFINED
/* POINTERS TO DATA OBJECTS */
^IMAGE = ("H7307_0000_P14.TIF")
/* IDENTIFICATION DATA ELEMENTS */
DATA_SET_ID = "MEX-M-HRSC-4-REFDR-MAPPROJECT-EXT3-V4.0"
DATA_SET_NAME = "MARS EXPRESS HRSC MAP PROJECTED REFDR EXTENSION3 V4.0"
DETECTOR_ID = MEX_HRSC_P1
EVENT_TYPE = "MARS-REGIONAL-MAPPING-Vo-Im-Eo"
INSTRUMENT_HOST_ID = MEX
INSTRUMENT_HOST_NAME = "MARS EXPRESS"
INSTRUMENT_ID = HRSC
INSTRUMENT_NAME = "HIGH RESOLUTION STEREO CAMERA"
MISSION_NAME = "MARS EXPRESS"
MISSION_PHASE_NAME = ME_Phase_18
PROCESSING_LEVEL_ID = 4
PRODUCT_CREATION_TIME = 2023-02-01T22:33:16.000Z
PRODUCT_ID = "H7307_0000_P14.TIF"
RELEASE_ID = 0002
REVISION_ID = 0000
/* QUALITY DATA ELEMENTS */
DATA_QUALITY_ID = 1
DATA_QUALITY_DESC = "Data calculated based on original SPICE kernels"
/* TIME DATA ELEMENTS */
SPACECRAFT_CLOCK_START_COUNT = "1/0200895171.08397"
SPACECRAFT_CLOCK_STOP_COUNT = "1/0200895406.57092"
START_TIME = 2009-09-13T04:13:04.080Z
STOP_TIME = 2009-09-13T04:15:47.945Z
/* ORBITAL DATA ELEMENTS */
ASCENDING_NODE_LONGITUDE = 78.05
MAXIMUM_RESOLUTION = 0.0282 <m/pixel>
FOOTPRINT_POINT_LATITUDE = (19.9931,19.9942,19.9936,19.9918, 19.9917,19.9845,19.6707,19.3567,19.1469 ,18.9368,18.5184,18.1036,17.8932, 17.6828,17.473,17.2631,17.0533,16.8434, 16.6337,16.4241,16.2142,15.8997,15.6898 ,15.4801,15.2704,15.0606,14.8505, 14.5359,14.326,13.9075,13.6941,13.4821, 13.0678,12.8577,12.648,12.4382,12.1235, 11.9138,11.7039,11.285,11.0753,10.8657, 10.4469,10.0719,9.70014,9.45058,9.32589 ,9.30018,9.29969,9.29858,9.29613, 9.29299,9.29286,9.29333,9.66809,9.91809 ,10.2931,10.5244,10.7339,11.0485, 11.2583,11.4678,11.6776,11.9921,12.2019 ,12.4116,12.6215,12.8315,13.0415, 13.3565,13.6715,13.8814,14.1962,14.406, 14.6162,14.8264,15.0364,15.2461,15.4562 ,15.771,15.9809,16.1908,16.4009,16.7159 ,16.9258,17.1358,17.4508,17.6608, 17.8706,18.0801,18.2898,18.4995,18.7091 ,18.9189,19.1287,19.3382,19.548,19.8612 ,19.9647,19.9931)
FOOTPRINT_POINT_LONGITUDE = (64.0417,63.6608,63.1448,62.7882, 62.7759,62.7686,62.7696,62.7704,62.7705 ,62.7705,62.7712,62.7734,62.773,62.7725 ,62.7722,62.7718,62.7714,62.7709, 62.7704,62.7699,62.7692,62.7681,62.7672 ,62.7663,62.7654,62.7644,62.7631, 62.7614,62.7601,62.7577,62.7545,62.7519 ,62.751,62.7491,62.7473,62.7453,62.7422 ,62.7401,62.7378,62.7335,62.731,62.7286 ,62.7236,62.7173,62.7138,62.7105, 62.7088,62.7085,62.9255,63.2194,63.6156 ,64.0116,64.0244,64.029,64.029,64.0289, 64.029,64.0288,64.0289,64.0289,64.029, 64.0292,64.0293,64.0296,64.0298,64.03, 64.0302,64.0304,64.0306,64.0308,64.0312 ,64.0315,64.032,64.0324,64.0327,64.0329 ,64.0332,64.0337,64.034,64.0347,64.0351 ,64.0355,64.0359,64.0364,64.0369, 64.0373,64.0379,64.0383,64.0388,64.0394 ,64.0399,64.0404,64.041,64.0414,64.0419 ,64.0424,64.0428,64.0442,64.0451, 64.0417)
ORBIT_NUMBER = 7307
ORBITAL_ECCENTRICITY = 0.574
ORBITAL_INCLINATION = 86.82
ORBITAL_SEMIMAJOR_AXIS = 8763.99
PERIAPSIS_ALTITUDE = 343.15
PERIAPSIS_ARGUMENT_ANGLE = 156.48
PERIAPSIS_TIME = 2009-09-13T04:12:30.000Z
SPACECRAFT_ORIENTATION = (0.0,-1.0,0.0)
^MEX_ORIENTATION_DESC = "MEX_ORIENTATION_DESC.TXT"
SPACECRAFT_POINTING_MODE = ACROSSTRACK
^MEX_POINTING_DESC = "MEX_POINTING_DESC.TXT"
RIGHT_ASCENSION = -1e+32
DECLINATION = -1e+32
OFFSET_ANGLE = 0.0
SPACECRAFT_SOLAR_DISTANCE = 2.24661e+08
TARGET_NAME = MARS
/* CAMERA DATA ELEMENTS */
DETECTOR_TEMPERATURE = 17.351 <degC>
FOCAL_PLANE_TEMPERATURE = 8.3794 <degC>
INST_CMPRS_NAME = "DISCRETE COSINE TRANSFORMATION (DCT)"
INST_CMPRS_RATIO = 13.9161
INST_CMPRS_QUALITY = 0
INST_CMPRS_QUANTZ_TBL_ID = 0
INSTRUMENT_TEMPERATURE = 11.234 <degC>
LENS_TEMPERATURE = 8.7872 <degC>
MACROPIXEL_SIZE = 2
MISSING_FRAMES = 0
PIXEL_SUBSAMPLING_FLAG = N
SIGNAL_CHAIN_ID = 3
/* RADIOMETRIC DATA ELEMENTS */
BANDWIDTH = 174.0 <nm>
CENTER_FILTER_WAVELENGTH = 675.0 <nm>
RADIANCE_OFFSET = 3.17986 <W*m**-2*sr**-1>
RADIANCE_SCALING_FACTOR = 0.0136768 <W*m**-2*sr**-1>
REFLECTANCE_SCALING_FACTOR = 0.0003713
MEX:REFLECTANCE_OFFSET = 0.0863273
/* IMAGE OBJECT DEFINITIONS */
OBJECT = IMAGE
  INTERCHANGE_FORMAT = BINARY
  LINES = 25347
  LINE_SAMPLES = 3154
  SAMPLE_TYPE = UNSIGNED_INTEGER
  SAMPLE_BITS = 8
  BANDS = 1
  BAND_STORAGE_TYPE = BAND_SEQUENTIAL
  MAXIMUM = 255
  MEAN = 96.1329
  MINIMUM = 1
  STANDARD_DEVIATION = 31.8547
END_OBJECT = IMAGE
/* MAP OBJECT DEFINITIONS */
OBJECT = IMAGE_MAP_PROJECTION
  ^DATA_SET_MAP_PROJECTION_CATALOG= "DSMAP.CAT"
  A_AXIS_RADIUS = 3396.0 <km>
  B_AXIS_RADIUS = 3396.0 <km>
  C_AXIS_RADIUS = 3396.0 <km>
  CENTER_LATITUDE = 0.0
  CENTER_LONGITUDE = 63.0
  COORDINATE_SYSTEM_NAME = PLANETOGRAPHIC
  COORDINATE_SYSTEM_TYPE = "BODY-FIXED ROTATING"
  EASTERNMOST_LONGITUDE = 64.04510000000001
  FIRST_STANDARD_PARALLEL = "N/A"
  LINE_FIRST_PIXEL = 1
  LINE_LAST_PIXEL = 25347
  LINE_PROJECTION_OFFSET = 47359.25
  MAP_PROJECTION_ROTATION = 0.0
  MAP_PROJECTION_TYPE = SINUSOIDAL
  MAP_RESOLUTION = 2370.85521546667 <pixel/degree>
  MAP_SCALE = 0.025 <km/pixel>
  MAXIMUM_LATITUDE = 19.9942
  MINIMUM_LATITUDE = 9.292859999999999
  POSITIVE_LONGITUDE_DIRECTION = EAST
  REFERENCE_LATITUDE = "N/A"
  REFERENCE_LONGITUDE = "N/A"
  SAMPLE_FIRST_PIXEL = 1
  SAMPLE_LAST_PIXEL = 3154
  SAMPLE_PROJECTION_OFFSET = 714.25
  SECOND_STANDARD_PARALLEL = "N/A"
  WESTERNMOST_LONGITUDE = 62.7085
END_OBJECT = IMAGE_MAP_PROJECTION
END
