PDS_VERSION_ID = PDS3
/* FILE DATA ELEMENTS */
RECORD_TYPE = UNDEFINED
/* POINTERS TO DATA OBJECTS */
^IMAGE = ("H7307_0000_GR4.TIF")
/* IDENTIFICATION DATA ELEMENTS */
DATA_SET_ID = "MEX-M-HRSC-4-REFDR-MAPPROJECT-EXT3-V4.0"
DATA_SET_NAME = "MARS EXPRESS HRSC MAP PROJECTED REFDR EXTENSION3 V4.0"
DETECTOR_ID = MEX_HRSC_GREEN
EVENT_TYPE = "MARS-REGIONAL-MAPPING-Vo-Im-Eo"
INSTRUMENT_HOST_ID = MEX
INSTRUMENT_HOST_NAME = "MARS EXPRESS"
INSTRUMENT_ID = HRSC
INSTRUMENT_NAME = "HIGH RESOLUTION STEREO CAMERA"
MISSION_NAME = "MARS EXPRESS"
MISSION_PHASE_NAME = ME_Phase_18
PROCESSING_LEVEL_ID = 4
PRODUCT_CREATION_TIME = 2023-02-01T22:33:16.000Z
PRODUCT_ID = "H7307_0000_GR4.TIF"
RELEASE_ID = 0002
REVISION_ID = 0000
/* QUALITY DATA ELEMENTS */
DATA_QUALITY_ID = 1
DATA_QUALITY_DESC = "Data calculated based on original SPICE kernels"
/* TIME DATA ELEMENTS */
SPACECRAFT_CLOCK_START_COUNT = "1/0200895171.08397"
SPACECRAFT_CLOCK_STOP_COUNT = "1/0200895406.57092"
START_TIME = 2009-09-13T04:13:19.361Z
STOP_TIME = 2009-09-13T04:16:04.644Z
/* ORBITAL DATA ELEMENTS */
ASCENDING_NODE_LONGITUDE = 78.05
MAXIMUM_RESOLUTION = 0.1101
FOOTPRINT_POINT_LATITUDE = (19.9674,19.9688,19.9689,19.968,19.968, 19.9646,19.6552,19.3459,19.1396,18.8301 ,18.6239,18.4181,18.2129,18.0068, 17.8005,17.5944,17.3884,17.1824,16.9764 ,16.7706,16.5648,16.359,16.1533,15.9476 ,15.742,15.5364,15.3309,15.1254,14.8173 ,14.612,14.4067,14.2017,13.8941,13.6884 ,13.3807,12.7672,12.358,11.9492,11.5407 ,11.3101,11.0666,10.8232,10.58,10.3371, 10.0933,9.7299,9.48738,9.36619,9.28945, 9.28814,9.2856,9.28344,9.27998,9.27986, 9.2818,9.52442,9.76715,10.0101,10.2532, 10.4965,10.7398,10.9833,11.227,11.4699, 11.8786,12.2877,12.6971,13.1069,13.517, 13.7222,13.9273,14.1326,14.3379,14.5433 ,14.7489,14.9544,15.16,15.3656,15.5713, 15.7771,15.9829,16.1887,16.3947,16.6007 ,16.8067,17.0127,17.2189,17.425,17.6312 ,17.8374,18.1467,18.353,18.5593,18.7656 ,18.972,19.1784,19.4881,19.7973,19.9006 ,19.9674)
FOOTPRINT_POINT_LONGITUDE = (64.0408,63.5333,63.1796,62.8018,62.79, 62.7808,62.7815,62.782,62.782,62.7819, 62.7819,62.7825,62.7841,62.7839,62.7832 ,62.7827,62.7822,62.7817,62.7811, 62.7804,62.7798,62.7791,62.7783,62.7774 ,62.7765,62.7754,62.7744,62.7733, 62.7713,62.7701,62.7687,62.7675,62.7653 ,62.7625,62.7592,62.7553,62.7513, 62.7469,62.7425,62.7398,62.7368,62.7338 ,62.7307,62.7278,62.7229,62.7192, 62.7158,62.7141,62.713,62.9599,63.3448, 63.6182,64.0156,64.0281,64.0364,64.0361 ,64.0359,64.0356,64.0355,64.0351, 64.0351,64.0349,64.0348,64.0348,64.0348 ,64.0348,64.0349,64.0349,64.035,64.0351 ,64.0353,64.0355,64.0356,64.0358, 64.0359,64.036,64.0362,64.0365,64.0367, 64.037,64.0372,64.0375,64.0377,64.0378, 64.0382,64.0384,64.0386,64.0388,64.0391 ,64.0394,64.0401,64.0404,64.0407, 64.0411,64.0414,64.0417,64.0421,64.0435 ,64.0437,64.0408)
ORBIT_NUMBER = 7307
ORBITAL_ECCENTRICITY = 0.574
ORBITAL_INCLINATION = 86.82
ORBITAL_SEMIMAJOR_AXIS = 8763.99
PERIAPSIS_ALTITUDE = 343.15
PERIAPSIS_ARGUMENT_ANGLE = 156.48
PERIAPSIS_TIME = 2009-09-13T04:12:30.000Z
SPACECRAFT_ORIENTATION = (0.0,-1.0,0.0)
^MEX_ORIENTATION_DESC = "MEX_ORIENTATION_DESC.TXT"
SPACECRAFT_POINTING_MODE = ACROSSTRACK
^MEX_POINTING_DESC = "MEX_POINTING_DESC.TXT"
RIGHT_ASCENSION = -1e+32
DECLINATION = -1e+32
OFFSET_ANGLE = 0.0
SPACECRAFT_SOLAR_DISTANCE = 2.24661e+08
TARGET_NAME = MARS
/* CAMERA DATA ELEMENTS */
DETECTOR_TEMPERATURE = 18.3705
FOCAL_PLANE_TEMPERATURE = 8.3794
INST_CMPRS_NAME = "DISCRETE COSINE TRANSFORMATION (DCT)"
INST_CMPRS_RATIO = 18.7957
INST_CMPRS_QUALITY = 0
INST_CMPRS_QUANTZ_TBL_ID = 0
INSTRUMENT_TEMPERATURE = 11.234
LENS_TEMPERATURE = 8.7872
MACROPIXEL_SIZE = 8
MISSING_FRAMES = 0
PIXEL_SUBSAMPLING_FLAG = N
SIGNAL_CHAIN_ID = 2
/* RADIOMETRIC DATA ELEMENTS */
BANDWIDTH = 88.0
CENTER_FILTER_WAVELENGTH = 538.0
RADIANCE_OFFSET = 1.19006
RADIANCE_SCALING_FACTOR = 0.00384048
REFLECTANCE_SCALING_FACTOR = 0.00016689
MEX:REFLECTANCE_OFFSET = 0.0517147
/* IMAGE OBJECT DEFINITIONS */
OBJECT = IMAGE
  INTERCHANGE_FORMAT = BINARY
  LINES = 6337
  LINE_SAMPLES = 789
  SAMPLE_TYPE = UNSIGNED_INTEGER
  SAMPLE_BITS = 8
  BANDS = 1
  BAND_STORAGE_TYPE = BAND_SEQUENTIAL
  MAXIMUM = 255
  MEAN = 122.499
  MINIMUM = 1
  STANDARD_DEVIATION = 24.2109
END_OBJECT = IMAGE
/* MAP OBJECT DEFINITIONS */
OBJECT = IMAGE_MAP_PROJECTION
  ^DATA_SET_MAP_PROJECTION_CATALOG= "DSMAP.CAT"
  A_AXIS_RADIUS = 3396.0
  B_AXIS_RADIUS = 3396.0
  C_AXIS_RADIUS = 3396.0
  CENTER_LATITUDE = 0.0
  CENTER_LONGITUDE = 63.0
  COORDINATE_SYSTEM_NAME = PLANETOGRAPHIC
  COORDINATE_SYSTEM_TYPE = "BODY-FIXED ROTATING"
  EASTERNMOST_LONGITUDE = 64.0437
  FIRST_STANDARD_PARALLEL = "N/A"
  LINE_FIRST_PIXEL = 1
  LINE_LAST_PIXEL = 6337
  LINE_PROJECTION_OFFSET = 11839.4375
  MAP_PROJECTION_ROTATION = 0.0
  MAP_PROJECTION_TYPE = SINUSOIDAL
  MAP_RESOLUTION = 592.713803866667
  MAP_SCALE = 0.1
  MAXIMUM_LATITUDE = 19.9689
  MINIMUM_LATITUDE = 9.279859999999999
  POSITIVE_LONGITUDE_DIRECTION = EAST
  REFERENCE_LATITUDE = "N/A"
  REFERENCE_LONGITUDE = "N/A"
  SAMPLE_FIRST_PIXEL = 1
  SAMPLE_LAST_PIXEL = 789
  SAMPLE_PROJECTION_OFFSET = 178.1875
  SECOND_STANDARD_PARALLEL = "N/A"
  WESTERNMOST_LONGITUDE = 62.713
END_OBJECT = IMAGE_MAP_PROJECTION
END
