PDS_VERSION_ID = PDS3
/* FILE DATA ELEMENTS */
RECORD_TYPE = UNDEFINED
/* POINTERS TO DATA OBJECTS */
^IMAGE = ("H7303_0000_IR4.TIF")
/* IDENTIFICATION DATA ELEMENTS */
DATA_SET_ID = "MEX-M-HRSC-4-REFDR-MAPPROJECT-EXT3-V4.0"
DATA_SET_NAME = "MARS EXPRESS HRSC MAP PROJECTED REFDR EXTENSION3 V4.0"
DETECTOR_ID = MEX_HRSC_IR
EVENT_TYPE = "MARS-REGIONAL-MAPPING-Te-Fl"
INSTRUMENT_HOST_ID = MEX
INSTRUMENT_HOST_NAME = "MARS EXPRESS"
INSTRUMENT_ID = HRSC
INSTRUMENT_NAME = "HIGH RESOLUTION STEREO CAMERA"
MISSION_NAME = "MARS EXPRESS"
MISSION_PHASE_NAME = ME_Phase_18
PROCESSING_LEVEL_ID = 4
PRODUCT_CREATION_TIME = 2023-02-01T22:33:16.000Z
PRODUCT_ID = "H7303_0000_IR4.TIF"
RELEASE_ID = 0002
REVISION_ID = 0000
/* QUALITY DATA ELEMENTS */
DATA_QUALITY_ID = 1
DATA_QUALITY_DESC = "Data calculated based on original SPICE kernels"
/* TIME DATA ELEMENTS */
SPACECRAFT_CLOCK_START_COUNT = "1/0200795888.08236"
SPACECRAFT_CLOCK_STOP_COUNT = "1/0200796138.08453"
START_TIME = 2009-09-12T00:38:16.100Z
STOP_TIME = 2009-09-12T00:41:11.589Z
/* ORBITAL DATA ELEMENTS */
ASCENDING_NODE_LONGITUDE = 78.13
MAXIMUM_RESOLUTION = 0.1157
FOOTPRINT_POINT_LATITUDE = (18.8081,18.8237,18.8342,18.8431, 18.8434,18.8154,18.5945,18.3738,18.153, 17.8217,17.6007,17.2694,17.0485,16.827, 16.6059,16.385,16.0533,15.7214,15.4998, 15.2784,15.0568,14.8351,14.614,14.3921, 13.9501,13.7273,13.3951,13.1721,12.9505 ,12.7285,12.3959,11.9527,11.7311, 11.5097,11.0706,10.8484,10.4069,10.1837 ,9.96316,9.74052,9.519,9.25668,8.85978, 8.59397,8.32973,8.06472,7.80424,7.53939 ,7.40386,7.33961,7.33108,7.32563, 7.31626,7.29877,7.29829,7.30005,7.69649 ,8.09247,8.35719,8.62227,8.89008,9.1539 ,9.53654,9.75958,10.0925,10.3144, 10.6474,11.087,11.3093,11.7508,11.9724, 12.3053,12.5273,12.7483,12.9707,13.192, 13.4144,13.6365,13.8584,14.1911,14.413, 14.6348,14.9674,15.189,15.4111,15.7435, 15.9646,16.1862,16.4076,16.6287,16.8502 ,17.1818,17.4034,17.7346,17.9556, 18.1765,18.3974,18.6186,18.7291, 18.8081)
FOOTPRINT_POINT_LONGITUDE = (107.943,107.451,107.073,106.7,106.688, 106.681,106.68,106.68,106.679,106.679, 106.678,106.677,106.676,106.675,106.674 ,106.673,106.671,106.669,106.668, 106.666,106.665,106.663,106.661,106.66, 106.656,106.654,106.651,106.649,106.647 ,106.645,106.641,106.637,106.634, 106.632,106.627,106.624,106.618,106.615 ,106.612,106.609,106.606,106.603, 106.597,106.593,106.589,106.584,106.58, 106.576,106.574,106.572,106.843,107.092 ,107.493,107.889,107.902,107.911, 107.911,107.912,107.913,107.913,107.911 ,107.912,107.913,107.913,107.914, 107.914,107.915,107.919,107.92,107.923, 107.924,107.925,107.926,107.928,107.928 ,107.93,107.93,107.931,107.932,107.934, 107.935,107.936,107.938,107.939,107.94, 107.942,107.943,107.945,107.946,107.948 ,107.949,107.951,107.952,107.955, 107.956,107.958,107.96,107.961,107.962, 107.943)
ORBIT_NUMBER = 7303
ORBITAL_ECCENTRICITY = 0.574
ORBITAL_INCLINATION = 86.8
ORBITAL_SEMIMAJOR_AXIS = 8764.76
PERIAPSIS_ALTITUDE = 342.66
PERIAPSIS_ARGUMENT_ANGLE = 157.16
PERIAPSIS_TIME = 2009-09-12T00:37:40.000Z
SPACECRAFT_ORIENTATION = (0.0,-1.0,0.0)
^MEX_ORIENTATION_DESC = "MEX_ORIENTATION_DESC.TXT"
SPACECRAFT_POINTING_MODE = ACROSSTRACK
^MEX_POINTING_DESC = "MEX_POINTING_DESC.TXT"
RIGHT_ASCENSION = -1e+32
DECLINATION = -1e+32
OFFSET_ANGLE = 0.5
SPACECRAFT_SOLAR_DISTANCE = 2.24437e+08
TARGET_NAME = MARS
/* CAMERA DATA ELEMENTS */
DETECTOR_TEMPERATURE = 17.5549
FOCAL_PLANE_TEMPERATURE = 8.3794
INST_CMPRS_NAME = "DISCRETE COSINE TRANSFORMATION (DCT)"
INST_CMPRS_RATIO = 17.5567
INST_CMPRS_QUALITY = 0
INST_CMPRS_QUANTZ_TBL_ID = 0
INSTRUMENT_TEMPERATURE = 11.0301
LENS_TEMPERATURE = 8.7872
MACROPIXEL_SIZE = 8
MISSING_FRAMES = 0
PIXEL_SUBSAMPLING_FLAG = N
SIGNAL_CHAIN_ID = 2
/* RADIOMETRIC DATA ELEMENTS */
BANDWIDTH = 81.0
CENTER_FILTER_WAVELENGTH = 955.5
RADIANCE_OFFSET = 1.19014
RADIANCE_SCALING_FACTOR = 0.00425365
REFLECTANCE_SCALING_FACTOR = 0.000462248
MEX:REFLECTANCE_OFFSET = 0.129333
/* IMAGE OBJECT DEFINITIONS */
OBJECT = IMAGE
  INTERCHANGE_FORMAT = BINARY
  LINES = 6824
  LINE_SAMPLES = 816
  SAMPLE_TYPE = UNSIGNED_INTEGER
  SAMPLE_BITS = 8
  BANDS = 1
  BAND_STORAGE_TYPE = BAND_SEQUENTIAL
  MAXIMUM = 255
  MEAN = 90.6361
  MINIMUM = 1
  STANDARD_DEVIATION = 24.7238
END_OBJECT = IMAGE
/* MAP OBJECT DEFINITIONS */
OBJECT = IMAGE_MAP_PROJECTION
  ^DATA_SET_MAP_PROJECTION_CATALOG= "DSMAP.CAT"
  A_AXIS_RADIUS = 3396.0
  B_AXIS_RADIUS = 3396.0
  C_AXIS_RADIUS = 3396.0
  CENTER_LATITUDE = 0.0
  CENTER_LONGITUDE = 107.0
  COORDINATE_SYSTEM_NAME = PLANETOGRAPHIC
  COORDINATE_SYSTEM_TYPE = "BODY-FIXED ROTATING"
  EASTERNMOST_LONGITUDE = 107.962
  FIRST_STANDARD_PARALLEL = "N/A"
  LINE_FIRST_PIXEL = 1
  LINE_LAST_PIXEL = 6824
  LINE_PROJECTION_OFFSET = 11158.8125
  MAP_PROJECTION_ROTATION = 0.0
  MAP_PROJECTION_TYPE = SINUSOIDAL
  MAP_RESOLUTION = 592.713803866667
  MAP_SCALE = 0.1
  MAXIMUM_LATITUDE = 18.8434
  MINIMUM_LATITUDE = 7.29829
  POSITIVE_LONGITUDE_DIRECTION = EAST
  REFERENCE_LATITUDE = "N/A"
  REFERENCE_LONGITUDE = "N/A"
  SAMPLE_FIRST_PIXEL = 1
  SAMPLE_LAST_PIXEL = 816
  SAMPLE_PROJECTION_OFFSET = 270.9375
  SECOND_STANDARD_PARALLEL = "N/A"
  WESTERNMOST_LONGITUDE = 106.572
END_OBJECT = IMAGE_MAP_PROJECTION
END
