PDS_VERSION_ID = PDS3
/* FILE DATA ELEMENTS */
RECORD_TYPE = UNDEFINED
/* POINTERS TO DATA OBJECTS */
^IMAGE = ("H7300_0000_S24.TIF")
/* IDENTIFICATION DATA ELEMENTS */
DATA_SET_ID = "MEX-M-HRSC-4-REFDR-MAPPROJECT-EXT3-V4.0"
DATA_SET_NAME = "MARS EXPRESS HRSC MAP PROJECTED REFDR EXTENSION3 V4.0"
DETECTOR_ID = MEX_HRSC_S2
EVENT_TYPE = "MARS-REGIONAL-MAPPING-Im-Fl"
INSTRUMENT_HOST_ID = MEX
INSTRUMENT_HOST_NAME = "MARS EXPRESS"
INSTRUMENT_ID = HRSC
INSTRUMENT_NAME = "HIGH RESOLUTION STEREO CAMERA"
MISSION_NAME = "MARS EXPRESS"
MISSION_PHASE_NAME = ME_Phase_18
PROCESSING_LEVEL_ID = 4
PRODUCT_CREATION_TIME = 2023-02-01T22:33:16.000Z
PRODUCT_ID = "H7300_0000_S24.TIF"
RELEASE_ID = 0002
REVISION_ID = 0000
/* QUALITY DATA ELEMENTS */
DATA_QUALITY_ID = 1
DATA_QUALITY_DESC = "Data calculated based on original SPICE kernels"
/* TIME DATA ELEMENTS */
SPACECRAFT_CLOCK_START_COUNT = "1/0200721622.09064"
SPACECRAFT_CLOCK_STOP_COUNT = "1/0200721888.30999"
START_TIME = 2009-09-11T04:01:40.020Z
STOP_TIME = 2009-09-11T04:04:48.979Z
/* ORBITAL DATA ELEMENTS */
ASCENDING_NODE_LONGITUDE = 78.18
MAXIMUM_RESOLUTION = 0.0359
FOOTPRINT_POINT_LATITUDE = (5.09477,5.08782,5.08313,5.07878, 5.07482,5.07115,5.06774,5.06754,5.05845 ,4.64437,4.24098,3.72288,3.41335,2.9964 ,2.68007,2.47074,2.26063,1.94017, 1.72601,1.51167,1.29951,1.08252,0.86538 ,0.646818,0.431007,0.101097,-0.11887, -0.449242,-0.66832,-0.887054,-1.10539, -1.32338,-1.5407,-1.75881,-1.97565, -2.19097,-2.40687,-2.62247,-2.94415, -3.15849,-3.47739,-3.6905,-3.90477, -4.11753,-4.32846,-4.54006,-4.85559, -5.06498,-5.27432,-5.48358,-5.58805, -5.62137,-5.61945,-5.61743,-5.60998, -5.60894,-5.60185,-5.60147,-5.60083, -5.38706,-4.96677,-4.55143,-4.34064, -4.1291,-3.91956,-3.70496,-3.386, -3.1726,-2.95865,-2.63634,-2.31197, -2.09531,-1.88048,-1.66404,-1.44606, -1.22525,-0.897129,-0.678111,-0.351827, -0.131306,0.0905823,0.310179,0.529258, 0.746267,0.962773,1.18107,1.39628, 1.6095,1.82363,2.04044,2.36043,2.67439, 2.88365,3.09631,3.51279,4.02769,4.33778 ,4.94788,5.04972,5.09477)
FOOTPRINT_POINT_LONGITUDE = (50.4864,50.1624,49.9284,49.6957, 49.4646,49.2344,49.0052,48.9909,48.987, 48.9779,48.9678,48.9549,48.9469,48.9361 ,48.9277,48.922,48.9163,48.9076,48.9016 ,48.8956,48.8895,48.8832,48.8769, 48.8706,48.8641,48.8541,48.8473,48.8371 ,48.8302,48.8233,48.8162,48.8092, 48.8021,48.795,48.7878,48.7805,48.7732, 48.7658,48.7546,48.7471,48.7356,48.728, 48.7205,48.7128,48.705,48.6972,48.6853, 48.6773,48.6692,48.6612,48.6572,48.6559 ,49.0079,49.3616,49.6615,50.1309, 50.5665,50.5855,50.5924,50.5912,50.5849 ,50.5757,50.5723,50.5691,50.5647, 50.5626,50.5577,50.5545,50.5515,50.5473 ,50.5437,50.5412,50.5377,50.5349, 50.5326,50.5314,50.528,50.5256,50.5205, 50.5185,50.5168,50.514,50.5123,50.5103, 50.5079,50.5063,50.5044,50.5024,50.5008 ,50.5003,50.4987,50.4956,50.4934, 50.4928,50.4906,50.4857,50.4841,50.4807 ,50.4801,50.4864)
ORBIT_NUMBER = 7300
ORBITAL_ECCENTRICITY = 0.574
ORBITAL_INCLINATION = 86.81
ORBITAL_SEMIMAJOR_AXIS = 8765.4
PERIAPSIS_ALTITUDE = 342.62
PERIAPSIS_ARGUMENT_ANGLE = 157.72
PERIAPSIS_TIME = 2009-09-11T03:56:33.000Z
SPACECRAFT_ORIENTATION = (0.0,-1.0,0.0)
^MEX_ORIENTATION_DESC = "MEX_ORIENTATION_DESC.TXT"
SPACECRAFT_POINTING_MODE = ACROSSTRACK
^MEX_POINTING_DESC = "MEX_POINTING_DESC.TXT"
RIGHT_ASCENSION = -1e+32
DECLINATION = -1e+32
OFFSET_ANGLE = 0.5
SPACECRAFT_SOLAR_DISTANCE = 2.24269e+08
TARGET_NAME = MARS
/* CAMERA DATA ELEMENTS */
DETECTOR_TEMPERATURE = 18.7783
FOCAL_PLANE_TEMPERATURE = 8.9911
INST_CMPRS_NAME = "DISCRETE COSINE TRANSFORMATION (DCT)"
INST_CMPRS_RATIO = 9.09355
INST_CMPRS_QUALITY = 0
INST_CMPRS_QUANTZ_TBL_ID = 0
INSTRUMENT_TEMPERATURE = 10.2145
LENS_TEMPERATURE = 9.8067
MACROPIXEL_SIZE = 2
MISSING_FRAMES = 0
PIXEL_SUBSAMPLING_FLAG = N
SIGNAL_CHAIN_ID = 1
/* RADIOMETRIC DATA ELEMENTS */
BANDWIDTH = 178.0
CENTER_FILTER_WAVELENGTH = 679.0
RADIANCE_OFFSET = 4.26187
RADIANCE_SCALING_FACTOR = 0.0188023
REFLECTANCE_SCALING_FACTOR = 0.00050082
MEX:REFLECTANCE_OFFSET = 0.113519
/* IMAGE OBJECT DEFINITIONS */
OBJECT = IMAGE
  INTERCHANGE_FORMAT = BINARY
  LINES = 25345
  LINE_SAMPLES = 4177
  SAMPLE_TYPE = UNSIGNED_INTEGER
  SAMPLE_BITS = 8
  BANDS = 1
  BAND_STORAGE_TYPE = BAND_SEQUENTIAL
  MAXIMUM = 255
  MEAN = 141.635
  MINIMUM = 1
  STANDARD_DEVIATION = 18.9456
END_OBJECT = IMAGE
/* MAP OBJECT DEFINITIONS */
OBJECT = IMAGE_MAP_PROJECTION
  ^DATA_SET_MAP_PROJECTION_CATALOG= "DSMAP.CAT"
  A_AXIS_RADIUS = 3396.0
  B_AXIS_RADIUS = 3396.0
  C_AXIS_RADIUS = 3396.0
  CENTER_LATITUDE = 0.0
  CENTER_LONGITUDE = 50.0
  COORDINATE_SYSTEM_NAME = PLANETOGRAPHIC
  COORDINATE_SYSTEM_TYPE = "BODY-FIXED ROTATING"
  EASTERNMOST_LONGITUDE = 50.5924
  FIRST_STANDARD_PARALLEL = "N/A"
  LINE_FIRST_PIXEL = 1
  LINE_LAST_PIXEL = 25345
  LINE_PROJECTION_OFFSET = 12088.75
  MAP_PROJECTION_ROTATION = 0.0
  MAP_PROJECTION_TYPE = SINUSOIDAL
  MAP_RESOLUTION = 2370.85521546667
  MAP_SCALE = 0.025
  MAXIMUM_LATITUDE = 5.09477
  MINIMUM_LATITUDE = -5.62137
  POSITIVE_LONGITUDE_DIRECTION = EAST
  REFERENCE_LATITUDE = "N/A"
  REFERENCE_LONGITUDE = "N/A"
  SAMPLE_FIRST_PIXEL = 1
  SAMPLE_LAST_PIXEL = 4177
  SAMPLE_PROJECTION_OFFSET = 2985.25
  SECOND_STANDARD_PARALLEL = "N/A"
  WESTERNMOST_LONGITUDE = 48.6559
END_OBJECT = IMAGE_MAP_PROJECTION
END
