PDS_VERSION_ID = PDS3
/* FILE DATA ELEMENTS */
RECORD_TYPE = UNDEFINED
/* POINTERS TO DATA OBJECTS */
^IMAGE = ("H7296_0000_BL4.TIF")
/* IDENTIFICATION DATA ELEMENTS */
DATA_SET_ID = "MEX-M-HRSC-4-REFDR-MAPPROJECT-EXT3-V4.0"
DATA_SET_NAME = "MARS EXPRESS HRSC MAP PROJECTED REFDR EXTENSION3 V4.0"
DETECTOR_ID = MEX_HRSC_BLUE
EVENT_TYPE = "MARS-REGIONAL-MAPPING-Vo-Te-Pf"
INSTRUMENT_HOST_ID = MEX
INSTRUMENT_HOST_NAME = "MARS EXPRESS"
INSTRUMENT_ID = HRSC
INSTRUMENT_NAME = "HIGH RESOLUTION STEREO CAMERA"
MISSION_NAME = "MARS EXPRESS"
MISSION_PHASE_NAME = ME_Phase_18
PROCESSING_LEVEL_ID = 4
PRODUCT_CREATION_TIME = 2023-02-01T22:33:16.000Z
PRODUCT_ID = "H7296_0000_BL4.TIF"
RELEASE_ID = 0002
REVISION_ID = 0000
/* QUALITY DATA ELEMENTS */
DATA_QUALITY_ID = 1
DATA_QUALITY_DESC = "Data calculated based on original SPICE kernels"
/* TIME DATA ELEMENTS */
SPACECRAFT_CLOCK_START_COUNT = "1/0200621981.07286"
SPACECRAFT_CLOCK_STOP_COUNT = "1/0200622216.14071"
START_TIME = 2009-09-10T00:20:21.310Z
STOP_TIME = 2009-09-10T00:23:10.079Z
/* ORBITAL DATA ELEMENTS */
ASCENDING_NODE_LONGITUDE = 78.27
MAXIMUM_RESOLUTION = 0.0552
FOOTPRINT_POINT_LATITUDE = (27.1201,27.1184,27.1127,27.1126, 27.1199,26.7926,26.5742,26.3559,26.1373 ,25.919,25.7004,25.4819,25.2634,25.0449 ,24.8264,24.6079,24.28,24.0615,23.8429, 23.6244,23.2965,23.0779,22.7501,22.5316 ,22.3132,21.9854,21.7669,21.5485, 21.3301,21.1117,20.8934,20.675,20.4567, 20.2384,20.0202,19.8021,19.5839,19.3658 ,19.1478,18.9297,18.7118,18.4939, 18.2761,18.0583,17.8406,17.6229,17.1878 ,16.7529,16.3184,16.2098,16.1602, 16.1599,16.1589,16.1571,16.157,16.1578, 16.5926,16.919,17.3543,17.572,17.7899, 18.0078,18.2257,18.4437,18.7709,18.989, 19.2073,19.5347,19.753,19.9714,20.1899, 20.4083,20.6268,20.8453,21.1731,21.3917 ,21.6103,21.8293,22.0479,22.2664, 22.5946,22.8133,23.0321,23.3602,23.6885 ,23.9073,24.1261,24.3448,24.6729, 24.8917,25.2198,25.4387,25.7669,25.9856 ,26.2042,26.4228,26.7508,26.9693, 27.0787,27.1201)
FOOTPRINT_POINT_LONGITUDE = (93.3089,92.7571,91.9797,91.9671,91.949 ,91.9548,91.9585,91.9622,91.9662, 91.9695,91.973,91.9764,91.9795,91.9826, 91.9855,91.9884,91.9925,91.9951,91.9976 ,91.9999,92.0034,92.0056,92.0087, 92.0104,92.0121,92.0146,92.0162,92.0177 ,92.019,92.0203,92.0214,92.0225,92.0235 ,92.0245,92.0252,92.0259,92.0266, 92.0271,92.0275,92.028,92.0283,92.0285, 92.0286,92.0287,92.0286,92.0285,92.0281 ,92.0273,92.0262,92.0259,92.0257, 92.4515,92.8424,93.2808,93.2926,93.2966 ,93.2972,93.2978,93.2984,93.2987, 93.2992,93.2996,93.3,93.3003,93.301, 93.3014,93.3019,93.3027,93.3031,93.3035 ,93.3041,93.3046,93.3051,93.3056, 93.3064,93.3069,93.3074,93.3084,93.3089 ,93.3091,93.3101,93.3107,93.3114, 93.3123,93.3133,93.314,93.3146,93.3152, 93.3162,93.3168,93.3178,93.3186,93.3199 ,93.3206,93.3213,93.3219,93.323,93.3237 ,93.3241,93.3089)
ORBIT_NUMBER = 7296
ORBITAL_ECCENTRICITY = 0.574
ORBITAL_INCLINATION = 86.81
ORBITAL_SEMIMAJOR_AXIS = 8766.67
PERIAPSIS_ALTITUDE = 341.73
PERIAPSIS_ARGUMENT_ANGLE = 158.37
PERIAPSIS_TIME = 2009-09-10T00:21:41.000Z
SPACECRAFT_ORIENTATION = (0.0,-1.0,0.0)
^MEX_ORIENTATION_DESC = "MEX_ORIENTATION_DESC.TXT"
SPACECRAFT_POINTING_MODE = NADIR
^MEX_POINTING_DESC = "MEX_POINTING_DESC.TXT"
RIGHT_ASCENSION = -1e+32
DECLINATION = -1e+32
OFFSET_ANGLE = -1e+32
SPACECRAFT_SOLAR_DISTANCE = 2.24045e+08
TARGET_NAME = MARS
/* CAMERA DATA ELEMENTS */
DETECTOR_TEMPERATURE = 18.3705
FOCAL_PLANE_TEMPERATURE = 8.7872
INST_CMPRS_NAME = "DISCRETE COSINE TRANSFORMATION (DCT)"
INST_CMPRS_RATIO = 12.307
INST_CMPRS_QUALITY = 0
INST_CMPRS_QUANTZ_TBL_ID = 0
INSTRUMENT_TEMPERATURE = 11.4379
LENS_TEMPERATURE = 9.3989
MACROPIXEL_SIZE = 4
MISSING_FRAMES = 0
PIXEL_SUBSAMPLING_FLAG = N
SIGNAL_CHAIN_ID = 2
/* RADIOMETRIC DATA ELEMENTS */
BANDWIDTH = 76.0
CENTER_FILTER_WAVELENGTH = 444.0
RADIANCE_OFFSET = 0.546122
RADIANCE_SCALING_FACTOR = 0.0010339
REFLECTANCE_SCALING_FACTOR = 5.33218e-05
MEX:REFLECTANCE_OFFSET = 0.0281653
/* IMAGE OBJECT DEFINITIONS */
OBJECT = IMAGE
  INTERCHANGE_FORMAT = BINARY
  LINES = 13025
  LINE_SAMPLES = 1464
  SAMPLE_TYPE = UNSIGNED_INTEGER
  SAMPLE_BITS = 8
  BANDS = 1
  BAND_STORAGE_TYPE = BAND_SEQUENTIAL
  MAXIMUM = 255
  MEAN = 143.099
  MINIMUM = 1
  STANDARD_DEVIATION = 25.1353
END_OBJECT = IMAGE
/* MAP OBJECT DEFINITIONS */
OBJECT = IMAGE_MAP_PROJECTION
  ^DATA_SET_MAP_PROJECTION_CATALOG= "DSMAP.CAT"
  A_AXIS_RADIUS = 3396.0
  B_AXIS_RADIUS = 3396.0
  C_AXIS_RADIUS = 3396.0
  CENTER_LATITUDE = 0.0
  CENTER_LONGITUDE = 93.0
  COORDINATE_SYSTEM_NAME = PLANETOGRAPHIC
  COORDINATE_SYSTEM_TYPE = "BODY-FIXED ROTATING"
  EASTERNMOST_LONGITUDE = 93.3241
  FIRST_STANDARD_PARALLEL = "N/A"
  LINE_FIRST_PIXEL = 1
  LINE_LAST_PIXEL = 13025
  LINE_PROJECTION_OFFSET = 32169.625
  MAP_PROJECTION_ROTATION = 0.0
  MAP_PROJECTION_TYPE = SINUSOIDAL
  MAP_RESOLUTION = 1185.42760773333
  MAP_SCALE = 0.05
  MAXIMUM_LATITUDE = 27.1201
  MINIMUM_LATITUDE = 16.157
  POSITIVE_LONGITUDE_DIRECTION = EAST
  REFERENCE_LATITUDE = "N/A"
  REFERENCE_LONGITUDE = "N/A"
  SAMPLE_FIRST_PIXEL = 1
  SAMPLE_LAST_PIXEL = 1464
  SAMPLE_PROJECTION_OFFSET = 1119.375
  SECOND_STANDARD_PARALLEL = "N/A"
  WESTERNMOST_LONGITUDE = 91.949
END_OBJECT = IMAGE_MAP_PROJECTION
END
