PDS_VERSION_ID = PDS3
/* FILE DATA ELEMENTS */
RECORD_TYPE = UNDEFINED
/* POINTERS TO DATA OBJECTS */
^IMAGE = ("H7295_0000_IR4.TIF")
/* IDENTIFICATION DATA ELEMENTS */
DATA_SET_ID = "MEX-M-HRSC-4-REFDR-MAPPROJECT-EXT3-V4.0"
DATA_SET_NAME = "MARS EXPRESS HRSC MAP PROJECTED REFDR EXTENSION3 V4.0"
DETECTOR_ID = MEX_HRSC_IR
EVENT_TYPE = "MARS-REGIONAL-MAPPING-Vo-Pf-Mw"
INSTRUMENT_HOST_ID = MEX
INSTRUMENT_HOST_NAME = "MARS EXPRESS"
INSTRUMENT_ID = HRSC
INSTRUMENT_NAME = "HIGH RESOLUTION STEREO CAMERA"
MISSION_NAME = "MARS EXPRESS"
MISSION_PHASE_NAME = ME_Phase_18
PROCESSING_LEVEL_ID = 4
PRODUCT_CREATION_TIME = 2023-02-01T22:33:16.000Z
PRODUCT_ID = "H7295_0000_IR4.TIF"
RELEASE_ID = 0002
REVISION_ID = 0000
/* QUALITY DATA ELEMENTS */
DATA_QUALITY_ID = 1
DATA_QUALITY_DESC = "Data calculated based on original SPICE kernels"
/* TIME DATA ELEMENTS */
SPACECRAFT_CLOCK_START_COUNT = "1/0200597244.08247"
SPACECRAFT_CLOCK_STOP_COUNT = "1/0200597611.31826"
START_TIME = 2009-09-09T17:27:31.993Z
STOP_TIME = 2009-09-09T17:32:19.790Z
/* ORBITAL DATA ELEMENTS */
ASCENDING_NODE_LONGITUDE = 78.28
MAXIMUM_RESOLUTION = 0.0578
FOOTPRINT_POINT_LATITUDE = (21.4573,21.4472,21.4357,21.4179, 21.4174,21.3802,21.0262,20.672,20.1409, 19.6082,19.2538,18.8965,18.5404,18.1842 ,17.8278,17.4711,16.9357,16.5787, 16.2213,15.8642,15.3278,14.9701,14.4329 ,13.8955,13.5373,13.0001,12.6415, 12.1037,11.7449,11.207,10.8481,10.4897, 10.1309,9.77258,9.41386,9.05537,8.51778 ,8.15901,7.73655,7.09485,6.66729, 6.02656,5.59936,5.1729,4.74554,4.1057, 3.67931,3.25332,2.82767,2.61505,2.59658 ,2.60315,2.60746,2.61315,2.61888, 2.61905,2.62013,3.25908,3.68529,4.11174 ,4.53838,4.96538,5.60675,6.2479,6.88978 ,7.31758,7.74576,8.35065,8.70946, 9.06838,9.4274,9.96595,10.5042,10.8632, 11.2222,11.7606,12.1195,12.4783,12.8371 ,13.196,13.5545,13.9132,14.4512,14.9883 ,15.5259,16.0627,16.4205,16.7781, 17.3142,17.8502,18.3858,18.9202,19.4541 ,19.8103,20.1649,20.5201,20.8749, 21.2294,21.4064,21.4573)
FOOTPRINT_POINT_LONGITUDE = (193.601,193.222,192.838,192.328, 192.315,192.287,192.291,192.295,192.301 ,192.306,192.309,192.311,192.313, 192.315,192.317,192.319,192.321,192.322 ,192.322,192.323,192.324,192.324, 192.323,192.322,192.321,192.319,192.318 ,192.315,192.313,192.309,192.307, 192.304,192.301,192.298,192.295,192.291 ,192.286,192.281,192.276,192.268, 192.262,192.253,192.246,192.24,192.233, 192.221,192.214,192.206,192.197,192.193 ,192.193,192.542,192.795,193.166, 193.599,193.612,193.616,193.614,193.613 ,193.612,193.611,193.61,193.609,193.608 ,193.607,193.606,193.606,193.605, 193.604,193.604,193.604,193.603,193.603 ,193.603,193.603,193.602,193.602, 193.602,193.602,193.602,193.602,193.602 ,193.602,193.602,193.602,193.602, 193.602,193.602,193.602,193.602,193.602 ,193.602,193.602,193.602,193.603, 193.603,193.603,193.603,193.603, 193.601)
ORBIT_NUMBER = 7295
ORBITAL_ECCENTRICITY = 0.573
ORBITAL_INCLINATION = 86.81
ORBITAL_SEMIMAJOR_AXIS = 8757.01
PERIAPSIS_ALTITUDE = 342.4
PERIAPSIS_ARGUMENT_ANGLE = 158.56
PERIAPSIS_TIME = 2009-09-09T17:27:57.000Z
SPACECRAFT_ORIENTATION = (0.0,-1.0,0.0)
^MEX_ORIENTATION_DESC = "MEX_ORIENTATION_DESC.TXT"
SPACECRAFT_POINTING_MODE = ACROSSTRACK
^MEX_POINTING_DESC = "MEX_POINTING_DESC.TXT"
RIGHT_ASCENSION = -1e+32
DECLINATION = -1e+32
OFFSET_ANGLE = -0.5
SPACECRAFT_SOLAR_DISTANCE = 2.23989e+08
TARGET_NAME = MARS
/* CAMERA DATA ELEMENTS */
DETECTOR_TEMPERATURE = 17.9627
FOCAL_PLANE_TEMPERATURE = 8.9911
INST_CMPRS_NAME = "DISCRETE COSINE TRANSFORMATION (DCT)"
INST_CMPRS_RATIO = 12.8813
INST_CMPRS_QUALITY = 0
INST_CMPRS_QUANTZ_TBL_ID = 0
INSTRUMENT_TEMPERATURE = 11.234
LENS_TEMPERATURE = 9.3989
MACROPIXEL_SIZE = 4
MISSING_FRAMES = 0
PIXEL_SUBSAMPLING_FLAG = N
SIGNAL_CHAIN_ID = 2
/* RADIOMETRIC DATA ELEMENTS */
BANDWIDTH = 81.0
CENTER_FILTER_WAVELENGTH = 955.5
RADIANCE_OFFSET = 1.54545
RADIANCE_SCALING_FACTOR = 0.00314684
REFLECTANCE_SCALING_FACTOR = 0.000340609
MEX:REFLECTANCE_OFFSET = 0.167277
/* IMAGE OBJECT DEFINITIONS */
OBJECT = IMAGE
  INTERCHANGE_FORMAT = BINARY
  LINES = 22287
  LINE_SAMPLES = 1746
  SAMPLE_TYPE = UNSIGNED_INTEGER
  SAMPLE_BITS = 8
  BANDS = 1
  BAND_STORAGE_TYPE = BAND_SEQUENTIAL
  MAXIMUM = 255
  MEAN = 138.223
  MINIMUM = 1
  STANDARD_DEVIATION = 40.5978
END_OBJECT = IMAGE
/* MAP OBJECT DEFINITIONS */
OBJECT = IMAGE_MAP_PROJECTION
  ^DATA_SET_MAP_PROJECTION_CATALOG= "DSMAP.CAT"
  A_AXIS_RADIUS = 3396.0
  B_AXIS_RADIUS = 3396.0
  C_AXIS_RADIUS = 3396.0
  CENTER_LATITUDE = 0.0
  CENTER_LONGITUDE = 193.0
  COORDINATE_SYSTEM_NAME = PLANETOGRAPHIC
  COORDINATE_SYSTEM_TYPE = "BODY-FIXED ROTATING"
  EASTERNMOST_LONGITUDE = 193.616
  FIRST_STANDARD_PARALLEL = "N/A"
  LINE_FIRST_PIXEL = 1
  LINE_LAST_PIXEL = 22287
  LINE_PROJECTION_OFFSET = 25391.125
  MAP_PROJECTION_ROTATION = 0.0
  MAP_PROJECTION_TYPE = SINUSOIDAL
  MAP_RESOLUTION = 1185.42760773333
  MAP_SCALE = 0.05
  MAXIMUM_LATITUDE = 21.4573
  MINIMUM_LATITUDE = 2.59658
  POSITIVE_LONGITUDE_DIRECTION = EAST
  REFERENCE_LATITUDE = "N/A"
  REFERENCE_LONGITUDE = "N/A"
  SAMPLE_FIRST_PIXEL = 1
  SAMPLE_LAST_PIXEL = 1746
  SAMPLE_PROJECTION_OFFSET = 986.125
  SECOND_STANDARD_PARALLEL = "N/A"
  WESTERNMOST_LONGITUDE = 192.193
END_OBJECT = IMAGE_MAP_PROJECTION
END
