PDS_VERSION_ID = PDS3
/* FILE DATA ELEMENTS */
RECORD_TYPE = UNDEFINED
/* POINTERS TO DATA OBJECTS */
^IMAGE = ("H7294_0000_S24.TIF")
/* IDENTIFICATION DATA ELEMENTS */
DATA_SET_ID = "MEX-M-HRSC-4-REFDR-MAPPROJECT-EXT3-V4.0"
DATA_SET_NAME = "MARS EXPRESS HRSC MAP PROJECTED REFDR EXTENSION3 V4.0"
DETECTOR_ID = MEX_HRSC_S2
EVENT_TYPE = "MARS-LOCAL-MAPPING-Vo-Te"
INSTRUMENT_HOST_ID = MEX
INSTRUMENT_HOST_NAME = "MARS EXPRESS"
INSTRUMENT_ID = HRSC
INSTRUMENT_NAME = "HIGH RESOLUTION STEREO CAMERA"
MISSION_NAME = "MARS EXPRESS"
MISSION_PHASE_NAME = ME_Phase_18
PROCESSING_LEVEL_ID = 4
PRODUCT_CREATION_TIME = 2023-02-01T22:33:16.000Z
PRODUCT_ID = "H7294_0000_S24.TIF"
RELEASE_ID = 0002
REVISION_ID = 0000
/* QUALITY DATA ELEMENTS */
DATA_QUALITY_ID = 1
DATA_QUALITY_DESC = "Data calculated based on original SPICE kernels"
/* TIME DATA ELEMENTS */
SPACECRAFT_CLOCK_START_COUNT = "1/0200572422.09066"
SPACECRAFT_CLOCK_STOP_COUNT = "1/0200572809.08180"
START_TIME = 2009-09-09T10:34:46.365Z
STOP_TIME = 2009-09-09T10:40:09.626Z
/* ORBITAL DATA ELEMENTS */
ASCENDING_NODE_LONGITUDE = 78.3
MAXIMUM_RESOLUTION = 0.0293
FOOTPRINT_POINT_LATITUDE = (21.4232,21.4231,21.4231,21.4231, 21.4397,20.871,20.4925,20.1144,19.5479, 19.1709,18.7953,18.4189,18.0438,17.6685 ,17.1036,16.5428,16.1701,15.7979,15.426 ,15.0545,14.6845,14.1295,13.7609, 13.3927,13.0248,12.292,11.5616,10.9186, 10.4858,10.0544,9.62356,9.19407,8.76538 ,8.33789,7.9119,7.48691,7.06273,6.64012 ,6.21862,5.79841,5.37954,4.95442, 4.52687,4.09913,3.66381,3.01141,2.56961 ,1.68132,1.45654,1.44741,1.43931,1.433, 1.43292,1.4334,1.88366,2.54709,2.98946, 3.64158,4.07732,4.50432,4.93286,5.35944 ,5.77874,6.19953,6.62105,7.0442,7.46852 ,7.89393,8.32061,8.74809,9.17703, 9.60663,10.038,10.4698,10.9031,11.5471, 12.2777,13.0115,13.3794,13.9329,14.3024 ,14.6726,15.0435,15.6,16.1593,16.5323, 16.906,17.2806,17.6587,18.0341,18.4099, 18.7861,19.3519,19.7293,20.1072,20.4855 ,20.8645,21.2439,21.4338,21.4232)
FOOTPRINT_POINT_LONGITUDE = (294.969,294.483,293.699,293.686, 293.677,293.68,293.681,293.682,293.683, 293.684,293.684,293.684,293.684,293.683 ,293.682,293.681,293.679,293.677, 293.676,293.674,293.671,293.667,293.665 ,293.661,293.658,293.651,293.643, 293.636,293.63,293.624,293.618,293.612, 293.605,293.598,293.591,293.583,293.576 ,293.568,293.56,293.551,293.543,293.534 ,293.524,293.515,293.505,293.49,293.479 ,293.456,293.45,293.45,294.086,294.995, 295.01,295.016,295.012,295.007,295.004, 295.0,294.998,294.996,294.993,294.992, 294.99,294.988,294.986,294.984,294.983, 294.981,294.98,294.979,294.977,294.976, 294.975,294.974,294.973,294.973,294.972 ,294.971,294.971,294.97,294.97,294.97, 294.97,294.97,294.97,294.97,294.97, 294.971,294.971,294.971,294.971,294.972 ,294.972,294.973,294.973,294.973, 294.974,294.975,294.975,294.969)
ORBIT_NUMBER = 7294
ORBITAL_ECCENTRICITY = 0.574
ORBITAL_INCLINATION = 86.8
ORBITAL_SEMIMAJOR_AXIS = 8763.79
PERIAPSIS_ALTITUDE = 342.08
PERIAPSIS_ARGUMENT_ANGLE = 158.76
PERIAPSIS_TIME = 2009-09-09T10:34:19.000Z
SPACECRAFT_ORIENTATION = (0.0,-1.0,0.0)
^MEX_ORIENTATION_DESC = "MEX_ORIENTATION_DESC.TXT"
SPACECRAFT_POINTING_MODE = NADIR
^MEX_POINTING_DESC = "MEX_POINTING_DESC.TXT"
RIGHT_ASCENSION = -1e+32
DECLINATION = -1e+32
OFFSET_ANGLE = -1e+32
SPACECRAFT_SOLAR_DISTANCE = 2.23933e+08
TARGET_NAME = MARS
/* CAMERA DATA ELEMENTS */
DETECTOR_TEMPERATURE = 18.5744
FOCAL_PLANE_TEMPERATURE = 8.5833
INST_CMPRS_NAME = "DISCRETE COSINE TRANSFORMATION (DCT)"
INST_CMPRS_RATIO = 10.4136
INST_CMPRS_QUALITY = 0
INST_CMPRS_QUANTZ_TBL_ID = 0
INSTRUMENT_TEMPERATURE = 11.234
LENS_TEMPERATURE = 9.195
MACROPIXEL_SIZE = 2
MISSING_FRAMES = 1
PIXEL_SUBSAMPLING_FLAG = N
SIGNAL_CHAIN_ID = 1
/* RADIOMETRIC DATA ELEMENTS */
BANDWIDTH = 178.0
CENTER_FILTER_WAVELENGTH = 679.0
RADIANCE_OFFSET = 4.51565
RADIANCE_SCALING_FACTOR = 0.0153154
REFLECTANCE_SCALING_FACTOR = 0.00040672
MEX:REFLECTANCE_OFFSET = 0.119919
/* IMAGE OBJECT DEFINITIONS */
OBJECT = IMAGE
  INTERCHANGE_FORMAT = BINARY
  LINES = 47428
  LINE_SAMPLES = 3483
  SAMPLE_TYPE = UNSIGNED_INTEGER
  SAMPLE_BITS = 8
  BANDS = 1
  BAND_STORAGE_TYPE = BAND_SEQUENTIAL
  MAXIMUM = 255
  MEAN = 97.8998
  MINIMUM = 1
  STANDARD_DEVIATION = 28.2679
END_OBJECT = IMAGE
/* MAP OBJECT DEFINITIONS */
OBJECT = IMAGE_MAP_PROJECTION
  ^DATA_SET_MAP_PROJECTION_CATALOG= "DSMAP.CAT"
  A_AXIS_RADIUS = 3396.0
  B_AXIS_RADIUS = 3396.0
  C_AXIS_RADIUS = 3396.0
  CENTER_LATITUDE = 0.0
  CENTER_LONGITUDE = 294.0
  COORDINATE_SYSTEM_NAME = PLANETOGRAPHIC
  COORDINATE_SYSTEM_TYPE = "BODY-FIXED ROTATING"
  EASTERNMOST_LONGITUDE = 295.016
  FIRST_STANDARD_PARALLEL = "N/A"
  LINE_FIRST_PIXEL = 1
  LINE_LAST_PIXEL = 47428
  LINE_PROJECTION_OFFSET = 50848.75
  MAP_PROJECTION_ROTATION = 0.0
  MAP_PROJECTION_TYPE = SINUSOIDAL
  MAP_RESOLUTION = 2370.85521546667
  MAP_SCALE = 0.025
  MAXIMUM_LATITUDE = 21.4397
  MINIMUM_LATITUDE = 1.43292
  POSITIVE_LONGITUDE_DIRECTION = EAST
  REFERENCE_LATITUDE = "N/A"
  REFERENCE_LONGITUDE = "N/A"
  SAMPLE_FIRST_PIXEL = 1
  SAMPLE_LAST_PIXEL = 3483
  SAMPLE_PROJECTION_OFFSET = 1188.75
  SECOND_STANDARD_PARALLEL = "N/A"
  WESTERNMOST_LONGITUDE = 293.45
END_OBJECT = IMAGE_MAP_PROJECTION
END
