PDS_VERSION_ID = PDS3
/* FILE DATA ELEMENTS */
RECORD_TYPE = UNDEFINED
/* POINTERS TO DATA OBJECTS */
^IMAGE = ("H7294_0000_IR4.TIF")
/* IDENTIFICATION DATA ELEMENTS */
DATA_SET_ID = "MEX-M-HRSC-4-REFDR-MAPPROJECT-EXT3-V4.0"
DATA_SET_NAME = "MARS EXPRESS HRSC MAP PROJECTED REFDR EXTENSION3 V4.0"
DETECTOR_ID = MEX_HRSC_IR
EVENT_TYPE = "MARS-LOCAL-MAPPING-Vo-Te"
INSTRUMENT_HOST_ID = MEX
INSTRUMENT_HOST_NAME = "MARS EXPRESS"
INSTRUMENT_ID = HRSC
INSTRUMENT_NAME = "HIGH RESOLUTION STEREO CAMERA"
MISSION_NAME = "MARS EXPRESS"
MISSION_PHASE_NAME = ME_Phase_18
PROCESSING_LEVEL_ID = 4
PRODUCT_CREATION_TIME = 2023-02-01T22:33:16.000Z
PRODUCT_ID = "H7294_0000_IR4.TIF"
RELEASE_ID = 0002
REVISION_ID = 0000
/* QUALITY DATA ELEMENTS */
DATA_QUALITY_ID = 1
DATA_QUALITY_DESC = "Data calculated based on original SPICE kernels"
/* TIME DATA ELEMENTS */
SPACECRAFT_CLOCK_START_COUNT = "1/0200572422.09066"
SPACECRAFT_CLOCK_STOP_COUNT = "1/0200572809.08180"
START_TIME = 2009-09-09T10:33:50.007Z
STOP_TIME = 2009-09-09T10:38:56.172Z
/* ORBITAL DATA ELEMENTS */
ASCENDING_NODE_LONGITUDE = 78.3
MAXIMUM_RESOLUTION = 0.1144
FOOTPRINT_POINT_LATITUDE = (21.4593,21.46,21.459,21.4563,21.4562, 21.4409,21.0642,20.6873,20.3099,19.9326 ,19.5546,19.1765,18.7974,18.419,18.0397 ,17.6606,17.2812,16.902,16.3322,15.952, 15.5719,15.1918,14.811,14.4305,13.8593, 13.4782,12.9068,12.3349,11.9535,11.3819 ,10.8106,10.2383,9.85672,9.4754,8.90341 ,8.52234,7.95045,7.56925,7.11532, 6.66066,6.2062,5.75208,5.07098,4.6171, 3.93834,3.4861,2.80774,2.35568,1.90431, 1.67879,1.45783,1.45549,1.45255,1.44915 ,1.44334,1.443,1.44495,2.12253,2.80109, 3.48022,4.15999,4.84007,5.29333,5.7477, 6.42952,6.88429,7.56522,7.94661,8.32793 ,8.70971,9.28192,9.66375,10.0452, 10.4272,10.8088,11.1902,11.7624,12.1442 ,12.7167,13.098,13.4792,14.0508,14.4318 ,15.003,15.3841,15.9549,16.3352,16.9055 ,17.2853,17.665,18.0445,18.4237,18.9924 ,19.3707,19.7492,20.1273,20.5053, 21.0713,21.2597,21.4593)
FOOTPRINT_POINT_LONGITUDE = (294.966,294.669,294.121,293.716, 293.704,293.693,293.696,293.699,293.701 ,293.703,293.705,293.707,293.708, 293.709,293.71,293.71,293.711,293.711, 293.71,293.71,293.709,293.708,293.707, 293.706,293.703,293.701,293.698,293.694 ,293.691,293.687,293.682,293.677, 293.673,293.668,293.662,293.657,293.65, 293.645,293.638,293.632,293.625,293.618 ,293.606,293.599,293.587,293.579, 293.566,293.557,293.547,293.543,293.538 ,293.8,294.129,294.446,294.921,294.934, 294.943,294.941,294.94,294.939,294.938, 294.937,294.937,294.937,294.937,294.937 ,294.937,294.937,294.937,294.937, 294.938,294.938,294.939,294.939,294.94, 294.94,294.941,294.942,294.943,294.944, 294.945,294.946,294.947,294.949,294.95, 294.952,294.953,294.955,294.956,294.957 ,294.959,294.96,294.962,294.964,294.965 ,294.967,294.968,294.971,294.971, 294.966)
ORBIT_NUMBER = 7294
ORBITAL_ECCENTRICITY = 0.574
ORBITAL_INCLINATION = 86.8
ORBITAL_SEMIMAJOR_AXIS = 8763.79
PERIAPSIS_ALTITUDE = 342.08
PERIAPSIS_ARGUMENT_ANGLE = 158.76
PERIAPSIS_TIME = 2009-09-09T10:34:19.000Z
SPACECRAFT_ORIENTATION = (0.0,-1.0,0.0)
^MEX_ORIENTATION_DESC = "MEX_ORIENTATION_DESC.TXT"
SPACECRAFT_POINTING_MODE = NADIR
^MEX_POINTING_DESC = "MEX_POINTING_DESC.TXT"
RIGHT_ASCENSION = -1e+32
DECLINATION = -1e+32
OFFSET_ANGLE = -1e+32
SPACECRAFT_SOLAR_DISTANCE = 2.23933e+08
TARGET_NAME = MARS
/* CAMERA DATA ELEMENTS */
DETECTOR_TEMPERATURE = 17.5549
FOCAL_PLANE_TEMPERATURE = 8.5833
INST_CMPRS_NAME = "DISCRETE COSINE TRANSFORMATION (DCT)"
INST_CMPRS_RATIO = 17.0971
INST_CMPRS_QUALITY = 0
INST_CMPRS_QUANTZ_TBL_ID = 0
INSTRUMENT_TEMPERATURE = 11.234
LENS_TEMPERATURE = 9.195
MACROPIXEL_SIZE = 8
MISSING_FRAMES = 0
PIXEL_SUBSAMPLING_FLAG = N
SIGNAL_CHAIN_ID = 2
/* RADIOMETRIC DATA ELEMENTS */
BANDWIDTH = 81.0
CENTER_FILTER_WAVELENGTH = 955.5
RADIANCE_OFFSET = 1.10014
RADIANCE_SCALING_FACTOR = 0.00456319
REFLECTANCE_SCALING_FACTOR = 0.000493663
MEX:REFLECTANCE_OFFSET = 0.119018
/* IMAGE OBJECT DEFINITIONS */
OBJECT = IMAGE
  INTERCHANGE_FORMAT = BINARY
  LINES = 11857
  LINE_SAMPLES = 871
  SAMPLE_TYPE = UNSIGNED_INTEGER
  SAMPLE_BITS = 8
  BANDS = 1
  BAND_STORAGE_TYPE = BAND_SEQUENTIAL
  MAXIMUM = 255
  MEAN = 91.8448
  MINIMUM = 1
  STANDARD_DEVIATION = 30.2204
END_OBJECT = IMAGE
/* MAP OBJECT DEFINITIONS */
OBJECT = IMAGE_MAP_PROJECTION
  ^DATA_SET_MAP_PROJECTION_CATALOG= "DSMAP.CAT"
  A_AXIS_RADIUS = 3396.0
  B_AXIS_RADIUS = 3396.0
  C_AXIS_RADIUS = 3396.0
  CENTER_LATITUDE = 0.0
  CENTER_LONGITUDE = 294.0
  COORDINATE_SYSTEM_NAME = PLANETOGRAPHIC
  COORDINATE_SYSTEM_TYPE = "BODY-FIXED ROTATING"
  EASTERNMOST_LONGITUDE = 294.971
  FIRST_STANDARD_PARALLEL = "N/A"
  LINE_FIRST_PIXEL = 1
  LINE_LAST_PIXEL = 11857
  LINE_PROJECTION_OFFSET = 12711.8125
  MAP_PROJECTION_ROTATION = 0.0
  MAP_PROJECTION_TYPE = SINUSOIDAL
  MAP_RESOLUTION = 592.713803866667
  MAP_SCALE = 0.1
  MAXIMUM_LATITUDE = 21.46
  MINIMUM_LATITUDE = 1.443
  POSITIVE_LONGITUDE_DIRECTION = EAST
  REFERENCE_LATITUDE = "N/A"
  REFERENCE_LONGITUDE = "N/A"
  SAMPLE_FIRST_PIXEL = 1
  SAMPLE_LAST_PIXEL = 871
  SAMPLE_PROJECTION_OFFSET = 296.8125
  SECOND_STANDARD_PARALLEL = "N/A"
  WESTERNMOST_LONGITUDE = 293.538
END_OBJECT = IMAGE_MAP_PROJECTION
END
