PDS_VERSION_ID = PDS3
/* FILE DATA ELEMENTS */
RECORD_TYPE = UNDEFINED
/* POINTERS TO DATA OBJECTS */
^IMAGE = ("H7292_0000_S14.TIF")
/* IDENTIFICATION DATA ELEMENTS */
DATA_SET_ID = "MEX-M-HRSC-4-REFDR-MAPPROJECT-EXT3-V4.0"
DATA_SET_NAME = "MARS EXPRESS HRSC MAP PROJECTED REFDR EXTENSION3 V4.0"
DETECTOR_ID = MEX_HRSC_S1
EVENT_TYPE = "MARS-REGIONAL-MAPPING-Vo-Fl-Pf"
INSTRUMENT_HOST_ID = MEX
INSTRUMENT_HOST_NAME = "MARS EXPRESS"
INSTRUMENT_ID = HRSC
INSTRUMENT_NAME = "HIGH RESOLUTION STEREO CAMERA"
MISSION_NAME = "MARS EXPRESS"
MISSION_PHASE_NAME = ME_Phase_18
PROCESSING_LEVEL_ID = 4
PRODUCT_CREATION_TIME = 2023-02-01T22:33:16.000Z
PRODUCT_ID = "H7292_0000_S14.TIF"
RELEASE_ID = 0002
REVISION_ID = 0000
/* QUALITY DATA ELEMENTS */
DATA_QUALITY_ID = 1
DATA_QUALITY_DESC = "Data calculated based on original SPICE kernels"
/* TIME DATA ELEMENTS */
SPACECRAFT_CLOCK_START_COUNT = "1/0200522390.09060"
SPACECRAFT_CLOCK_STOP_COUNT = "1/0200522624.32690"
START_TIME = 2009-09-08T20:39:52.621Z
STOP_TIME = 2009-09-08T20:42:32.373Z
/* ORBITAL DATA ELEMENTS */
ASCENDING_NODE_LONGITUDE = 78.34
MAXIMUM_RESOLUTION = 0.0347
FOOTPRINT_POINT_LATITUDE = (44.479,44.4656,44.4507,44.434,44.4155, 44.3953,44.3646,44.3631,44.2708,43.9707 ,43.7733,43.5757,43.3774,43.1807, 42.9865,42.7914,42.5959,42.4016,42.21, 42.0179,41.7297,41.5385,41.3495,41.1602 ,40.8762,40.6867,40.501,40.2214,40.0349 ,39.8479,39.6641,39.4812,39.2978, 39.1145,38.9308,38.748,38.568,38.3879, 38.2074,38.0266,37.8456,37.6662,37.3118 ,36.9569,36.5145,36.2534,35.7304, 35.3808,35.1246,35.0392,35.0061,35.0251 ,35.0383,35.0494,35.063,35.0731,35.0826 ,35.0832,35.0839,35.4264,35.9513, 36.3014,36.6504,36.9179,37.0963,37.4527 ,37.8078,37.9895,38.1711,38.3525, 38.5338,38.7149,38.8957,39.0802,39.3567 ,39.6328,39.8164,40.0022,40.1898, 40.3772,40.5645,40.7514,40.9411,41.1316 ,41.4168,41.7013,41.8947,42.1847, 42.3775,42.5705,42.7674,42.9636,43.1596 ,43.3556,43.5543,43.7533,43.9521, 44.2517,44.353,44.479)
FOOTPRINT_POINT_LONGITUDE = (136.096,135.728,135.358,134.986, 134.614,134.239,133.721,133.697,133.637 ,133.669,133.689,133.71,133.73,133.75, 133.769,133.788,133.807,133.826,133.844 ,133.861,133.888,133.905,133.921, 133.938,133.962,133.978,133.994,134.016 ,134.031,134.046,134.06,134.074,134.088 ,134.102,134.116,134.129,134.142, 134.155,134.168,134.18,134.193,134.205, 134.228,134.251,134.279,134.295,134.326 ,134.346,134.36,134.365,134.367,134.729 ,135.004,135.243,135.566,135.836, 136.105,136.122,136.128,136.128,136.128 ,136.127,136.127,136.127,136.127, 136.127,136.126,136.126,136.126,136.126 ,136.126,136.125,136.125,136.125, 136.125,136.124,136.124,136.124,136.124 ,136.123,136.123,136.123,136.122, 136.122,136.122,136.121,136.121,136.12, 136.12,136.119,136.119,136.119,136.118, 136.118,136.117,136.117,136.116,136.116 ,136.115,136.096)
ORBIT_NUMBER = 7292
ORBITAL_ECCENTRICITY = 0.574
ORBITAL_INCLINATION = 86.79
ORBITAL_SEMIMAJOR_AXIS = 8763.73
PERIAPSIS_ALTITUDE = 342.12
PERIAPSIS_ARGUMENT_ANGLE = 159.1
PERIAPSIS_TIME = 2009-09-08T20:46:49.000Z
SPACECRAFT_ORIENTATION = (0.0,-1.0,0.0)
^MEX_ORIENTATION_DESC = "MEX_ORIENTATION_DESC.TXT"
SPACECRAFT_POINTING_MODE = ACROSSTRACK
^MEX_POINTING_DESC = "MEX_POINTING_DESC.TXT"
RIGHT_ASCENSION = -1e+32
DECLINATION = -1e+32
OFFSET_ANGLE = -0.5
SPACECRAFT_SOLAR_DISTANCE = 2.23821e+08
TARGET_NAME = MARS
/* CAMERA DATA ELEMENTS */
DETECTOR_TEMPERATURE = 17.351
FOCAL_PLANE_TEMPERATURE = 8.1755
INST_CMPRS_NAME = "DISCRETE COSINE TRANSFORMATION (DCT)"
INST_CMPRS_RATIO = 10.1112
INST_CMPRS_QUALITY = 0
INST_CMPRS_QUANTZ_TBL_ID = 0
INSTRUMENT_TEMPERATURE = 11.0301
LENS_TEMPERATURE = 8.3794
MACROPIXEL_SIZE = 2
MISSING_FRAMES = 0
PIXEL_SUBSAMPLING_FLAG = N
SIGNAL_CHAIN_ID = 1
/* RADIOMETRIC DATA ELEMENTS */
BANDWIDTH = 180.0
CENTER_FILTER_WAVELENGTH = 677.0
RADIANCE_OFFSET = 4.15787
RADIANCE_SCALING_FACTOR = 0.00969509
REFLECTANCE_SCALING_FACTOR = 0.000253392
MEX:REFLECTANCE_OFFSET = 0.108671
/* IMAGE OBJECT DEFINITIONS */
OBJECT = IMAGE
  INTERCHANGE_FORMAT = BINARY
  LINES = 22146
  LINE_SAMPLES = 4299
  SAMPLE_TYPE = UNSIGNED_INTEGER
  SAMPLE_BITS = 8
  BANDS = 1
  BAND_STORAGE_TYPE = BAND_SEQUENTIAL
  MAXIMUM = 255
  MEAN = 113.532
  MINIMUM = 1
  STANDARD_DEVIATION = 36.1675
END_OBJECT = IMAGE
/* MAP OBJECT DEFINITIONS */
OBJECT = IMAGE_MAP_PROJECTION
  ^DATA_SET_MAP_PROJECTION_CATALOG= "DSMAP.CAT"
  A_AXIS_RADIUS = 3396.0
  B_AXIS_RADIUS = 3396.0
  C_AXIS_RADIUS = 3396.0
  CENTER_LATITUDE = 0.0
  CENTER_LONGITUDE = 135.0
  COORDINATE_SYSTEM_NAME = PLANETOGRAPHIC
  COORDINATE_SYSTEM_TYPE = "BODY-FIXED ROTATING"
  EASTERNMOST_LONGITUDE = 136.128
  FIRST_STANDARD_PARALLEL = "N/A"
  LINE_FIRST_PIXEL = 1
  LINE_LAST_PIXEL = 22146
  LINE_PROJECTION_OFFSET = 105211.25
  MAP_PROJECTION_ROTATION = 0.0
  MAP_PROJECTION_TYPE = SINUSOIDAL
  MAP_RESOLUTION = 2370.85521546667
  MAP_SCALE = 0.025
  MAXIMUM_LATITUDE = 44.479
  MINIMUM_LATITUDE = 35.0061
  POSITIVE_LONGITUDE_DIRECTION = EAST
  REFERENCE_LATITUDE = "N/A"
  REFERENCE_LONGITUDE = "N/A"
  SAMPLE_FIRST_PIXEL = 1
  SAMPLE_LAST_PIXEL = 4299
  SAMPLE_PROJECTION_OFFSET = 2182.75
  SECOND_STANDARD_PARALLEL = "N/A"
  WESTERNMOST_LONGITUDE = 133.637
END_OBJECT = IMAGE_MAP_PROJECTION
END
