PDS_VERSION_ID = PDS3
/* FILE DATA ELEMENTS */
RECORD_TYPE = UNDEFINED
/* POINTERS TO DATA OBJECTS */
^IMAGE = ("H7289_0001_S24.TIF")
/* IDENTIFICATION DATA ELEMENTS */
DATA_SET_ID = "MEX-M-HRSC-4-REFDR-MAPPROJECT-EXT3-V4.0"
DATA_SET_NAME = "MARS EXPRESS HRSC MAP PROJECTED REFDR EXTENSION3 V4.0"
DETECTOR_ID = MEX_HRSC_S2
EVENT_TYPE = "MARS-REGIONAL-MAPPING-Te-Im-Fl"
INSTRUMENT_HOST_ID = MEX
INSTRUMENT_HOST_NAME = "MARS EXPRESS"
INSTRUMENT_ID = HRSC
INSTRUMENT_NAME = "HIGH RESOLUTION STEREO CAMERA"
MISSION_NAME = "MARS EXPRESS"
MISSION_PHASE_NAME = ME_Phase_18
PROCESSING_LEVEL_ID = 4
PRODUCT_CREATION_TIME = 2023-02-01T22:33:16.000Z
PRODUCT_ID = "H7289_0001_S24.TIF"
RELEASE_ID = 0002
REVISION_ID = 0000
/* QUALITY DATA ELEMENTS */
DATA_QUALITY_ID = 1
DATA_QUALITY_DESC = "Data calculated based on original SPICE kernels"
/* TIME DATA ELEMENTS */
SPACECRAFT_CLOCK_START_COUNT = "1/0200448640.08235"
SPACECRAFT_CLOCK_STOP_COUNT = "1/0200449057.39305"
START_TIME = 2009-09-08T00:12:07.080Z
STOP_TIME = 2009-09-08T00:17:38.148Z
/* ORBITAL DATA ELEMENTS */
ASCENDING_NODE_LONGITUDE = 78.4
MAXIMUM_RESOLUTION = 0.0397
FOOTPRINT_POINT_LATITUDE = (-1.43364,-1.40812,-1.38015,-1.34353, -1.34252,-1.34648,-1.79333,-2.53184, -2.9787,-3.58223,-3.88528,-4.19557, -4.80364,-5.11903,-5.43205,-5.7501, -6.22301,-6.54039,-6.86193,-7.18545, -7.66897,-8.16794,-8.66556,-9.00056, -9.33961,-9.85046,-10.191,-10.536, -11.0608,-11.4098,-11.7627,-12.1193, -12.4786,-12.8401,-13.2053,-13.7532, -14.304,-14.6821,-15.0683,-15.447, -15.831,-16.2127,-16.8061,-17.1991, -17.5967,-18.2002,-18.4035,-18.4493, -18.4808,-18.4987,-18.5165,-18.5355, -18.5473,-18.5577,-18.5702,-18.5707, -18.5702,-18.1645,-17.7624,-17.3637, -16.9677,-16.5757,-16.1857,-15.8001, -15.4176,-14.8521,-14.4714,-14.0965, -13.5431,-13.1761,-12.6313,-12.0928, -11.5598,-11.0297,-10.5074,-9.99091, -9.64888,-9.3103,-8.80561,-8.30608, -7.97447,-7.64724,-7.32063,-6.99748, -6.67437,-6.19521,-5.8751,-5.40738, -5.09425,-4.78273,-4.47395,-4.16635, -3.85919,-3.5571,-3.1042,-2.50774, -2.06438,-1.62337,-1.47516,-1.43364)
FOOTPRINT_POINT_LONGITUDE = (78.4156,77.9088,77.3938,76.7702, 76.7536,76.7504,76.7405,76.7166,76.7015 ,76.6804,76.67,76.6605,76.6332,76.6239, 76.6123,76.6015,76.581,76.5671,76.5536, 76.5402,76.516,76.497,76.4742,76.4588, 76.4437,76.4197,76.402,76.3842,76.359, 76.3398,76.3208,76.3016,76.2823,76.2627 ,76.2426,76.2095,76.173,76.1521,76.133, 76.108,76.0837,76.0563,76.0216,75.9943, 75.9671,75.9252,75.9112,75.908,76.465, 76.8247,77.2099,77.6483,77.9755,78.3015 ,78.7074,78.7344,78.7441,78.7307, 78.7177,78.7052,78.6932,78.6814,78.6703 ,78.6594,78.6488,78.6334,78.6243, 78.6152,78.6017,78.5933,78.5811,78.5695 ,78.5585,78.5482,78.5382,78.5287, 78.5227,78.5167,78.5083,78.5002,78.495, 78.49,78.4851,78.4804,78.4758,78.4692, 78.4651,78.4588,78.455,78.4511,78.4475, 78.4439,78.4404,78.437,78.4321,78.4259, 78.4215,78.4172,78.4158,78.4156)
ORBIT_NUMBER = 7289
ORBITAL_ECCENTRICITY = 0.574
ORBITAL_INCLINATION = 86.81
ORBITAL_SEMIMAJOR_AXIS = 8767.81
PERIAPSIS_ALTITUDE = 340.95
PERIAPSIS_ARGUMENT_ANGLE = 159.61
PERIAPSIS_TIME = 2009-09-08T00:05:41.000Z
SPACECRAFT_ORIENTATION = (0.0,-1.0,0.0)
^MEX_ORIENTATION_DESC = "MEX_ORIENTATION_DESC.TXT"
SPACECRAFT_POINTING_MODE = ACROSSTRACK
^MEX_POINTING_DESC = "MEX_POINTING_DESC.TXT"
RIGHT_ASCENSION = -1e+32
DECLINATION = -1e+32
OFFSET_ANGLE = -0.83
SPACECRAFT_SOLAR_DISTANCE = 2.23654e+08
TARGET_NAME = MARS
/* CAMERA DATA ELEMENTS */
DETECTOR_TEMPERATURE = 20.0017
FOCAL_PLANE_TEMPERATURE = 8.7872
INST_CMPRS_NAME = "DISCRETE COSINE TRANSFORMATION (DCT)"
INST_CMPRS_RATIO = 13.7444
INST_CMPRS_QUALITY = 0
INST_CMPRS_QUANTZ_TBL_ID = 0
INSTRUMENT_TEMPERATURE = 11.0301
LENS_TEMPERATURE = 9.195
MACROPIXEL_SIZE = 2
MISSING_FRAMES = 0
PIXEL_SUBSAMPLING_FLAG = N
SIGNAL_CHAIN_ID = 1
/* RADIOMETRIC DATA ELEMENTS */
BANDWIDTH = 178.0
CENTER_FILTER_WAVELENGTH = 679.0
RADIANCE_OFFSET = 3.44578
RADIANCE_SCALING_FACTOR = 0.0110236
REFLECTANCE_SCALING_FACTOR = 0.000292018
MEX:REFLECTANCE_OFFSET = 0.091279
/* IMAGE OBJECT DEFINITIONS */
OBJECT = IMAGE
  INTERCHANGE_FORMAT = BINARY
  LINES = 40655
  LINE_SAMPLES = 5589
  SAMPLE_TYPE = UNSIGNED_INTEGER
  SAMPLE_BITS = 8
  BANDS = 1
  BAND_STORAGE_TYPE = BAND_SEQUENTIAL
  MAXIMUM = 255
  MEAN = 121.64
  MINIMUM = 1
  STANDARD_DEVIATION = 27.9507
END_OBJECT = IMAGE
/* MAP OBJECT DEFINITIONS */
OBJECT = IMAGE_MAP_PROJECTION
  ^DATA_SET_MAP_PROJECTION_CATALOG= "DSMAP.CAT"
  A_AXIS_RADIUS = 3396.0
  B_AXIS_RADIUS = 3396.0
  C_AXIS_RADIUS = 3396.0
  CENTER_LATITUDE = 0.0
  CENTER_LONGITUDE = 78.0
  COORDINATE_SYSTEM_NAME = PLANETOGRAPHIC
  COORDINATE_SYSTEM_TYPE = "BODY-FIXED ROTATING"
  EASTERNMOST_LONGITUDE = 78.7441
  FIRST_STANDARD_PARALLEL = "N/A"
  LINE_FIRST_PIXEL = 1
  LINE_LAST_PIXEL = 40655
  LINE_PROJECTION_OFFSET = -3269.25
  MAP_PROJECTION_ROTATION = 0.0
  MAP_PROJECTION_TYPE = SINUSOIDAL
  MAP_RESOLUTION = 2370.85521546667
  MAP_SCALE = 0.025
  MAXIMUM_LATITUDE = -1.34252
  MINIMUM_LATITUDE = -18.5707
  POSITIVE_LONGITUDE_DIRECTION = EAST
  REFERENCE_LATITUDE = "N/A"
  REFERENCE_LONGITUDE = "N/A"
  SAMPLE_FIRST_PIXEL = 1
  SAMPLE_LAST_PIXEL = 5589
  SAMPLE_PROJECTION_OFFSET = 4266.75
  SECOND_STANDARD_PARALLEL = "N/A"
  WESTERNMOST_LONGITUDE = 75.908
END_OBJECT = IMAGE_MAP_PROJECTION
END
