PDS_VERSION_ID = PDS3
/* FILE DATA ELEMENTS */
RECORD_TYPE = UNDEFINED
/* POINTERS TO DATA OBJECTS */
^IMAGE = ("H7289_0000_S24.TIF")
/* IDENTIFICATION DATA ELEMENTS */
DATA_SET_ID = "MEX-M-HRSC-4-REFDR-MAPPROJECT-EXT3-V4.0"
DATA_SET_NAME = "MARS EXPRESS HRSC MAP PROJECTED REFDR EXTENSION3 V4.0"
DETECTOR_ID = MEX_HRSC_S2
EVENT_TYPE = "MARS-LOCAL-MAPPING-Im-Lc-Tc"
INSTRUMENT_HOST_ID = MEX
INSTRUMENT_HOST_NAME = "MARS EXPRESS"
INSTRUMENT_ID = HRSC
INSTRUMENT_NAME = "HIGH RESOLUTION STEREO CAMERA"
MISSION_NAME = "MARS EXPRESS"
MISSION_PHASE_NAME = ME_Phase_18
PROCESSING_LEVEL_ID = 4
PRODUCT_CREATION_TIME = 2023-02-01T22:33:16.000Z
PRODUCT_ID = "H7289_0000_S24.TIF"
RELEASE_ID = 0002
REVISION_ID = 0000
/* QUALITY DATA ELEMENTS */
DATA_QUALITY_ID = 1
DATA_QUALITY_DESC = "Data calculated based on original SPICE kernels"
/* TIME DATA ELEMENTS */
SPACECRAFT_CLOCK_START_COUNT = "1/0200448304.08242"
SPACECRAFT_CLOCK_STOP_COUNT = "1/0200448439.09022"
START_TIME = 2009-09-08T00:06:08.840Z
STOP_TIME = 2009-09-08T00:07:19.577Z
/* ORBITAL DATA ELEMENTS */
ASCENDING_NODE_LONGITUDE = 78.4
MAXIMUM_RESOLUTION = 0.0146
FOOTPRINT_POINT_LATITUDE = (20.5702,20.5751,20.5799,20.5848, 20.5897,20.5947,20.5996,20.6047,20.6097 ,20.6148,20.62,20.6251,20.6329,20.6336, 20.6523,20.5606,20.4692,20.3783,20.1984 ,20.1079,19.9713,19.8797,19.7885, 19.6978,19.6074,19.4262,19.2912,19.2009 ,19.1102,19.0198,18.9291,18.7485, 18.6132,18.4777,18.3418,18.2065,18.1159 ,18.0253,17.9347,17.7541,17.575,17.3511 ,17.2139,17.034,16.899,16.7657,16.5867, 16.4073,16.1813,16.1361,16.1168,16.1107 ,16.1055,16.0957,16.0862,16.0781, 16.0729,16.0628,16.0575,16.0527,16.052, 16.0519,16.1424,16.3229,16.4132,16.5488 ,16.7287,16.8639,17.0437,17.2246, 17.4027,17.5379,17.7174,17.8959,18.0703 ,18.209,18.3019,18.3939,18.486,18.5772, 18.6688,18.8053,18.8962,19.0763,19.1672 ,19.3022,19.4821,19.5727,19.6635, 19.7547,19.8458,19.9816,20.0726,20.1638 ,20.2546,20.3451,20.4358,20.5268, 20.5721,20.5702)
FOOTPRINT_POINT_LONGITUDE = (78.3033,78.2033,78.1027,78.0016,77.9, 77.7977,77.6949,77.5915,77.4876,77.3831 ,77.2779,77.172,77.0119,76.9985,76.9778 ,76.9793,76.9804,76.9811,76.9812, 76.9816,76.983,76.9843,76.9853,76.9859, 76.9863,76.9874,76.9875,76.9878,76.9884 ,76.9889,76.9895,76.9902,76.9905, 76.9911,76.992,76.9924,76.993,76.9936, 76.9942,76.9949,76.9946,76.9942,76.9961 ,76.9964,76.9967,76.9959,76.9955, 76.9956,76.997,76.9973,76.9976,77.1181, 77.2376,77.4231,77.6192,77.7878,77.9037 ,78.0957,78.1974,78.2984,78.311,78.3171 ,78.3167,78.316,78.3156,78.315,78.3144, 78.3138,78.3132,78.3125,78.3121,78.3116 ,78.3111,78.3106,78.3107,78.3099, 78.3093,78.3087,78.3082,78.3078,78.3073 ,78.3068,78.3064,78.3059,78.3055, 78.3051,78.3046,78.3043,78.304,78.3036, 78.3032,78.3028,78.3024,78.3021,78.3017 ,78.3015,78.3011,78.3008,78.3006, 78.3033)
ORBIT_NUMBER = 7289
ORBITAL_ECCENTRICITY = 0.574
ORBITAL_INCLINATION = 86.81
ORBITAL_SEMIMAJOR_AXIS = 8767.81
PERIAPSIS_ALTITUDE = 340.95
PERIAPSIS_ARGUMENT_ANGLE = 159.61
PERIAPSIS_TIME = 2009-09-08T00:05:41.000Z
SPACECRAFT_ORIENTATION = (0.0,-1.0,0.0)
^MEX_ORIENTATION_DESC = "MEX_ORIENTATION_DESC.TXT"
SPACECRAFT_POINTING_MODE = ACROSSTRACK
^MEX_POINTING_DESC = "MEX_POINTING_DESC.TXT"
RIGHT_ASCENSION = -1e+32
DECLINATION = -1e+32
OFFSET_ANGLE = -0.83
SPACECRAFT_SOLAR_DISTANCE = 2.23654e+08
TARGET_NAME = MARS
/* CAMERA DATA ELEMENTS */
DETECTOR_TEMPERATURE = 17.9627
FOCAL_PLANE_TEMPERATURE = 8.3794
INST_CMPRS_NAME = "DISCRETE COSINE TRANSFORMATION (DCT)"
INST_CMPRS_RATIO = 7.77394
INST_CMPRS_QUALITY = 0
INST_CMPRS_QUANTZ_TBL_ID = 0
INSTRUMENT_TEMPERATURE = 11.234
LENS_TEMPERATURE = 8.7872
MACROPIXEL_SIZE = 1
MISSING_FRAMES = 0
PIXEL_SUBSAMPLING_FLAG = N
SIGNAL_CHAIN_ID = 1
/* RADIOMETRIC DATA ELEMENTS */
BANDWIDTH = 178.0
CENTER_FILTER_WAVELENGTH = 679.0
RADIANCE_OFFSET = 3.59356
RADIANCE_SCALING_FACTOR = 0.0108981
REFLECTANCE_SCALING_FACTOR = 0.000288692
MEX:REFLECTANCE_OFFSET = 0.0951937
/* IMAGE OBJECT DEFINITIONS */
OBJECT = IMAGE
  INTERCHANGE_FORMAT = BINARY
  LINES = 21584
  LINE_SAMPLES = 5886
  SAMPLE_TYPE = UNSIGNED_INTEGER
  SAMPLE_BITS = 8
  BANDS = 1
  BAND_STORAGE_TYPE = BAND_SEQUENTIAL
  MAXIMUM = 255
  MEAN = 115.797
  MINIMUM = 1
  STANDARD_DEVIATION = 39.1613
END_OBJECT = IMAGE
/* MAP OBJECT DEFINITIONS */
OBJECT = IMAGE_MAP_PROJECTION
  ^DATA_SET_MAP_PROJECTION_CATALOG= "DSMAP.CAT"
  A_AXIS_RADIUS = 3396.0
  B_AXIS_RADIUS = 3396.0
  C_AXIS_RADIUS = 3396.0
  CENTER_LATITUDE = 0.0
  CENTER_LONGITUDE = 78.0
  COORDINATE_SYSTEM_NAME = PLANETOGRAPHIC
  COORDINATE_SYSTEM_TYPE = "BODY-FIXED ROTATING"
  EASTERNMOST_LONGITUDE = 78.3171
  FIRST_STANDARD_PARALLEL = "N/A"
  LINE_FIRST_PIXEL = 1
  LINE_LAST_PIXEL = 21584
  LINE_PROJECTION_OFFSET = 97830.0
  MAP_PROJECTION_ROTATION = 0.0
  MAP_PROJECTION_TYPE = SINUSOIDAL
  MAP_RESOLUTION = 4741.71043093333
  MAP_SCALE = 0.0125
  MAXIMUM_LATITUDE = 20.6523
  MINIMUM_LATITUDE = 16.0519
  POSITIVE_LONGITUDE_DIRECTION = EAST
  REFERENCE_LATITUDE = "N/A"
  REFERENCE_LONGITUDE = "N/A"
  SAMPLE_FIRST_PIXEL = 1
  SAMPLE_LAST_PIXEL = 5886
  SAMPLE_PROJECTION_OFFSET = 4476.0
  SECOND_STANDARD_PARALLEL = "N/A"
  WESTERNMOST_LONGITUDE = 76.9778
END_OBJECT = IMAGE_MAP_PROJECTION
END
