PDS_VERSION_ID = PDS3
/* FILE DATA ELEMENTS */
RECORD_TYPE = UNDEFINED
/* POINTERS TO DATA OBJECTS */
^IMAGE = ("H7286_0000_S14.TIF")
/* IDENTIFICATION DATA ELEMENTS */
DATA_SET_ID = "MEX-M-HRSC-4-REFDR-MAPPROJECT-EXT3-V4.0"
DATA_SET_NAME = "MARS EXPRESS HRSC MAP PROJECTED REFDR EXTENSION3 V4.0"
DETECTOR_ID = MEX_HRSC_S1
EVENT_TYPE = "MARS-REGIONAL-MAPPING-Im-Fl"
INSTRUMENT_HOST_ID = MEX
INSTRUMENT_HOST_NAME = "MARS EXPRESS"
INSTRUMENT_ID = HRSC
INSTRUMENT_NAME = "HIGH RESOLUTION STEREO CAMERA"
MISSION_NAME = "MARS EXPRESS"
MISSION_PHASE_NAME = ME_Phase_18
PROCESSING_LEVEL_ID = 4
PRODUCT_CREATION_TIME = 2023-02-01T22:33:16.000Z
PRODUCT_ID = "H7286_0000_S14.TIF"
RELEASE_ID = 0002
REVISION_ID = 0000
/* QUALITY DATA ELEMENTS */
DATA_QUALITY_ID = 1
DATA_QUALITY_DESC = "Data calculated based on original SPICE kernels"
/* TIME DATA ELEMENTS */
SPACECRAFT_CLOCK_START_COUNT = "1/0200373684.08247"
SPACECRAFT_CLOCK_STOP_COUNT = "1/0200374020.09192"
START_TIME = 2009-09-07T03:21:26.588Z
STOP_TIME = 2009-09-07T03:25:56.606Z
/* ORBITAL DATA ELEMENTS */
ASCENDING_NODE_LONGITUDE = 78.47
MAXIMUM_RESOLUTION = 0.0291
FOOTPRINT_POINT_LATITUDE = (29.7719,29.7869,29.7966,29.8037, 29.8038,29.7594,29.1746,28.5825,28.1971 ,27.8643,27.3614,27.0223,26.3623, 26.0252,25.521,25.1854,24.8485,24.5109, 24.0044,23.4928,23.1525,22.6436,22.3047 ,21.9617,21.6212,21.2771,20.935,20.5916 ,20.2484,19.9051,19.5606,19.0447, 18.6993,18.3561,17.8374,17.4914,17.1459 ,16.7997,16.4539,16.107,15.5878,15.0705 ,14.7234,14.2019,13.8509,13.5011,12.981 ,12.6322,12.4582,12.4452,12.4217, 12.4016,12.4015,12.4018,12.9237,13.4447 ,13.7922,14.3135,14.6626,15.0096, 15.3566,15.7041,16.2246,16.571,16.9178, 17.2653,17.611,17.9565,18.2976,18.647, 18.9905,19.5078,19.8536,20.1978,20.5408 ,20.8832,21.3967,21.9093,22.2508,22.592 ,23.102,23.4428,23.9527,24.4543,24.7967 ,25.1354,25.6406,25.9772,26.314,26.6501 ,26.985,27.3192,27.6513,27.9844,28.3364 ,28.7325,29.128,29.5213,29.7183, 29.7719)
FOOTPRINT_POINT_LONGITUDE = (22.3695,21.8088,21.343,20.8823,20.868, 20.8607,20.8745,20.8871,20.8948,20.9011 ,20.91,20.9155,20.9267,20.9317,20.9387, 20.9432,20.9474,20.9514,20.957,20.9619, 20.965,20.9693,20.9719,20.9742,20.9764, 20.9782,20.98,20.9815,20.9829,20.984, 20.9849,20.986,20.9865,20.9869,20.9869, 20.9868,20.9864,20.9859,20.9853,20.9844 ,20.9828,20.981,20.9795,20.9769,20.9748 ,20.9726,20.9693,20.9668,20.9655, 20.9654,21.7005,22.2049,22.217,22.2215, 22.2252,22.2293,22.2319,22.2358,22.2374 ,22.2402,22.2428,22.2452,22.249,22.2517 ,22.2542,22.2562,22.2591,22.262,22.2674 ,22.2678,22.2715,22.2756,22.2777, 22.2805,22.2839,22.2875,22.2925,22.2978 ,22.3013,22.3047,22.3105,22.3136, 22.3187,22.3284,22.3297,22.3329,22.3392 ,22.3432,22.3467,22.3505,22.3547, 22.3591,22.3645,22.369,22.3734,22.3789, 22.3845,22.3908,22.3937,22.3695)
ORBIT_NUMBER = 7286
ORBITAL_ECCENTRICITY = 0.574
ORBITAL_INCLINATION = 86.79
ORBITAL_SEMIMAJOR_AXIS = 8765.8
PERIAPSIS_ALTITUDE = 341.4
PERIAPSIS_ARGUMENT_ANGLE = 160.15
PERIAPSIS_TIME = 2009-09-07T03:24:33.000Z
SPACECRAFT_ORIENTATION = (0.0,-1.0,0.0)
^MEX_ORIENTATION_DESC = "MEX_ORIENTATION_DESC.TXT"
SPACECRAFT_POINTING_MODE = ACROSSTRACK
^MEX_POINTING_DESC = "MEX_POINTING_DESC.TXT"
RIGHT_ASCENSION = -1e+32
DECLINATION = -1e+32
OFFSET_ANGLE = 0.5
SPACECRAFT_SOLAR_DISTANCE = 2.23486e+08
TARGET_NAME = MARS
/* CAMERA DATA ELEMENTS */
DETECTOR_TEMPERATURE = 17.5549
FOCAL_PLANE_TEMPERATURE = 8.3794
INST_CMPRS_NAME = "DISCRETE COSINE TRANSFORMATION (DCT)"
INST_CMPRS_RATIO = 9.26497
INST_CMPRS_QUALITY = 0
INST_CMPRS_QUANTZ_TBL_ID = 0
INSTRUMENT_TEMPERATURE = 11.234
LENS_TEMPERATURE = 8.9911
MACROPIXEL_SIZE = 2
MISSING_FRAMES = 0
PIXEL_SUBSAMPLING_FLAG = N
SIGNAL_CHAIN_ID = 1
/* RADIOMETRIC DATA ELEMENTS */
BANDWIDTH = 180.0
CENTER_FILTER_WAVELENGTH = 677.0
RADIANCE_OFFSET = 4.3598
RADIANCE_SCALING_FACTOR = 0.0155629
REFLECTANCE_SCALING_FACTOR = 0.000405538
MEX:REFLECTANCE_OFFSET = 0.113608
/* IMAGE OBJECT DEFINITIONS */
OBJECT = IMAGE
  INTERCHANGE_FORMAT = BINARY
  LINES = 41083
  LINE_SAMPLES = 3174
  SAMPLE_TYPE = UNSIGNED_INTEGER
  SAMPLE_BITS = 8
  BANDS = 1
  BAND_STORAGE_TYPE = BAND_SEQUENTIAL
  MAXIMUM = 255
  MEAN = 123.199
  MINIMUM = 1
  STANDARD_DEVIATION = 23.0183
END_OBJECT = IMAGE
/* MAP OBJECT DEFINITIONS */
OBJECT = IMAGE_MAP_PROJECTION
  ^DATA_SET_MAP_PROJECTION_CATALOG= "DSMAP.CAT"
  A_AXIS_RADIUS = 3396.0
  B_AXIS_RADIUS = 3396.0
  C_AXIS_RADIUS = 3396.0
  CENTER_LATITUDE = 0.0
  CENTER_LONGITUDE = 22.0
  COORDINATE_SYSTEM_NAME = PLANETOGRAPHIC
  COORDINATE_SYSTEM_TYPE = "BODY-FIXED ROTATING"
  EASTERNMOST_LONGITUDE = 22.3937
  FIRST_STANDARD_PARALLEL = "N/A"
  LINE_FIRST_PIXEL = 1
  LINE_LAST_PIXEL = 41083
  LINE_PROJECTION_OFFSET = 70526.75
  MAP_PROJECTION_ROTATION = 0.0
  MAP_PROJECTION_TYPE = SINUSOIDAL
  MAP_RESOLUTION = 2370.85521546667
  MAP_SCALE = 0.025
  MAXIMUM_LATITUDE = 29.8038
  MINIMUM_LATITUDE = 12.4015
  POSITIVE_LONGITUDE_DIRECTION = EAST
  REFERENCE_LATITUDE = "N/A"
  REFERENCE_LONGITUDE = "N/A"
  SAMPLE_FIRST_PIXEL = 1
  SAMPLE_LAST_PIXEL = 3174
  SAMPLE_PROJECTION_OFFSET = 2422.25
  SECOND_STANDARD_PARALLEL = "N/A"
  WESTERNMOST_LONGITUDE = 20.8607
END_OBJECT = IMAGE_MAP_PROJECTION
END
