PDS_VERSION_ID = PDS3
/* FILE DATA ELEMENTS */
RECORD_TYPE = UNDEFINED
/* POINTERS TO DATA OBJECTS */
^IMAGE = ("H7284_0000_S14.TIF")
/* IDENTIFICATION DATA ELEMENTS */
DATA_SET_ID = "MEX-M-HRSC-4-REFDR-MAPPROJECT-EXT3-V4.0"
DATA_SET_NAME = "MARS EXPRESS HRSC MAP PROJECTED REFDR EXTENSION3 V4.0"
DETECTOR_ID = MEX_HRSC_S1
EVENT_TYPE = "MARS-REGIONAL-MAPPING-Vo-Eo"
INSTRUMENT_HOST_ID = MEX
INSTRUMENT_HOST_NAME = "MARS EXPRESS"
INSTRUMENT_ID = HRSC
INSTRUMENT_NAME = "HIGH RESOLUTION STEREO CAMERA"
MISSION_NAME = "MARS EXPRESS"
MISSION_PHASE_NAME = ME_Phase_18
PROCESSING_LEVEL_ID = 4
PRODUCT_CREATION_TIME = 2023-02-01T22:33:16.000Z
PRODUCT_ID = "H7284_0000_S14.TIF"
RELEASE_ID = 0002
REVISION_ID = 0000
/* QUALITY DATA ELEMENTS */
DATA_QUALITY_ID = 1
DATA_QUALITY_DESC = "Data calculated based on original SPICE kernels"
/* TIME DATA ELEMENTS */
SPACECRAFT_CLOCK_START_COUNT = "1/0200324262.09078"
SPACECRAFT_CLOCK_STOP_COUNT = "1/0200324570.42825"
START_TIME = 2009-09-06T13:37:44.622Z
STOP_TIME = 2009-09-06T13:41:31.735Z
/* ORBITAL DATA ELEMENTS */
ASCENDING_NODE_LONGITUDE = 78.51
MAXIMUM_RESOLUTION = 0.0288
FOOTPRINT_POINT_LATITUDE = (14.8381,14.8325,14.8256,14.8216, 14.8154,14.8151,14.8142,14.5339,14.2527 ,13.9723,13.5524,13.1321,12.7108, 12.4305,12.0113,11.7318,11.4523,11.1727 ,10.893,10.6133,10.1938,9.77461,9.49484 ,9.21469,8.93503,8.51539,8.09626, 7.67795,7.25828,6.97784,6.69813,6.41739 ,6.135,5.85224,5.57207,5.27327,4.93996, 4.60523,4.26908,3.93412,3.59854,3.09545 ,2.42585,2.09154,1.59035,1.25773, 0.925211,0.427523,0.0948907,-0.0716639, -0.116142,-0.111882,-0.107774,-0.106394 ,-0.10349,-0.103428,-0.10289,0.39633, 0.72927,1.06079,1.39546,1.89658,2.23399 ,2.56931,3.07287,3.40854,3.74396, 4.07888,4.41491,4.7507,5.08553,5.41856, 5.69843,5.9801,6.40179,6.68118,6.96039, 7.51965,7.93877,8.35883,8.77843,9.19781 ,9.61764,10.0374,10.3174,10.5974, 10.8775,11.1574,11.5772,11.9969,12.2768 ,12.6971,12.9779,13.2589,13.5413, 13.9653,14.2481,14.6724,14.8143, 14.8381)
FOOTPRINT_POINT_LONGITUDE = (223.087,222.707,222.324,222.131, 221.865,221.853,221.849,221.848,221.846 ,221.845,221.843,221.841,221.839, 221.837,221.835,221.834,221.833,221.831 ,221.829,221.827,221.825,221.822,221.82 ,221.817,221.815,221.811,221.807, 221.804,221.8,221.796,221.793,221.789, 221.785,221.78,221.776,221.772,221.767, 221.762,221.756,221.751,221.745,221.735 ,221.723,221.717,221.707,221.701, 221.695,221.686,221.679,221.676,221.675 ,222.06,222.443,222.675,223.068,223.082 ,223.087,223.086,223.085,223.084, 223.083,223.082,223.081,223.08,223.079, 223.079,223.078,223.078,223.077,223.077 ,223.077,223.077,223.077,223.076, 223.076,223.076,223.077,223.077,223.077 ,223.078,223.078,223.079,223.079,223.08 ,223.08,223.081,223.081,223.081,223.082 ,223.083,223.083,223.084,223.084, 223.084,223.085,223.085,223.085,223.085 ,223.085,223.087)
ORBIT_NUMBER = 7284
ORBITAL_ECCENTRICITY = 0.574
ORBITAL_INCLINATION = 86.81
ORBITAL_SEMIMAJOR_AXIS = 8771.75
PERIAPSIS_ALTITUDE = 340.82
PERIAPSIS_ARGUMENT_ANGLE = 160.47
PERIAPSIS_TIME = 2009-09-06T13:37:03.000Z
SPACECRAFT_ORIENTATION = (0.0,-1.0,0.0)
^MEX_ORIENTATION_DESC = "MEX_ORIENTATION_DESC.TXT"
SPACECRAFT_POINTING_MODE = ACROSSTRACK
^MEX_POINTING_DESC = "MEX_POINTING_DESC.TXT"
RIGHT_ASCENSION = -1e+32
DECLINATION = -1e+32
OFFSET_ANGLE = -0.3
SPACECRAFT_SOLAR_DISTANCE = 2.23375e+08
TARGET_NAME = MARS
/* CAMERA DATA ELEMENTS */
DETECTOR_TEMPERATURE = 17.5549
FOCAL_PLANE_TEMPERATURE = 8.7872
INST_CMPRS_NAME = "DISCRETE COSINE TRANSFORMATION (DCT)"
INST_CMPRS_RATIO = 10.5078
INST_CMPRS_QUALITY = 0
INST_CMPRS_QUANTZ_TBL_ID = 0
INSTRUMENT_TEMPERATURE = 11.234
LENS_TEMPERATURE = 9.3989
MACROPIXEL_SIZE = 2
MISSING_FRAMES = 0
PIXEL_SUBSAMPLING_FLAG = N
SIGNAL_CHAIN_ID = 1
/* RADIOMETRIC DATA ELEMENTS */
BANDWIDTH = 180.0
CENTER_FILTER_WAVELENGTH = 677.0
RADIANCE_OFFSET = 5.92486
RADIANCE_SCALING_FACTOR = 0.0107406
REFLECTANCE_SCALING_FACTOR = 0.0002796
MEX:REFLECTANCE_OFFSET = 0.154236
/* IMAGE OBJECT DEFINITIONS */
OBJECT = IMAGE
  INTERCHANGE_FORMAT = BINARY
  LINES = 35437
  LINE_SAMPLES = 3488
  SAMPLE_TYPE = UNSIGNED_INTEGER
  SAMPLE_BITS = 8
  BANDS = 1
  BAND_STORAGE_TYPE = BAND_SEQUENTIAL
  MAXIMUM = 255
  MEAN = 142.845
  MINIMUM = 1
  STANDARD_DEVIATION = 29.5084
END_OBJECT = IMAGE
/* MAP OBJECT DEFINITIONS */
OBJECT = IMAGE_MAP_PROJECTION
  ^DATA_SET_MAP_PROJECTION_CATALOG= "DSMAP.CAT"
  A_AXIS_RADIUS = 3396.0
  B_AXIS_RADIUS = 3396.0
  C_AXIS_RADIUS = 3396.0
  CENTER_LATITUDE = 0.0
  CENTER_LONGITUDE = 222.0
  COORDINATE_SYSTEM_NAME = PLANETOGRAPHIC
  COORDINATE_SYSTEM_TYPE = "BODY-FIXED ROTATING"
  EASTERNMOST_LONGITUDE = 223.087
  FIRST_STANDARD_PARALLEL = "N/A"
  LINE_FIRST_PIXEL = 1
  LINE_LAST_PIXEL = 35437
  LINE_PROJECTION_OFFSET = 35124.75
  MAP_PROJECTION_ROTATION = 0.0
  MAP_PROJECTION_TYPE = SINUSOIDAL
  MAP_RESOLUTION = 2370.85521546667
  MAP_SCALE = 0.025
  MAXIMUM_LATITUDE = 14.8381
  MINIMUM_LATITUDE = -0.116142
  POSITIVE_LONGITUDE_DIRECTION = EAST
  REFERENCE_LATITUDE = "N/A"
  REFERENCE_LONGITUDE = "N/A"
  SAMPLE_FIRST_PIXEL = 1
  SAMPLE_LAST_PIXEL = 3488
  SAMPLE_PROJECTION_OFFSET = 837.25
  SECOND_STANDARD_PARALLEL = "N/A"
  WESTERNMOST_LONGITUDE = 221.675
END_OBJECT = IMAGE_MAP_PROJECTION
END
