PDS_VERSION_ID = PDS3
/* FILE DATA ELEMENTS */
RECORD_TYPE = UNDEFINED
/* POINTERS TO DATA OBJECTS */
^IMAGE = ("H7282_0000_S14.TIF")
/* IDENTIFICATION DATA ELEMENTS */
DATA_SET_ID = "MEX-M-HRSC-4-REFDR-MAPPROJECT-EXT3-V4.0"
DATA_SET_NAME = "MARS EXPRESS HRSC MAP PROJECTED REFDR EXTENSION3 V4.0"
DETECTOR_ID = MEX_HRSC_S1
EVENT_TYPE = "MARS-REGIONAL-MAPPING-Vo-Im-Eo"
INSTRUMENT_HOST_ID = MEX
INSTRUMENT_HOST_NAME = "MARS EXPRESS"
INSTRUMENT_ID = HRSC
INSTRUMENT_NAME = "HIGH RESOLUTION STEREO CAMERA"
MISSION_NAME = "MARS EXPRESS"
MISSION_PHASE_NAME = ME_Phase_18
PROCESSING_LEVEL_ID = 4
PRODUCT_CREATION_TIME = 2023-02-01T22:33:16.000Z
PRODUCT_ID = "H7282_0000_S14.TIF"
RELEASE_ID = 0002
REVISION_ID = 0000
/* QUALITY DATA ELEMENTS */
DATA_QUALITY_ID = 1
DATA_QUALITY_DESC = "Data calculated based on original SPICE kernels"
/* TIME DATA ELEMENTS */
SPACECRAFT_CLOCK_START_COUNT = "1/0200274518.09136"
SPACECRAFT_CLOCK_STOP_COUNT = "1/0200274771.58805"
START_TIME = 2009-09-05T23:48:40.593Z
STOP_TIME = 2009-09-05T23:51:46.722Z
/* ORBITAL DATA ELEMENTS */
ASCENDING_NODE_LONGITUDE = 78.54
MAXIMUM_RESOLUTION = 0.0288
FOOTPRINT_POINT_LATITUDE = (21.4238,21.4206,21.4133,21.4078, 21.4075,21.3966,20.919,20.5602,20.3209, 20.0816,19.8419,19.4829,19.0039,18.5245 ,18.2841,18.0436,17.6819,17.4407, 17.0786,16.837,16.5955,16.3538,16.1119, 15.7491,15.5067,15.2647,14.9011,14.6584 ,14.4161,14.1736,13.9308,13.6874, 13.3227,13.0796,12.7146,12.3494,12.1059 ,11.8622,11.4971,11.2535,11.0091, 10.7649,10.5205,10.2759,10.0321,9.78782 ,9.42069,9.29883,9.28055,9.28351,9.2857 ,9.28734,9.288,9.2881,9.28853,9.65512, 10.0222,10.2667,10.5108,10.7547,10.9991 ,11.2431,11.4872,11.7306,11.9744, 12.2183,12.4622,12.7062,13.072,13.4365, 13.6797,13.9229,14.1656,14.4086,14.6513 ,14.8946,15.137,15.5006,15.8641,16.1066 ,16.3486,16.5903,16.8316,17.1936,17.435 ,17.6764,18.0384,18.5176,18.7616, 19.0017,19.3617,19.602,19.8416,20.0817, 20.3223,20.5624,20.8043,21.2762,21.392, 21.4238)
FOOTPRINT_POINT_LONGITUDE = (64.9155,64.518,63.9565,63.643,63.6304, 63.6222,63.6271,63.6304,63.6326,63.6347 ,63.6366,63.6396,63.6434,63.6468, 63.6482,63.6495,63.6509,63.6519,63.653, 63.6537,63.6543,63.6548,63.6552,63.6557 ,63.6558,63.656,63.6559,63.6557,63.6556 ,63.6553,63.6549,63.6542,63.6532, 63.6524,63.6511,63.6496,63.6485,63.6472 ,63.6454,63.644,63.6423,63.6406,63.6387 ,63.6367,63.6349,63.6329,63.6295, 63.6285,63.6283,63.9301,64.1828,64.6027 ,64.8537,64.8657,64.8699,64.8707, 64.8714,64.872,64.8726,64.8733,64.8739, 64.8745,64.8752,64.876,64.8768,64.8775, 64.8782,64.8789,64.8799,64.8813,64.8822 ,64.8831,64.884,64.8849,64.8859,64.8867 ,64.8877,64.8892,64.8907,64.8917, 64.8927,64.8938,64.895,64.8967,64.8978, 64.8989,64.9005,64.9034,64.9038,64.9051 ,64.907,64.9081,64.9095,64.9106,64.9116 ,64.9127,64.9133,64.9173,64.9189, 64.9155)
ORBIT_NUMBER = 7282
ORBITAL_ECCENTRICITY = 0.574
ORBITAL_INCLINATION = 86.82
ORBITAL_SEMIMAJOR_AXIS = 8769.05
PERIAPSIS_ALTITUDE = 340.41
PERIAPSIS_ARGUMENT_ANGLE = 160.85
PERIAPSIS_TIME = 2009-09-05T23:49:46.000Z
SPACECRAFT_ORIENTATION = (0.0,-1.0,0.0)
^MEX_ORIENTATION_DESC = "MEX_ORIENTATION_DESC.TXT"
SPACECRAFT_POINTING_MODE = ACROSSTRACK
^MEX_POINTING_DESC = "MEX_POINTING_DESC.TXT"
RIGHT_ASCENSION = -1e+32
DECLINATION = -1e+32
OFFSET_ANGLE = -0.15
SPACECRAFT_SOLAR_DISTANCE = 2.23263e+08
TARGET_NAME = MARS
/* CAMERA DATA ELEMENTS */
DETECTOR_TEMPERATURE = 17.5549
FOCAL_PLANE_TEMPERATURE = 8.7872
INST_CMPRS_NAME = "DISCRETE COSINE TRANSFORMATION (DCT)"
INST_CMPRS_RATIO = 12.631
INST_CMPRS_QUALITY = 0
INST_CMPRS_QUANTZ_TBL_ID = 0
INSTRUMENT_TEMPERATURE = 11.234
LENS_TEMPERATURE = 9.195
MACROPIXEL_SIZE = 2
MISSING_FRAMES = 0
PIXEL_SUBSAMPLING_FLAG = N
SIGNAL_CHAIN_ID = 1
/* RADIOMETRIC DATA ELEMENTS */
BANDWIDTH = 180.0
CENTER_FILTER_WAVELENGTH = 677.0
RADIANCE_OFFSET = 3.01592
RADIANCE_SCALING_FACTOR = 0.0118271
REFLECTANCE_SCALING_FACTOR = 0.000307579
MEX:REFLECTANCE_OFFSET = 0.0784326
/* IMAGE OBJECT DEFINITIONS */
OBJECT = IMAGE
  INTERCHANGE_FORMAT = BINARY
  LINES = 28774
  LINE_SAMPLES = 2959
  SAMPLE_TYPE = UNSIGNED_INTEGER
  SAMPLE_BITS = 8
  BANDS = 1
  BAND_STORAGE_TYPE = BAND_SEQUENTIAL
  MAXIMUM = 255
  MEAN = 109.15
  MINIMUM = 1
  STANDARD_DEVIATION = 25.0438
END_OBJECT = IMAGE
/* MAP OBJECT DEFINITIONS */
OBJECT = IMAGE_MAP_PROJECTION
  ^DATA_SET_MAP_PROJECTION_CATALOG= "DSMAP.CAT"
  A_AXIS_RADIUS = 3396.0
  B_AXIS_RADIUS = 3396.0
  C_AXIS_RADIUS = 3396.0
  CENTER_LATITUDE = 0.0
  CENTER_LONGITUDE = 64.0
  COORDINATE_SYSTEM_NAME = PLANETOGRAPHIC
  COORDINATE_SYSTEM_TYPE = "BODY-FIXED ROTATING"
  EASTERNMOST_LONGITUDE = 64.91889999999999
  FIRST_STANDARD_PARALLEL = "N/A"
  LINE_FIRST_PIXEL = 1
  LINE_LAST_PIXEL = 28774
  LINE_PROJECTION_OFFSET = 50722.25
  MAP_PROJECTION_ROTATION = 0.0
  MAP_PROJECTION_TYPE = SINUSOIDAL
  MAP_RESOLUTION = 2370.85521546667
  MAP_SCALE = 0.025
  MAXIMUM_LATITUDE = 21.4238
  MINIMUM_LATITUDE = 9.28055
  POSITIVE_LONGITUDE_DIRECTION = EAST
  REFERENCE_LATITUDE = "N/A"
  REFERENCE_LONGITUDE = "N/A"
  SAMPLE_FIRST_PIXEL = 1
  SAMPLE_LAST_PIXEL = 2959
  SAMPLE_PROJECTION_OFFSET = 898.25
  SECOND_STANDARD_PARALLEL = "N/A"
  WESTERNMOST_LONGITUDE = 63.6222
END_OBJECT = IMAGE_MAP_PROJECTION
END
