PDS_VERSION_ID = PDS3
/* FILE DATA ELEMENTS */
RECORD_TYPE = UNDEFINED
/* POINTERS TO DATA OBJECTS */
^IMAGE = ("H7275_0000_IR4.TIF")
/* IDENTIFICATION DATA ELEMENTS */
DATA_SET_ID = "MEX-M-HRSC-4-REFDR-MAPPROJECT-EXT3-V4.0"
DATA_SET_NAME = "MARS EXPRESS HRSC MAP PROJECTED REFDR EXTENSION3 V4.0"
DETECTOR_ID = MEX_HRSC_IR
EVENT_TYPE = "MARS-REGIONAL-MAPPING-Te-Im-Gl"
INSTRUMENT_HOST_ID = MEX
INSTRUMENT_HOST_NAME = "MARS EXPRESS"
INSTRUMENT_ID = HRSC
INSTRUMENT_NAME = "HIGH RESOLUTION STEREO CAMERA"
MISSION_NAME = "MARS EXPRESS"
MISSION_PHASE_NAME = ME_Phase_18
PROCESSING_LEVEL_ID = 4
PRODUCT_CREATION_TIME = 2023-02-01T22:33:16.000Z
PRODUCT_ID = "H7275_0000_IR4.TIF"
RELEASE_ID = 0002
REVISION_ID = 0000
/* QUALITY DATA ELEMENTS */
DATA_QUALITY_ID = 1
DATA_QUALITY_DESC = "Data calculated based on original SPICE kernels"
/* TIME DATA ELEMENTS */
SPACECRAFT_CLOCK_START_COUNT = "1/0200101188.08283"
SPACECRAFT_CLOCK_STOP_COUNT = "1/0200101535.01504"
START_TIME = 2009-09-03T23:39:57.675Z
STOP_TIME = 2009-09-03T23:43:21.803Z
/* ORBITAL DATA ELEMENTS */
ASCENDING_NODE_LONGITUDE = 78.68
MAXIMUM_RESOLUTION = 0.0755
FOOTPRINT_POINT_LATITUDE = (-7.6985,-7.68595,-7.67841,-7.6711, -7.66402,-7.65711,-7.65039,-7.64998, -7.63845,-8.08497,-8.42437,-8.87938, -9.45466,-9.6867,-10.0345,-10.2697, -10.5068,-10.7436,-10.9803,-11.2208, -11.4645,-11.7024,-12.0681,-12.3134, -12.5637,-12.9325,-13.1825,-13.5582, -13.9401,-14.4516,-14.8411,-15.1005, -15.3661,-15.7598,-16.0278,-16.4303, -16.701,-16.9732,-17.3832,-17.658, -17.933,-18.213,-18.4945,-18.7805, -19.0661,-19.4981,-19.7868,-20.2255, -20.3714,-20.4342,-20.4403,-20.4495, -20.4653,-20.4739,-20.4809,-20.487, -20.4875,-20.486,-20.1932,-19.7547, -19.4677,-19.1778,-18.8936,-18.4688, -18.1885,-17.9088,-17.6314,-17.217, -16.8081,-16.5352,-16.2683,-15.8662, -15.5969,-15.334,-14.9382,-14.6798, -14.2941,-14.04,-13.6631,-13.2804, -12.9077,-12.6584,-12.4127,-12.1673, -11.8007,-11.5593,-11.2011,-10.9622, -10.7257,-10.37,-10.1326,-9.89955, -9.66793,-9.43554,-9.20364,-8.7484, -8.18053,-7.84549,-7.73394,-7.6985)
FOOTPRINT_POINT_LONGITUDE = (51.4598,51.0649,50.8235,50.5833, 50.3445,50.1066,49.8696,49.8549,49.853, 49.8404,49.8307,49.8176,49.8007,49.7938 ,49.7834,49.7763,49.769,49.7617,49.7543 ,49.7468,49.7388,49.7317,49.72,49.7121, 49.7032,49.6916,49.6833,49.6707,49.6577 ,49.64,49.6262,49.617,49.6072,49.5932, 49.5832,49.5682,49.5581,49.5479,49.5324 ,49.5221,49.5117,49.5009,49.4896, 49.4779,49.4663,49.4487,49.4369,49.4187 ,49.4127,49.4102,49.6826,50.0842,50.637 ,50.9795,51.4081,51.6674,51.6891, 51.6961,51.6876,51.6742,51.6672,51.6579 ,51.6505,51.6394,51.6323,51.6253, 51.6178,51.6074,51.5973,51.5905,51.585, 51.5763,51.5672,51.5622,51.5522,51.5475 ,51.5415,51.537,51.5332,51.5232,51.5186 ,51.5142,51.5103,51.5067,51.5012, 51.4976,51.4947,51.4917,51.4885,51.4836 ,51.48,51.4765,51.474,51.4712,51.4686, 51.4634,51.4575,51.4537,51.4526, 51.4598)
ORBIT_NUMBER = 7275
ORBITAL_ECCENTRICITY = 0.574
ORBITAL_INCLINATION = 86.81
ORBITAL_SEMIMAJOR_AXIS = 8770.28
PERIAPSIS_ALTITUDE = 339.86
PERIAPSIS_ARGUMENT_ANGLE = 162.09
PERIAPSIS_TIME = 2009-09-03T23:33:51.000Z
SPACECRAFT_ORIENTATION = (0.0,-1.0,0.0)
^MEX_ORIENTATION_DESC = "MEX_ORIENTATION_DESC.TXT"
SPACECRAFT_POINTING_MODE = ACROSSTRACK
^MEX_POINTING_DESC = "MEX_POINTING_DESC.TXT"
RIGHT_ASCENSION = -1e+32
DECLINATION = -1e+32
OFFSET_ANGLE = 0.5
SPACECRAFT_SOLAR_DISTANCE = 2.22874e+08
TARGET_NAME = MARS
/* CAMERA DATA ELEMENTS */
DETECTOR_TEMPERATURE = 17.5549
FOCAL_PLANE_TEMPERATURE = 8.7872
INST_CMPRS_NAME = "DISCRETE COSINE TRANSFORMATION (DCT)"
INST_CMPRS_RATIO = 16.7423
INST_CMPRS_QUALITY = 0
INST_CMPRS_QUANTZ_TBL_ID = 0
INSTRUMENT_TEMPERATURE = 11.234
LENS_TEMPERATURE = 8.9911
MACROPIXEL_SIZE = 4
MISSING_FRAMES = 0
PIXEL_SUBSAMPLING_FLAG = N
SIGNAL_CHAIN_ID = 2
/* RADIOMETRIC DATA ELEMENTS */
BANDWIDTH = 81.0
CENTER_FILTER_WAVELENGTH = 955.5
RADIANCE_OFFSET = 0.579283
RADIANCE_SCALING_FACTOR = 0.00435921
REFLECTANCE_SCALING_FACTOR = 0.000467149
MEX:REFLECTANCE_OFFSET = 0.0620782
/* IMAGE OBJECT DEFINITIONS */
OBJECT = IMAGE
  INTERCHANGE_FORMAT = BINARY
  LINES = 7589
  LINE_SAMPLES = 1369
  SAMPLE_TYPE = UNSIGNED_INTEGER
  SAMPLE_BITS = 8
  BANDS = 1
  BAND_STORAGE_TYPE = BAND_SEQUENTIAL
  MAXIMUM = 255
  MEAN = 102.526
  MINIMUM = 1
  STANDARD_DEVIATION = 32.037
END_OBJECT = IMAGE
/* MAP OBJECT DEFINITIONS */
OBJECT = IMAGE_MAP_PROJECTION
  ^DATA_SET_MAP_PROJECTION_CATALOG= "DSMAP.CAT"
  A_AXIS_RADIUS = 3396.0
  B_AXIS_RADIUS = 3396.0
  C_AXIS_RADIUS = 3396.0
  CENTER_LATITUDE = 0.0
  CENTER_LONGITUDE = 51.0
  COORDINATE_SYSTEM_NAME = PLANETOGRAPHIC
  COORDINATE_SYSTEM_TYPE = "BODY-FIXED ROTATING"
  EASTERNMOST_LONGITUDE = 51.6961
  FIRST_STANDARD_PARALLEL = "N/A"
  LINE_FIRST_PIXEL = 1
  LINE_LAST_PIXEL = 7589
  LINE_PROJECTION_OFFSET = -4540.125
  MAP_PROJECTION_ROTATION = 0.0
  MAP_PROJECTION_TYPE = SINUSOIDAL
  MAP_RESOLUTION = 592.713803866667
  MAP_SCALE = 0.1
  MAXIMUM_LATITUDE = -7.63845
  MINIMUM_LATITUDE = -20.4875
  POSITIVE_LONGITUDE_DIRECTION = EAST
  REFERENCE_LATITUDE = "N/A"
  REFERENCE_LONGITUDE = "N/A"
  SAMPLE_FIRST_PIXEL = 1
  SAMPLE_LAST_PIXEL = 1369
  SAMPLE_PROJECTION_OFFSET = 935.375
  SECOND_STANDARD_PARALLEL = "N/A"
  WESTERNMOST_LONGITUDE = 49.4102
END_OBJECT = IMAGE_MAP_PROJECTION
END
