PDS_VERSION_ID = PDS3
/* FILE DATA ELEMENTS */
RECORD_TYPE = UNDEFINED
/* POINTERS TO DATA OBJECTS */
^IMAGE = ("H7274_0000_S24.TIF")
/* IDENTIFICATION DATA ELEMENTS */
DATA_SET_ID = "MEX-M-HRSC-4-REFDR-MAPPROJECT-EXT3-V4.0"
DATA_SET_NAME = "MARS EXPRESS HRSC MAP PROJECTED REFDR EXTENSION3 V4.0"
DETECTOR_ID = MEX_HRSC_S2
EVENT_TYPE = "MARS-REGIONAL-MAPPING-Te-Fl-Lc"
INSTRUMENT_HOST_ID = MEX
INSTRUMENT_HOST_NAME = "MARS EXPRESS"
INSTRUMENT_ID = HRSC
INSTRUMENT_NAME = "HIGH RESOLUTION STEREO CAMERA"
MISSION_NAME = "MARS EXPRESS"
MISSION_PHASE_NAME = ME_Phase_18
PROCESSING_LEVEL_ID = 4
PRODUCT_CREATION_TIME = 2023-02-01T22:33:16.000Z
PRODUCT_ID = "H7274_0000_S24.TIF"
RELEASE_ID = 0002
REVISION_ID = 0000
/* QUALITY DATA ELEMENTS */
DATA_QUALITY_ID = 1
DATA_QUALITY_DESC = "Data calculated based on original SPICE kernels"
/* TIME DATA ELEMENTS */
SPACECRAFT_CLOCK_START_COUNT = "1/0200076245.07308"
SPACECRAFT_CLOCK_STOP_COUNT = "1/0200076541.11014"
START_TIME = 2009-09-03T16:45:23.335Z
STOP_TIME = 2009-09-03T16:49:01.686Z
/* ORBITAL DATA ELEMENTS */
ASCENDING_NODE_LONGITUDE = 78.69
MAXIMUM_RESOLUTION = 0.0364 <m/pixel>
FOOTPRINT_POINT_LATITUDE = (0.158667,0.163758,0.169201,0.175049, 0.18134,0.188051,0.197901,0.198365, 0.217688,-0.440596,-0.887027,-1.55683, -2.01413,-2.4651,-2.69558,-2.92682, -3.15763,-3.5053,-3.85807,-4.09343, -4.32678,-4.56631,-4.80583,-5.0423, -5.2836,-5.52268,-5.76546,-6.00988, -6.25303,-6.4988,-6.74164,-6.98899, -7.23679,-7.48761,-7.87487,-8.25539, -8.51171,-8.89766,-9.15527,-9.41401, -9.6797,-9.9408,-10.204,-10.47,-10.7352 ,-11.0058,-11.2743,-11.5467,-11.8206, -11.956,-11.9893,-11.9985,-12.0127, -12.0237,-12.0298,-12.0359,-12.0362, -12.0356,-11.7628,-11.4927,-11.089, -10.6836,-10.2867,-10.0204,-9.75717, -9.49301,-9.23582,-8.9748,-8.58753, -8.33079,-7.94548,-7.69215,-7.43823, -7.19238,-6.94473,-6.6959,-6.4516, -6.20658,-5.95783,-5.71618,-5.47364, -5.11127,-4.87348,-4.6364,-4.39709, -4.16183,-3.81058,-3.5758,-3.22767, -2.99709,-2.76557,-2.30705,-1.85428, -1.51444,-1.06979,-0.733762,-0.290376, 0.0384327,0.148153,0.158667)
FOOTPRINT_POINT_LONGITUDE = (151.478,151.249,151.018,150.787, 150.556,150.324,150.002,149.988,149.975 ,149.958,149.947,149.929,149.917, 149.903,149.896,149.889,149.883,149.872 ,149.862,149.855,149.847,149.84,149.832 ,149.824,149.817,149.807,149.8,149.792, 149.783,149.774,149.764,149.755,149.746 ,149.737,149.726,149.712,149.702, 149.688,149.677,149.667,149.658,149.647 ,149.636,149.625,149.613,149.602, 149.591,149.579,149.568,149.561,149.56, 149.964,150.309,150.852,151.233,151.614 ,151.634,151.641,151.635,151.629, 151.621,151.614,151.606,151.602,151.597 ,151.593,151.588,151.584,151.579, 151.575,151.57,151.566,151.563,151.559, 151.555,151.552,151.548,151.545,151.542 ,151.539,151.536,151.532,151.529, 151.526,151.523,151.521,151.517,151.514 ,151.511,151.509,151.506,151.502, 151.498,151.495,151.491,151.488,151.485 ,151.482,151.481,151.478)
ORBIT_NUMBER = 7274
ORBITAL_ECCENTRICITY = 0.574
ORBITAL_INCLINATION = 86.8
ORBITAL_SEMIMAJOR_AXIS = 8764.44
PERIAPSIS_ALTITUDE = 340.44
PERIAPSIS_ARGUMENT_ANGLE = 162.27
PERIAPSIS_TIME = 2009-09-03T16:40:10.000Z
SPACECRAFT_ORIENTATION = (0.0,-1.0,0.0)
^MEX_ORIENTATION_DESC = "MEX_ORIENTATION_DESC.TXT"
SPACECRAFT_POINTING_MODE = ACROSSTRACK
^MEX_POINTING_DESC = "MEX_POINTING_DESC.TXT"
RIGHT_ASCENSION = -1e+32
DECLINATION = -1e+32
OFFSET_ANGLE = -0.3
SPACECRAFT_SOLAR_DISTANCE = 2.22818e+08
TARGET_NAME = MARS
/* CAMERA DATA ELEMENTS */
DETECTOR_TEMPERATURE = 18.5744 <degC>
FOCAL_PLANE_TEMPERATURE = 8.1755 <degC>
INST_CMPRS_NAME = "DISCRETE COSINE TRANSFORMATION (DCT)"
INST_CMPRS_RATIO = 7.80834
INST_CMPRS_QUALITY = 0
INST_CMPRS_QUANTZ_TBL_ID = 0
INSTRUMENT_TEMPERATURE = 11.234 <degC>
LENS_TEMPERATURE = 8.5833 <degC>
MACROPIXEL_SIZE = 2
MISSING_FRAMES = 0
PIXEL_SUBSAMPLING_FLAG = N
SIGNAL_CHAIN_ID = 1
/* RADIOMETRIC DATA ELEMENTS */
BANDWIDTH = 178.0 <nm>
CENTER_FILTER_WAVELENGTH = 679.0 <nm>
RADIANCE_OFFSET = 4.01971 <W*m**-2*sr**-1>
RADIANCE_SCALING_FACTOR = 0.0165233 <W*m**-2*sr**-1>
REFLECTANCE_SCALING_FACTOR = 0.000434441
MEX:REFLECTANCE_OFFSET = 0.105689
/* IMAGE OBJECT DEFINITIONS */
OBJECT = IMAGE
  INTERCHANGE_FORMAT = BINARY
  LINES = 28951
  LINE_SAMPLES = 4389
  SAMPLE_TYPE = UNSIGNED_INTEGER
  SAMPLE_BITS = 8
  BANDS = 1
  BAND_STORAGE_TYPE = BAND_SEQUENTIAL
  MAXIMUM = 255
  MEAN = 153.951
  MINIMUM = 1
  STANDARD_DEVIATION = 30.0285
END_OBJECT = IMAGE
/* MAP OBJECT DEFINITIONS */
OBJECT = IMAGE_MAP_PROJECTION
  ^DATA_SET_MAP_PROJECTION_CATALOG= "DSMAP.CAT"
  A_AXIS_RADIUS = 3396.0 <km>
  B_AXIS_RADIUS = 3396.0 <km>
  C_AXIS_RADIUS = 3396.0 <km>
  CENTER_LATITUDE = 0.0
  CENTER_LONGITUDE = 151.0
  COORDINATE_SYSTEM_NAME = PLANETOGRAPHIC
  COORDINATE_SYSTEM_TYPE = "BODY-FIXED ROTATING"
  EASTERNMOST_LONGITUDE = 151.641
  FIRST_STANDARD_PARALLEL = "N/A"
  LINE_FIRST_PIXEL = 1
  LINE_LAST_PIXEL = 28951
  LINE_PROJECTION_OFFSET = 454.75
  MAP_PROJECTION_ROTATION = 0.0
  MAP_PROJECTION_TYPE = SINUSOIDAL
  MAP_RESOLUTION = 2370.85521546667 <pixel/degree>
  MAP_SCALE = 0.025 <km/pixel>
  MAXIMUM_LATITUDE = 0.217688
  MINIMUM_LATITUDE = -12.0362
  POSITIVE_LONGITUDE_DIRECTION = EAST
  REFERENCE_LATITUDE = "N/A"
  REFERENCE_LONGITUDE = "N/A"
  SAMPLE_FIRST_PIXEL = 1
  SAMPLE_LAST_PIXEL = 4389
  SAMPLE_PROJECTION_OFFSET = 3110.75
  SECOND_STANDARD_PARALLEL = "N/A"
  WESTERNMOST_LONGITUDE = 149.56
END_OBJECT = IMAGE_MAP_PROJECTION
END
