PDS_VERSION_ID = PDS3
/* FILE DATA ELEMENTS */
RECORD_TYPE = UNDEFINED
/* POINTERS TO DATA OBJECTS */
^IMAGE = ("H7271_0000_P14.TIF")
/* IDENTIFICATION DATA ELEMENTS */
DATA_SET_ID = "MEX-M-HRSC-4-REFDR-MAPPROJECT-EXT3-V4.0"
DATA_SET_NAME = "MARS EXPRESS HRSC MAP PROJECTED REFDR EXTENSION3 V4.0"
DETECTOR_ID = MEX_HRSC_P1
EVENT_TYPE = "MARS-REGIONAL-MAPPING-Vo-Te-Pf"
INSTRUMENT_HOST_ID = MEX
INSTRUMENT_HOST_NAME = "MARS EXPRESS"
INSTRUMENT_ID = HRSC
INSTRUMENT_NAME = "HIGH RESOLUTION STEREO CAMERA"
MISSION_NAME = "MARS EXPRESS"
MISSION_PHASE_NAME = ME_Phase_18
PROCESSING_LEVEL_ID = 4
PRODUCT_CREATION_TIME = 2023-02-01T22:33:16.000Z
PRODUCT_ID = "H7271_0000_P14.TIF"
RELEASE_ID = 0002
REVISION_ID = 0000
/* QUALITY DATA ELEMENTS */
DATA_QUALITY_ID = 1
DATA_QUALITY_DESC = "Data calculated based on original SPICE kernels"
/* TIME DATA ELEMENTS */
SPACECRAFT_CLOCK_START_COUNT = "1/0200001360.08263"
SPACECRAFT_CLOCK_STOP_COUNT = "1/0200001594.24342"
START_TIME = 2009-09-02T19:56:14.490Z
STOP_TIME = 2009-09-02T19:59:04.106Z
/* ORBITAL DATA ELEMENTS */
ASCENDING_NODE_LONGITUDE = 78.76
MAXIMUM_RESOLUTION = 0.0563
FOOTPRINT_POINT_LATITUDE = (26.5643,26.5641,26.5628,26.5601, 26.5557,26.5555,26.526,26.0985,25.5634, 25.1346,24.9195,24.7045,24.4893,24.2739 ,23.9504,23.7348,23.5188,23.303,22.9784 ,22.762,22.437,22.111,21.8935,21.6768, 21.4598,21.2422,21.0243,20.6974,20.4793 ,20.1522,19.9339,19.7153,19.3872,19.059 ,18.8401,18.5115,18.2925,18.0731, 17.8536,17.6341,17.4145,17.1947,16.9749 ,16.7549,16.535,16.3151,16.0949,15.7645 ,15.6543,15.6355,15.6361,15.6357, 15.6336,15.6335,15.6343,15.9651,16.1856 ,16.5159,16.7362,16.9562,17.176,17.396, 17.7259,17.9455,18.2748,18.4942,18.7134 ,19.0423,19.3707,19.5896,19.9173, 20.1359,20.3544,20.5727,20.7909,21.0088 ,21.3356,21.662,21.9883,22.2056,22.4229 ,22.6398,22.8566,23.0733,23.2899, 23.5063,23.7227,23.9387,24.1547,24.3703 ,24.6931,24.9083,25.1233,25.3383,25.553 ,25.8748,26.0892,26.4103,26.5172, 26.5643)
FOOTPRINT_POINT_LONGITUDE = (94.3635,94.0747,93.7335,93.3663, 92.9724,92.9593,92.9416,92.9509,92.9621 ,92.9706,92.9745,92.9785,92.9823,92.986 ,92.9913,92.9948,92.9982,93.0016, 93.0063,93.0093,93.0137,93.0176,93.02, 93.0229,93.0255,93.0279,93.03,93.0332, 93.0352,93.0382,93.04,93.0417,93.0441, 93.0463,93.0477,93.0496,93.0509,93.052, 93.0529,93.0539,93.0547,93.0555,93.0561 ,93.0567,93.0573,93.0578,93.0581, 93.0585,93.0586,93.0587,93.5202,93.8322 ,94.2831,94.2947,94.2985,94.3003, 94.3015,94.3034,94.3046,94.3059,94.3073 ,94.3086,94.3105,94.3118,94.3139, 94.3153,94.3168,94.3189,94.3211,94.3226 ,94.325,94.3265,94.328,94.3295,94.3311, 94.3328,94.3352,94.3377,94.3401,94.3418 ,94.3434,94.3451,94.3469,94.3486, 94.3503,94.352,94.3537,94.3555,94.3573, 94.3591,94.3622,94.364,94.366,94.3678, 94.3698,94.3726,94.3745,94.3774,94.3784 ,94.3635)
ORBIT_NUMBER = 7271
ORBITAL_ECCENTRICITY = 0.574
ORBITAL_INCLINATION = 86.8
ORBITAL_SEMIMAJOR_AXIS = 8771.18
PERIAPSIS_ALTITUDE = 339.03
PERIAPSIS_ARGUMENT_ANGLE = 162.75
PERIAPSIS_TIME = 2009-09-02T19:58:59.000Z
SPACECRAFT_ORIENTATION = (0.0,-1.0,0.0)
^MEX_ORIENTATION_DESC = "MEX_ORIENTATION_DESC.TXT"
SPACECRAFT_POINTING_MODE = NADIR
^MEX_POINTING_DESC = "MEX_POINTING_DESC.TXT"
RIGHT_ASCENSION = -1e+32
DECLINATION = -1e+32
OFFSET_ANGLE = -1e+32
SPACECRAFT_SOLAR_DISTANCE = 2.22652e+08
TARGET_NAME = MARS
/* CAMERA DATA ELEMENTS */
DETECTOR_TEMPERATURE = 17.5549
FOCAL_PLANE_TEMPERATURE = 8.3794
INST_CMPRS_NAME = "DISCRETE COSINE TRANSFORMATION (DCT)"
INST_CMPRS_RATIO = 27.7668
INST_CMPRS_QUALITY = 0
INST_CMPRS_QUANTZ_TBL_ID = 0
INSTRUMENT_TEMPERATURE = 11.4379
LENS_TEMPERATURE = 8.7872
MACROPIXEL_SIZE = 4
MISSING_FRAMES = 0
PIXEL_SUBSAMPLING_FLAG = N
SIGNAL_CHAIN_ID = 3
/* RADIOMETRIC DATA ELEMENTS */
BANDWIDTH = 174.0
CENTER_FILTER_WAVELENGTH = 675.0
RADIANCE_OFFSET = 3.38453
RADIANCE_SCALING_FACTOR = 0.00915355
REFLECTANCE_SCALING_FACTOR = 0.000244077
MEX:REFLECTANCE_OFFSET = 0.0902474
/* IMAGE OBJECT DEFINITIONS */
OBJECT = IMAGE
  INTERCHANGE_FORMAT = BINARY
  LINES = 12937
  LINE_SAMPLES = 1504
  SAMPLE_TYPE = UNSIGNED_INTEGER
  SAMPLE_BITS = 8
  BANDS = 1
  BAND_STORAGE_TYPE = BAND_SEQUENTIAL
  MAXIMUM = 255
  MEAN = 137.13
  MINIMUM = 1
  STANDARD_DEVIATION = 49.7534
END_OBJECT = IMAGE
/* MAP OBJECT DEFINITIONS */
OBJECT = IMAGE_MAP_PROJECTION
  ^DATA_SET_MAP_PROJECTION_CATALOG= "DSMAP.CAT"
  A_AXIS_RADIUS = 3396.0
  B_AXIS_RADIUS = 3396.0
  C_AXIS_RADIUS = 3396.0
  CENTER_LATITUDE = 0.0
  CENTER_LONGITUDE = 94.0
  COORDINATE_SYSTEM_NAME = PLANETOGRAPHIC
  COORDINATE_SYSTEM_TYPE = "BODY-FIXED ROTATING"
  EASTERNMOST_LONGITUDE = 94.3784
  FIRST_STANDARD_PARALLEL = "N/A"
  LINE_FIRST_PIXEL = 1
  LINE_LAST_PIXEL = 12937
  LINE_PROJECTION_OFFSET = 31479.875
  MAP_PROJECTION_ROTATION = 0.0
  MAP_PROJECTION_TYPE = SINUSOIDAL
  MAP_RESOLUTION = 1185.42760773333
  MAP_SCALE = 0.05
  MAXIMUM_LATITUDE = 26.5643
  MINIMUM_LATITUDE = 15.6335
  POSITIVE_LONGITUDE_DIRECTION = EAST
  REFERENCE_LATITUDE = "N/A"
  REFERENCE_LONGITUDE = "N/A"
  SAMPLE_FIRST_PIXEL = 1
  SAMPLE_LAST_PIXEL = 1504
  SAMPLE_PROJECTION_OFFSET = 1116.625
  SECOND_STANDARD_PARALLEL = "N/A"
  WESTERNMOST_LONGITUDE = 92.94159999999999
END_OBJECT = IMAGE_MAP_PROJECTION
END
