PDS_VERSION_ID = PDS3
/* FILE DATA ELEMENTS */
RECORD_TYPE = UNDEFINED
/* POINTERS TO DATA OBJECTS */
^IMAGE = ("H7267_0000_IR4.TIF")
/* IDENTIFICATION DATA ELEMENTS */
DATA_SET_ID = "MEX-M-HRSC-4-REFDR-MAPPROJECT-EXT3-V4.0"
DATA_SET_NAME = "MARS EXPRESS HRSC MAP PROJECTED REFDR EXTENSION3 V4.0"
DETECTOR_ID = MEX_HRSC_IR
EVENT_TYPE = "MARS-REGIONAL-MAPPING-Vo-Fl-Pf"
INSTRUMENT_HOST_ID = MEX
INSTRUMENT_HOST_NAME = "MARS EXPRESS"
INSTRUMENT_ID = HRSC
INSTRUMENT_NAME = "HIGH RESOLUTION STEREO CAMERA"
MISSION_NAME = "MARS EXPRESS"
MISSION_PHASE_NAME = ME_Phase_18
PROCESSING_LEVEL_ID = 4
PRODUCT_CREATION_TIME = 2023-02-01T22:33:16.000Z
PRODUCT_ID = "H7267_0000_IR4.TIF"
RELEASE_ID = 0002
REVISION_ID = 0000
/* QUALITY DATA ELEMENTS */
DATA_QUALITY_ID = 1
DATA_QUALITY_DESC = "Data calculated based on original SPICE kernels"
/* TIME DATA ELEMENTS */
SPACECRAFT_CLOCK_START_COUNT = "1/0199901766.09056"
SPACECRAFT_CLOCK_STOP_COUNT = "1/0199902003.09418"
START_TIME = 2009-09-01T16:16:18.498Z
STOP_TIME = 2009-09-01T16:18:52.990Z
/* ORBITAL DATA ELEMENTS */
ASCENDING_NODE_LONGITUDE = 78.83
MAXIMUM_RESOLUTION = 0.0727 <m/pixel>
FOOTPRINT_POINT_LATITUDE = (43.6714,43.6655,43.6571,43.6472, 43.6356,43.6223,43.6073,43.5949,43.5938 ,43.5188,43.3283,43.1403,42.8579, 42.6695,42.484,42.2984,42.1122,41.8363, 41.6531,41.4697,41.2862,41.1061,40.9255 ,40.7445,40.5633,40.3857,40.2079, 39.9406,39.7622,39.5872,39.4122,39.2367 ,39.0609,38.8867,38.7144,38.5417, 38.3686,38.1088,37.9391,37.7693,37.5992 ,37.4288,37.1743,36.84,36.505,36.2536, 35.9253,35.5958,35.267,34.7824,34.7015, 34.6873,34.6978,34.7085,34.7155,34.7212 ,34.7261,34.7298,34.73,34.7311,34.9745, 35.2987,35.6282,35.9584,36.2881,36.624, 37.128,37.3817,37.5527,37.7234,37.9796, 38.1499,38.3239,38.5847,38.758,38.9306, 39.1053,39.2816,39.4576,39.6337,39.8094 ,40.078,40.2569,40.4355,40.614,40.7958, 40.9776,41.1591,41.3403,41.6168,41.801, 42.0769,42.2639,42.5444,42.7309,43.0146 ,43.204,43.4879,43.584,43.6714)
FOOTPRINT_POINT_LONGITUDE = (137.663,137.332,136.955,136.576, 136.197,135.818,135.438,135.152,135.128 ,135.083,135.101,135.12,135.147,135.165 ,135.182,135.199,135.216,135.241, 135.257,135.273,135.289,135.304,135.319 ,135.334,135.349,135.363,135.377, 135.398,135.412,135.425,135.438,135.451 ,135.464,135.477,135.489,135.501, 135.513,135.531,135.542,135.553,135.565 ,135.576,135.592,135.613,135.633, 135.648,135.667,135.686,135.704,135.73, 135.734,135.735,136.064,136.446,136.739 ,137.033,137.309,137.567,137.584,137.59 ,137.592,137.595,137.599,137.602, 137.606,137.61,137.615,137.618,137.62, 137.622,137.624,137.626,137.628,137.631 ,137.633,137.635,137.637,137.639, 137.642,137.644,137.646,137.649,137.651 ,137.653,137.655,137.658,137.66,137.662 ,137.664,137.668,137.67,137.673,137.676 ,137.679,137.682,137.685,137.688, 137.692,137.693,137.663)
ORBIT_NUMBER = 7267
ORBITAL_ECCENTRICITY = 0.574
ORBITAL_INCLINATION = 86.79
ORBITAL_SEMIMAJOR_AXIS = 8767.88
PERIAPSIS_ALTITUDE = 339.38
PERIAPSIS_ARGUMENT_ANGLE = 163.48
PERIAPSIS_TIME = 2009-09-01T16:24:10.000Z
SPACECRAFT_ORIENTATION = (0.0,-1.0,0.0)
^MEX_ORIENTATION_DESC = "MEX_ORIENTATION_DESC.TXT"
SPACECRAFT_POINTING_MODE = ACROSSTRACK
^MEX_POINTING_DESC = "MEX_POINTING_DESC.TXT"
RIGHT_ASCENSION = -1e+32
DECLINATION = -1e+32
OFFSET_ANGLE = -0.2
SPACECRAFT_SOLAR_DISTANCE = 2.2243e+08
TARGET_NAME = MARS
/* CAMERA DATA ELEMENTS */
DETECTOR_TEMPERATURE = 17.5549 <degC>
FOCAL_PLANE_TEMPERATURE = 8.7872 <degC>
INST_CMPRS_NAME = "DISCRETE COSINE TRANSFORMATION (DCT)"
INST_CMPRS_RATIO = 10.1388
INST_CMPRS_QUALITY = 0
INST_CMPRS_QUANTZ_TBL_ID = 0
INSTRUMENT_TEMPERATURE = 11.234 <degC>
LENS_TEMPERATURE = 10.0106 <degC>
MACROPIXEL_SIZE = 4
MISSING_FRAMES = 0
PIXEL_SUBSAMPLING_FLAG = N
SIGNAL_CHAIN_ID = 2
/* RADIOMETRIC DATA ELEMENTS */
BANDWIDTH = 81.0 <nm>
CENTER_FILTER_WAVELENGTH = 955.5 <nm>
RADIANCE_OFFSET = 0.685356 <W*m**-2*sr**-1>
RADIANCE_SCALING_FACTOR = 0.00241201 <W*m**-2*sr**-1>
REFLECTANCE_SCALING_FACTOR = 0.000257448
MEX:REFLECTANCE_OFFSET = 0.0731521
/* IMAGE OBJECT DEFINITIONS */
OBJECT = IMAGE
  INTERCHANGE_FORMAT = BINARY
  LINES = 10524
  LINE_SAMPLES = 2124
  SAMPLE_TYPE = UNSIGNED_INTEGER
  SAMPLE_BITS = 8
  BANDS = 1
  BAND_STORAGE_TYPE = BAND_SEQUENTIAL
  MAXIMUM = 255
  MEAN = 112.205
  MINIMUM = 1
  STANDARD_DEVIATION = 37.3233
END_OBJECT = IMAGE
/* MAP OBJECT DEFINITIONS */
OBJECT = IMAGE_MAP_PROJECTION
  ^DATA_SET_MAP_PROJECTION_CATALOG= "DSMAP.CAT"
  A_AXIS_RADIUS = 3396.0 <km>
  B_AXIS_RADIUS = 3396.0 <km>
  C_AXIS_RADIUS = 3396.0 <km>
  CENTER_LATITUDE = 0.0
  CENTER_LONGITUDE = 137.0
  COORDINATE_SYSTEM_NAME = PLANETOGRAPHIC
  COORDINATE_SYSTEM_TYPE = "BODY-FIXED ROTATING"
  EASTERNMOST_LONGITUDE = 137.693
  FIRST_STANDARD_PARALLEL = "N/A"
  LINE_FIRST_PIXEL = 1
  LINE_LAST_PIXEL = 10524
  LINE_PROJECTION_OFFSET = 51671.875
  MAP_PROJECTION_ROTATION = 0.0
  MAP_PROJECTION_TYPE = SINUSOIDAL
  MAP_RESOLUTION = 1185.42760773333 <pixel/degree>
  MAP_SCALE = 0.05 <km/pixel>
  MAXIMUM_LATITUDE = 43.6714
  MINIMUM_LATITUDE = 34.6873
  POSITIVE_LONGITUDE_DIRECTION = EAST
  REFERENCE_LATITUDE = "N/A"
  REFERENCE_LONGITUDE = "N/A"
  SAMPLE_FIRST_PIXEL = 1
  SAMPLE_LAST_PIXEL = 2124
  SAMPLE_PROJECTION_OFFSET = 1594.875
  SECOND_STANDARD_PARALLEL = "N/A"
  WESTERNMOST_LONGITUDE = 135.083
END_OBJECT = IMAGE_MAP_PROJECTION
END
