PDS_VERSION_ID = PDS3
/* FILE DATA ELEMENTS */
RECORD_TYPE = UNDEFINED
/* POINTERS TO DATA OBJECTS */
^IMAGE = ("H7264_0000_GR4.TIF")
/* IDENTIFICATION DATA ELEMENTS */
DATA_SET_ID = "MEX-M-HRSC-4-REFDR-MAPPROJECT-EXT3-V4.0"
DATA_SET_NAME = "MARS EXPRESS HRSC MAP PROJECTED REFDR EXTENSION3 V4.0"
DETECTOR_ID = MEX_HRSC_GREEN
EVENT_TYPE = "MARS-REGIONAL-MAPPING-Te-Im"
INSTRUMENT_HOST_ID = MEX
INSTRUMENT_HOST_NAME = "MARS EXPRESS"
INSTRUMENT_ID = HRSC
INSTRUMENT_NAME = "HIGH RESOLUTION STEREO CAMERA"
MISSION_NAME = "MARS EXPRESS"
MISSION_PHASE_NAME = ME_Phase_18
PROCESSING_LEVEL_ID = 4
PRODUCT_CREATION_TIME = 2023-02-01T22:33:16.000Z
PRODUCT_ID = "H7264_0000_GR4.TIF"
RELEASE_ID = 0002
REVISION_ID = 0000
/* QUALITY DATA ELEMENTS */
DATA_QUALITY_ID = 1
DATA_QUALITY_DESC = "Data calculated based on original SPICE kernels"
/* TIME DATA ELEMENTS */
SPACECRAFT_CLOCK_START_COUNT = "1/0199828059.08387"
SPACECRAFT_CLOCK_STOP_COUNT = "1/0199828404.47661"
START_TIME = 2009-08-31T19:48:12.618Z
STOP_TIME = 2009-08-31T19:52:06.154Z
/* ORBITAL DATA ELEMENTS */
ASCENDING_NODE_LONGITUDE = 78.89
MAXIMUM_RESOLUTION = 0.067
FOOTPRINT_POINT_LATITUDE = (-4.29706,-4.29426,-4.29197,-4.2882, -4.2847,-4.28458,-4.28431,-4.90497, -5.65392,-6.28646,-6.67006,-6.92863, -7.18688,-7.44488,-7.70689,-7.97045, -8.36525,-8.63119,-8.89977,-9.16804, -9.43592,-9.70973,-9.98308,-10.2561, -10.5335,-10.8119,-11.0898,-11.3715, -11.6544,-11.9373,-12.2245,-12.5126, -12.947,-13.2398,-13.5321,-13.9783, -14.2756,-14.5778,-14.879,-15.3383, -15.645,-15.9572,-16.2672,-16.7397, -17.0554,-17.3764,-17.8593,-18.1844, -18.3472,-18.4277,-18.4322,-18.4382, -18.4411,-18.4455,-18.4471,-18.4472, -18.4459,-17.9565,-17.6326,-17.3117, -16.9918,-16.6769,-16.3602,-16.049, -15.5835,-15.2766,-14.9702,-14.5176, -14.2155,-13.9183,-13.4728,-13.1812, -12.8882,-12.5978,-12.3103,-12.022, -11.7393,-11.4561,-11.1729,-10.8948, -10.6164,-10.3376,-10.0643,-9.79092, -9.51742,-9.24754,-8.97931,-8.71055, -8.44308,-8.04794,-7.78454,-7.52096, -7.00455,-6.74591,-6.48756,-5.98126, -5.34897,-4.48023,-4.35591,-4.29706)
FOOTPRINT_POINT_LONGITUDE = (79.9326,79.593,79.3203,78.8828,78.4839 ,78.4701,78.47,78.4543,78.4343,78.4181, 78.4061,78.3987,78.3912,78.3836,78.3758 ,78.368,78.3559,78.3476,78.3394,78.331, 78.3227,78.3137,78.3049,78.2958,78.2867 ,78.2773,78.2679,78.2583,78.2495, 78.2392,78.229,78.2185,78.2026,78.192, 78.1813,78.1645,78.1527,78.1409,78.1313 ,78.1109,78.0986,78.0819,78.0729, 78.0525,78.039,78.025,78.0041,77.9898, 77.9825,77.9789,78.3194,78.8403,79.16, 79.679,80.0962,80.1162,80.1228,80.1114, 80.1044,80.0971,80.09,80.0851,80.0771, 80.0713,80.0623,80.0567,80.0512,80.0443 ,80.0375,80.0329,80.0251,80.0222,80.018 ,80.0122,80.0088,80.005,80.0017,79.9981 ,79.9944,79.9908,79.9874,79.9841, 79.9807,79.9777,79.9751,79.9716,79.969, 79.9662,79.9635,79.9593,79.9572,79.9548 ,79.9503,79.9481,79.946,79.9419,79.9375 ,79.9314,79.9307,79.9326)
ORBIT_NUMBER = 7264
ORBITAL_ECCENTRICITY = 0.574
ORBITAL_INCLINATION = 86.81
ORBITAL_SEMIMAJOR_AXIS = 8772.14
PERIAPSIS_ALTITUDE = 338.22
PERIAPSIS_ARGUMENT_ANGLE = 163.98
PERIAPSIS_TIME = 2009-08-31T19:43:02.000Z
SPACECRAFT_ORIENTATION = (0.0,-1.0,0.0)
^MEX_ORIENTATION_DESC = "MEX_ORIENTATION_DESC.TXT"
SPACECRAFT_POINTING_MODE = ACROSSTRACK
^MEX_POINTING_DESC = "MEX_POINTING_DESC.TXT"
RIGHT_ASCENSION = -1e+32
DECLINATION = -1e+32
OFFSET_ANGLE = -0.23
SPACECRAFT_SOLAR_DISTANCE = 2.22264e+08
TARGET_NAME = MARS
/* CAMERA DATA ELEMENTS */
DETECTOR_TEMPERATURE = 18.1666
FOCAL_PLANE_TEMPERATURE = 8.5833
INST_CMPRS_NAME = "DISCRETE COSINE TRANSFORMATION (DCT)"
INST_CMPRS_RATIO = 15.3206
INST_CMPRS_QUALITY = 0
INST_CMPRS_QUANTZ_TBL_ID = 0
INSTRUMENT_TEMPERATURE = 12.2535
LENS_TEMPERATURE = 8.9911
MACROPIXEL_SIZE = 4
MISSING_FRAMES = 0
PIXEL_SUBSAMPLING_FLAG = N
SIGNAL_CHAIN_ID = 2
/* RADIOMETRIC DATA ELEMENTS */
BANDWIDTH = 88.0
CENTER_FILTER_WAVELENGTH = 538.0
RADIANCE_OFFSET = 1.085
RADIANCE_SCALING_FACTOR = 0.00339243
REFLECTANCE_SCALING_FACTOR = 0.000144292
MEX:REFLECTANCE_OFFSET = 0.0461489
/* IMAGE OBJECT DEFINITIONS */
OBJECT = IMAGE
  INTERCHANGE_FORMAT = BINARY
  LINES = 16791
  LINE_SAMPLES = 2461
  SAMPLE_TYPE = UNSIGNED_INTEGER
  SAMPLE_BITS = 8
  BANDS = 1
  BAND_STORAGE_TYPE = BAND_SEQUENTIAL
  MAXIMUM = 255
  MEAN = 129.077
  MINIMUM = 1
  STANDARD_DEVIATION = 19.7031
END_OBJECT = IMAGE
/* MAP OBJECT DEFINITIONS */
OBJECT = IMAGE_MAP_PROJECTION
  ^DATA_SET_MAP_PROJECTION_CATALOG= "DSMAP.CAT"
  A_AXIS_RADIUS = 3396.0
  B_AXIS_RADIUS = 3396.0
  C_AXIS_RADIUS = 3396.0
  CENTER_LATITUDE = 0.0
  CENTER_LONGITUDE = 79.0
  COORDINATE_SYSTEM_NAME = PLANETOGRAPHIC
  COORDINATE_SYSTEM_TYPE = "BODY-FIXED ROTATING"
  EASTERNMOST_LONGITUDE = 80.1228
  FIRST_STANDARD_PARALLEL = "N/A"
  LINE_FIRST_PIXEL = 1
  LINE_LAST_PIXEL = 16791
  LINE_PROJECTION_OFFSET = -5080.625
  MAP_PROJECTION_ROTATION = 0.0
  MAP_PROJECTION_TYPE = SINUSOIDAL
  MAP_RESOLUTION = 1185.42760773333
  MAP_SCALE = 0.05
  MAXIMUM_LATITUDE = -4.28431
  MINIMUM_LATITUDE = -18.4472
  POSITIVE_LONGITUDE_DIRECTION = EAST
  REFERENCE_LATITUDE = "N/A"
  REFERENCE_LONGITUDE = "N/A"
  SAMPLE_FIRST_PIXEL = 1
  SAMPLE_LAST_PIXEL = 2461
  SAMPLE_PROJECTION_OFFSET = 1178.625
  SECOND_STANDARD_PARALLEL = "N/A"
  WESTERNMOST_LONGITUDE = 77.9789
END_OBJECT = IMAGE_MAP_PROJECTION
END
