PDS_VERSION_ID = PDS3
/* FILE DATA ELEMENTS */
RECORD_TYPE = UNDEFINED
/* POINTERS TO DATA OBJECTS */
^IMAGE = ("H7262_0000_S24.TIF")
/* IDENTIFICATION DATA ELEMENTS */
DATA_SET_ID = "MEX-M-HRSC-4-REFDR-MAPPROJECT-EXT3-V4.0"
DATA_SET_NAME = "MARS EXPRESS HRSC MAP PROJECTED REFDR EXTENSION3 V4.0"
DETECTOR_ID = MEX_HRSC_S2
EVENT_TYPE = "MARS-REGIONAL-MAPPING-Vo-Fl-Gl"
INSTRUMENT_HOST_ID = MEX
INSTRUMENT_HOST_NAME = "MARS EXPRESS"
INSTRUMENT_ID = HRSC
INSTRUMENT_NAME = "HIGH RESOLUTION STEREO CAMERA"
MISSION_NAME = "MARS EXPRESS"
MISSION_PHASE_NAME = ME_Phase_18
PROCESSING_LEVEL_ID = 4
PRODUCT_CREATION_TIME = 2023-02-01T22:33:16.000Z
PRODUCT_ID = "H7262_0000_S24.TIF"
RELEASE_ID = 0002
REVISION_ID = 0000
/* QUALITY DATA ELEMENTS */
DATA_QUALITY_ID = 1
DATA_QUALITY_DESC = "Data calculated based on original SPICE kernels"
/* TIME DATA ELEMENTS */
SPACECRAFT_CLOCK_START_COUNT = "1/0199777952.08251"
SPACECRAFT_CLOCK_STOP_COUNT = "1/0199778176.48003"
START_TIME = 2009-08-31T05:53:41.086Z
STOP_TIME = 2009-08-31T05:56:17.216Z
/* ORBITAL DATA ELEMENTS */
ASCENDING_NODE_LONGITUDE = 78.93
MAXIMUM_RESOLUTION = 0.0289
FOOTPRINT_POINT_LATITUDE = (25.6794,25.678,25.6769,25.6753,25.6752 ,25.6906,25.4845,25.2792,25.0735, 24.8679,24.6627,24.3559,24.1503,23.9453 ,23.7399,23.5344,23.2259,23.0205,22.815 ,22.6097,22.4041,22.1989,21.9924, 21.7876,21.5827,21.3779,21.1731,20.8659 ,20.6613,20.4571,20.2531,19.9464, 19.6399,19.4355,19.2312,18.9249,18.721, 18.4149,18.2112,17.9055,17.702,17.3969, 17.1938,16.8891,16.6862,16.3818,16.1793 ,15.9767,15.5721,15.4711,15.4686, 15.4674,15.4667,15.4656,15.4656,15.466, 15.8714,16.1806,16.4801,16.7848,16.9879 ,17.1914,17.3946,17.5977,17.8012, 18.0047,18.3098,18.5137,18.7182,18.9225 ,19.127,19.3313,19.6379,19.8423,20.1493 ,20.354,20.559,20.8664,21.0707,21.2755, 21.5831,21.7882,22.0961,22.3015,22.5069 ,22.7121,23.0206,23.2263,23.4321, 23.6379,23.9466,24.1524,24.3583,24.5645 ,24.7701,24.9743,25.2806,25.5891, 25.6921,25.6794)
FOOTPRINT_POINT_LONGITUDE = (281.882,281.365,280.995,280.531, 280.518,280.508,280.512,280.515,280.519 ,280.522,280.525,280.53,280.533,280.536 ,280.538,280.541,280.545,280.548, 280.551,280.553,280.556,280.558,280.561 ,280.563,280.565,280.567,280.568, 280.571,280.573,280.574,280.576,280.578 ,280.58,280.581,280.582,280.584,280.585 ,280.586,280.587,280.588,280.589,280.59 ,280.59,280.591,280.591,280.592,280.592 ,280.592,280.592,280.592,280.592, 280.939,281.347,281.815,281.827,281.832 ,281.833,281.836,281.836,281.837, 281.838,281.839,281.84,281.841,281.842, 281.843,281.844,281.845,281.846,281.847 ,281.849,281.85,281.851,281.852,281.854 ,281.855,281.856,281.858,281.859,281.86 ,281.862,281.863,281.865,281.866, 281.868,281.869,281.871,281.872,281.873 ,281.875,281.877,281.878,281.879, 281.881,281.882,281.883,281.884,281.886 ,281.887,281.882)
ORBIT_NUMBER = 7262
ORBITAL_ECCENTRICITY = 0.575
ORBITAL_INCLINATION = 86.8
ORBITAL_SEMIMAJOR_AXIS = 8773.71
PERIAPSIS_ALTITUDE = 338.34
PERIAPSIS_ARGUMENT_ANGLE = 164.36
PERIAPSIS_TIME = 2009-08-31T05:55:44.000Z
SPACECRAFT_ORIENTATION = (0.0,-1.0,0.0)
^MEX_ORIENTATION_DESC = "MEX_ORIENTATION_DESC.TXT"
SPACECRAFT_POINTING_MODE = NADIR
^MEX_POINTING_DESC = "MEX_POINTING_DESC.TXT"
RIGHT_ASCENSION = -1e+32
DECLINATION = -1e+32
OFFSET_ANGLE = -1e+32
SPACECRAFT_SOLAR_DISTANCE = 2.22154e+08
TARGET_NAME = MARS
/* CAMERA DATA ELEMENTS */
DETECTOR_TEMPERATURE = 18.7783
FOCAL_PLANE_TEMPERATURE = 8.7872
INST_CMPRS_NAME = "DISCRETE COSINE TRANSFORMATION (DCT)"
INST_CMPRS_RATIO = 8.20379
INST_CMPRS_QUALITY = 0
INST_CMPRS_QUANTZ_TBL_ID = 0
INSTRUMENT_TEMPERATURE = 11.234
LENS_TEMPERATURE = 9.195
MACROPIXEL_SIZE = 2
MISSING_FRAMES = 0
PIXEL_SUBSAMPLING_FLAG = N
SIGNAL_CHAIN_ID = 1
/* RADIOMETRIC DATA ELEMENTS */
BANDWIDTH = 178.0
CENTER_FILTER_WAVELENGTH = 679.0
RADIANCE_OFFSET = 3.49592
RADIANCE_SCALING_FACTOR = 0.0152328
REFLECTANCE_SCALING_FACTOR = 0.000398118
MEX:REFLECTANCE_OFFSET = 0.091368
/* IMAGE OBJECT DEFINITIONS */
OBJECT = IMAGE
  INTERCHANGE_FORMAT = BINARY
  LINES = 24316
  LINE_SAMPLES = 2991
  SAMPLE_TYPE = UNSIGNED_INTEGER
  SAMPLE_BITS = 8
  BANDS = 1
  BAND_STORAGE_TYPE = BAND_SEQUENTIAL
  MAXIMUM = 255
  MEAN = 119.263
  MINIMUM = 1
  STANDARD_DEVIATION = 22.8074
END_OBJECT = IMAGE
/* MAP OBJECT DEFINITIONS */
OBJECT = IMAGE_MAP_PROJECTION
  ^DATA_SET_MAP_PROJECTION_CATALOG= "DSMAP.CAT"
  A_AXIS_RADIUS = 3396.0
  B_AXIS_RADIUS = 3396.0
  C_AXIS_RADIUS = 3396.0
  CENTER_LATITUDE = 0.0
  CENTER_LONGITUDE = 281.0
  COORDINATE_SYSTEM_NAME = PLANETOGRAPHIC
  COORDINATE_SYSTEM_TYPE = "BODY-FIXED ROTATING"
  EASTERNMOST_LONGITUDE = 281.887
  FIRST_STANDARD_PARALLEL = "N/A"
  LINE_FIRST_PIXEL = 1
  LINE_LAST_PIXEL = 24316
  LINE_PROJECTION_OFFSET = 60990.75
  MAP_PROJECTION_ROTATION = 0.0
  MAP_PROJECTION_TYPE = SINUSOIDAL
  MAP_RESOLUTION = 2370.85521546667
  MAP_SCALE = 0.025
  MAXIMUM_LATITUDE = 25.6921
  MINIMUM_LATITUDE = 15.4656
  POSITIVE_LONGITUDE_DIRECTION = EAST
  REFERENCE_LATITUDE = "N/A"
  REFERENCE_LONGITUDE = "N/A"
  SAMPLE_FIRST_PIXEL = 1
  SAMPLE_LAST_PIXEL = 2991
  SAMPLE_PROJECTION_OFFSET = 1074.25
  SECOND_STANDARD_PARALLEL = "N/A"
  WESTERNMOST_LONGITUDE = 280.508
END_OBJECT = IMAGE_MAP_PROJECTION
END
