PDS_VERSION_ID = PDS3
/* FILE DATA ELEMENTS */
RECORD_TYPE = UNDEFINED
/* POINTERS TO DATA OBJECTS */
^IMAGE = ("H7261_0000_RE4.TIF")
/* IDENTIFICATION DATA ELEMENTS */
DATA_SET_ID = "MEX-M-HRSC-4-REFDR-MAPPROJECT-EXT3-V4.0"
DATA_SET_NAME = "MARS EXPRESS HRSC MAP PROJECTED REFDR EXTENSION3 V4.0"
DETECTOR_ID = MEX_HRSC_RED
EVENT_TYPE = "MARS-REGIONAL-MAPPING-Im-Fl"
INSTRUMENT_HOST_ID = MEX
INSTRUMENT_HOST_NAME = "MARS EXPRESS"
INSTRUMENT_ID = HRSC
INSTRUMENT_NAME = "HIGH RESOLUTION STEREO CAMERA"
MISSION_NAME = "MARS EXPRESS"
MISSION_PHASE_NAME = ME_Phase_18
PROCESSING_LEVEL_ID = 4
PRODUCT_CREATION_TIME = 2023-02-01T22:33:16.000Z
PRODUCT_ID = "H7261_0000_RE4.TIF"
RELEASE_ID = 0002
REVISION_ID = 0000
/* QUALITY DATA ELEMENTS */
DATA_QUALITY_ID = 1
DATA_QUALITY_DESC = "Data calculated based on original SPICE kernels"
/* TIME DATA ELEMENTS */
SPACECRAFT_CLOCK_START_COUNT = "1/0199753375.08364"
SPACECRAFT_CLOCK_STOP_COUNT = "1/0199753584.08104"
START_TIME = 2009-08-30T23:03:54.892Z
STOP_TIME = 2009-08-30T23:06:17.720Z
/* ORBITAL DATA ELEMENTS */
ASCENDING_NODE_LONGITUDE = 78.96
MAXIMUM_RESOLUTION = 0.0586
FOOTPRINT_POINT_LATITUDE = (9.48386,9.48942,9.49506,9.50081, 9.50673,9.51279,9.52289,9.52328,9.52532 ,9.35862,9.18975,8.86843,8.61467, 8.28483,8.03373,7.86092,7.69531,7.36614 ,7.20065,7.03605,6.87096,6.62513, 6.29579,6.04928,5.63919,5.14752,4.86707 ,4.67238,4.47794,4.28455,4.09044, 3.89604,3.70249,3.50826,3.31843,3.12552 ,2.93193,2.63932,2.35034,2.15875, 1.96663,1.77445,1.5825,1.3909,1.20018, 0.913787,0.722914,0.627395,0.617828, 0.611738,0.601975,0.592463,0.586951, 0.58042,0.573966,0.573585,0.574402, 0.860092,1.14641,1.33788,1.52952, 1.72157,1.91372,2.20215,2.39441,2.68283 ,2.87594,3.06893,3.26224,3.45653, 3.74718,3.94099,4.13562,4.32965,4.52422 ,4.7187,4.91328,5.26144,5.67084,5.91668 ,6.08119,6.24588,6.41092,6.6585,6.82323 ,7.1521,7.31695,7.48386,7.64857,7.81419 ,8.06269,8.22884,8.39472,8.64444, 8.81097,8.97725,9.14181,9.3958,9.48301, 9.48386)
FOOTPRINT_POINT_LONGITUDE = (22.1625,21.9789,21.7945,21.6087,21.422 ,21.2342,20.9258,20.9138,20.909,20.9078 ,20.9081,20.898,20.8988,20.8945,20.8937 ,20.8967,20.8951,20.8908,20.8892, 20.8871,20.8854,20.8817,20.878,20.8749, 20.8696,20.8634,20.8599,20.857,20.8541, 20.8505,20.8475,20.8448,20.8416,20.8388 ,20.8335,20.8301,20.8272,20.8243, 20.8195,20.8156,20.8122,20.8089,20.8056 ,20.8021,20.7982,20.7927,20.789,20.7873 ,20.7871,20.9584,21.2346,21.5215,21.716 ,21.9225,22.1666,22.1794,22.1837, 22.1823,22.181,22.1802,22.1794,22.1786, 22.1779,22.1768,22.176,22.1749,22.1743, 22.1736,22.173,22.1724,22.1716,22.171, 22.1705,22.1699,22.1694,22.1689,22.1684 ,22.1677,22.1668,22.1663,22.166,22.1658 ,22.1655,22.1652,22.1649,22.1644, 22.1642,22.1641,22.1639,22.1637,22.1634 ,22.1633,22.1632,22.163,22.1629,22.1628 ,22.1626,22.1628,22.163,22.1625)
ORBIT_NUMBER = 7261
ORBITAL_ECCENTRICITY = 0.574
ORBITAL_INCLINATION = 86.79
ORBITAL_SEMIMAJOR_AXIS = 8770.27
PERIAPSIS_ALTITUDE = 338.59
PERIAPSIS_ARGUMENT_ANGLE = 164.52
PERIAPSIS_TIME = 2009-08-30T23:01:57.000Z
SPACECRAFT_ORIENTATION = (0.0,-1.0,0.0)
^MEX_ORIENTATION_DESC = "MEX_ORIENTATION_DESC.TXT"
SPACECRAFT_POINTING_MODE = ACROSSTRACK
^MEX_POINTING_DESC = "MEX_POINTING_DESC.TXT"
RIGHT_ASCENSION = -1e+32
DECLINATION = -1e+32
OFFSET_ANGLE = -0.5
SPACECRAFT_SOLAR_DISTANCE = 2.22098e+08
TARGET_NAME = MARS
/* CAMERA DATA ELEMENTS */
DETECTOR_TEMPERATURE = 18.5744
FOCAL_PLANE_TEMPERATURE = 8.5833
INST_CMPRS_NAME = "DISCRETE COSINE TRANSFORMATION (DCT)"
INST_CMPRS_RATIO = 12.879
INST_CMPRS_QUALITY = 0
INST_CMPRS_QUANTZ_TBL_ID = 0
INSTRUMENT_TEMPERATURE = 11.234
LENS_TEMPERATURE = 8.7872
MACROPIXEL_SIZE = 4
MISSING_FRAMES = 0
PIXEL_SUBSAMPLING_FLAG = N
SIGNAL_CHAIN_ID = 2
/* RADIOMETRIC DATA ELEMENTS */
BANDWIDTH = 48.0
CENTER_FILTER_WAVELENGTH = 748.0
RADIANCE_OFFSET = 1.02136
RADIANCE_SCALING_FACTOR = 0.00514969
REFLECTANCE_SCALING_FACTOR = 0.000579696
MEX:REFLECTANCE_OFFSET = 0.114973
/* IMAGE OBJECT DEFINITIONS */
OBJECT = IMAGE
  INTERCHANGE_FORMAT = BINARY
  LINES = 10595
  LINE_SAMPLES = 1599
  SAMPLE_TYPE = UNSIGNED_INTEGER
  SAMPLE_BITS = 8
  BANDS = 1
  BAND_STORAGE_TYPE = BAND_SEQUENTIAL
  MAXIMUM = 255
  MEAN = 114.565
  MINIMUM = 1
  STANDARD_DEVIATION = 23.2346
END_OBJECT = IMAGE
/* MAP OBJECT DEFINITIONS */
OBJECT = IMAGE_MAP_PROJECTION
  ^DATA_SET_MAP_PROJECTION_CATALOG= "DSMAP.CAT"
  A_AXIS_RADIUS = 3396.0
  B_AXIS_RADIUS = 3396.0
  C_AXIS_RADIUS = 3396.0
  CENTER_LATITUDE = 0.0
  CENTER_LONGITUDE = 22.0
  COORDINATE_SYSTEM_NAME = PLANETOGRAPHIC
  COORDINATE_SYSTEM_TYPE = "BODY-FIXED ROTATING"
  EASTERNMOST_LONGITUDE = 22.1837
  FIRST_STANDARD_PARALLEL = "N/A"
  LINE_FIRST_PIXEL = 1
  LINE_LAST_PIXEL = 10595
  LINE_PROJECTION_OFFSET = 11285.875
  MAP_PROJECTION_ROTATION = 0.0
  MAP_PROJECTION_TYPE = SINUSOIDAL
  MAP_RESOLUTION = 1185.42760773333
  MAP_SCALE = 0.05
  MAXIMUM_LATITUDE = 9.525320000000001
  MINIMUM_LATITUDE = 0.573585
  POSITIVE_LONGITUDE_DIRECTION = EAST
  REFERENCE_LATITUDE = "N/A"
  REFERENCE_LONGITUDE = "N/A"
  SAMPLE_FIRST_PIXEL = 1
  SAMPLE_LAST_PIXEL = 1599
  SAMPLE_PROJECTION_OFFSET = 1406.375
  SECOND_STANDARD_PARALLEL = "N/A"
  WESTERNMOST_LONGITUDE = 20.7871
END_OBJECT = IMAGE_MAP_PROJECTION
END
