PDS_VERSION_ID = PDS3
/* FILE DATA ELEMENTS */
RECORD_TYPE = UNDEFINED
/* POINTERS TO DATA OBJECTS */
^IMAGE = ("H7259_0000_S14.TIF")
/* IDENTIFICATION DATA ELEMENTS */
DATA_SET_ID = "MEX-M-HRSC-4-REFDR-MAPPROJECT-EXT3-V4.0"
DATA_SET_NAME = "MARS EXPRESS HRSC MAP PROJECTED REFDR EXTENSION3 V4.0"
DETECTOR_ID = MEX_HRSC_S1
EVENT_TYPE = "MARS-REGIONAL-MAPPING-Vo-Eo"
INSTRUMENT_HOST_ID = MEX
INSTRUMENT_HOST_NAME = "MARS EXPRESS"
INSTRUMENT_ID = HRSC
INSTRUMENT_NAME = "HIGH RESOLUTION STEREO CAMERA"
MISSION_NAME = "MARS EXPRESS"
MISSION_PHASE_NAME = ME_Phase_18
PROCESSING_LEVEL_ID = 4
PRODUCT_CREATION_TIME = 2023-02-01T22:33:16.000Z
PRODUCT_ID = "H7259_0000_S14.TIF"
RELEASE_ID = 0002
REVISION_ID = 0000
/* QUALITY DATA ELEMENTS */
DATA_QUALITY_ID = 1
DATA_QUALITY_DESC = "Data calculated based on original SPICE kernels"
/* TIME DATA ELEMENTS */
SPACECRAFT_CLOCK_START_COUNT = "1/0199703762.09054"
SPACECRAFT_CLOCK_STOP_COUNT = "1/0199704138.07007"
START_TIME = 2009-08-30T09:16:04.589Z
STOP_TIME = 2009-08-30T09:20:42.724Z
/* ORBITAL DATA ELEMENTS */
ASCENDING_NODE_LONGITUDE = 79.0
MAXIMUM_RESOLUTION = 0.0293
FOOTPRINT_POINT_LATITUDE = (6.80461,6.80311,6.79869,6.79858, 6.80141,6.48364,6.00348,5.68305,5.20429 ,4.88472,4.56402,4.08276,3.76255, 3.44153,3.12032,2.63899,2.31788,1.99622 ,1.6747,1.35425,1.03467,0.716284, 0.364525,-0.0168316,-0.397579,-0.969247 ,-1.35082,-1.92105,-2.30217,-2.87273, -3.25405,-3.63439,-4.20419,-4.584, -4.96381,-5.34292,-5.72234,-6.10801, -6.69144,-7.08052,-7.4772,-7.87616, -8.27502,-8.88522,-9.29293,-9.706, -10.1236,-10.5405,-11.1801,-11.393, -11.4452,-11.4447,-11.4452,-11.446, -11.4459,-11.4454,-10.8055,-10.3825, -9.96516,-9.34214,-8.93406,-8.52595, -8.12295,-7.72439,-7.1268,-6.54326, -6.15395,-5.76678,-5.38734,-4.81749, -4.43753,-4.0566,-3.67616,-3.10664, -2.72625,-2.34529,-1.96501,-1.58374, -1.01203,-0.440651,-0.0584946,0.322642, 0.683093,1.16393,1.4854,1.96641,2.28756 ,2.76882,3.25127,3.57169,4.05204, 4.37251,4.69347,5.01343,5.33302,5.65307 ,6.13179,6.60828,6.76799,6.80461)
FOOTPRINT_POINT_LONGITUDE = (224.19,223.602,222.986,222.974,222.971 ,222.969,222.964,222.96,222.955,222.952 ,222.948,222.941,222.937,222.932, 222.928,222.921,222.915,222.91,222.905, 222.9,222.895,222.89,222.885,222.878, 222.872,222.862,222.855,222.845,222.837 ,222.826,222.818,222.81,222.798,222.789 ,222.781,222.772,222.764,222.754,222.74 ,222.73,222.72,222.71,222.699,222.683, 222.671,222.66,222.648,222.635,222.616, 222.61,222.608,222.99,223.545,224.223, 224.239,224.245,224.238,224.234,224.23, 224.225,224.221,224.218,224.215,224.212 ,224.208,224.205,224.203,224.2,224.199, 224.196,224.194,224.193,224.191,224.19, 224.189,224.188,224.187,224.186,224.186 ,224.185,224.184,224.184,224.184, 224.184,224.183,224.183,224.183,224.183 ,224.183,224.183,224.184,224.184, 224.184,224.185,224.185,224.186,224.187 ,224.189,224.189,224.19)
ORBIT_NUMBER = 7259
ORBITAL_ECCENTRICITY = 0.575
ORBITAL_INCLINATION = 86.8
ORBITAL_SEMIMAJOR_AXIS = 8776.45
PERIAPSIS_ALTITUDE = 338.05
PERIAPSIS_ARGUMENT_ANGLE = 164.85
PERIAPSIS_TIME = 2009-08-30T09:14:27.000Z
SPACECRAFT_ORIENTATION = (0.0,-1.0,0.0)
^MEX_ORIENTATION_DESC = "MEX_ORIENTATION_DESC.TXT"
SPACECRAFT_POINTING_MODE = ACROSSTRACK
^MEX_POINTING_DESC = "MEX_POINTING_DESC.TXT"
RIGHT_ASCENSION = -1e+32
DECLINATION = -1e+32
OFFSET_ANGLE = -0.16
SPACECRAFT_SOLAR_DISTANCE = 2.21988e+08
TARGET_NAME = MARS
/* CAMERA DATA ELEMENTS */
DETECTOR_TEMPERATURE = 17.5549
FOCAL_PLANE_TEMPERATURE = 8.5833
INST_CMPRS_NAME = "DISCRETE COSINE TRANSFORMATION (DCT)"
INST_CMPRS_RATIO = 9.86219
INST_CMPRS_QUALITY = 0
INST_CMPRS_QUANTZ_TBL_ID = 0
INSTRUMENT_TEMPERATURE = 11.234
LENS_TEMPERATURE = 8.9911
MACROPIXEL_SIZE = 2
MISSING_FRAMES = 0
PIXEL_SUBSAMPLING_FLAG = N
SIGNAL_CHAIN_ID = 1
/* RADIOMETRIC DATA ELEMENTS */
BANDWIDTH = 180.0
CENTER_FILTER_WAVELENGTH = 677.0
RADIANCE_OFFSET = 5.25412
RADIANCE_SCALING_FACTOR = 0.0149053
REFLECTANCE_SCALING_FACTOR = 0.000383216
MEX:REFLECTANCE_OFFSET = 0.135084
/* IMAGE OBJECT DEFINITIONS */
OBJECT = IMAGE
  INTERCHANGE_FORMAT = BINARY
  LINES = 43284
  LINE_SAMPLES = 4023
  SAMPLE_TYPE = UNSIGNED_INTEGER
  SAMPLE_BITS = 8
  BANDS = 1
  BAND_STORAGE_TYPE = BAND_SEQUENTIAL
  MAXIMUM = 255
  MEAN = 107.435
  MINIMUM = 1
  STANDARD_DEVIATION = 24.192
END_OBJECT = IMAGE
/* MAP OBJECT DEFINITIONS */
OBJECT = IMAGE_MAP_PROJECTION
  ^DATA_SET_MAP_PROJECTION_CATALOG= "DSMAP.CAT"
  A_AXIS_RADIUS = 3396.0
  B_AXIS_RADIUS = 3396.0
  C_AXIS_RADIUS = 3396.0
  CENTER_LATITUDE = 0.0
  CENTER_LONGITUDE = 224.0
  COORDINATE_SYSTEM_NAME = PLANETOGRAPHIC
  COORDINATE_SYSTEM_TYPE = "BODY-FIXED ROTATING"
  EASTERNMOST_LONGITUDE = 224.245
  FIRST_STANDARD_PARALLEL = "N/A"
  LINE_FIRST_PIXEL = 1
  LINE_LAST_PIXEL = 43284
  LINE_PROJECTION_OFFSET = 16102.75
  MAP_PROJECTION_ROTATION = 0.0
  MAP_PROJECTION_TYPE = SINUSOIDAL
  MAP_RESOLUTION = 2370.85521546667
  MAP_SCALE = 0.025
  MAXIMUM_LATITUDE = 6.80461
  MINIMUM_LATITUDE = -11.446
  POSITIVE_LONGITUDE_DIRECTION = EAST
  REFERENCE_LATITUDE = "N/A"
  REFERENCE_LONGITUDE = "N/A"
  SAMPLE_FIRST_PIXEL = 1
  SAMPLE_LAST_PIXEL = 4023
  SAMPLE_PROJECTION_OFFSET = 3349.25
  SECOND_STANDARD_PARALLEL = "N/A"
  WESTERNMOST_LONGITUDE = 222.608
END_OBJECT = IMAGE_MAP_PROJECTION
END
