PDS_VERSION_ID = PDS3
/* FILE DATA ELEMENTS */
RECORD_TYPE = UNDEFINED
/* POINTERS TO DATA OBJECTS */
^IMAGE = ("H7256_0000_S24.TIF")
/* IDENTIFICATION DATA ELEMENTS */
DATA_SET_ID = "MEX-M-HRSC-4-REFDR-MAPPROJECT-EXT3-V4.0"
DATA_SET_NAME = "MARS EXPRESS HRSC MAP PROJECTED REFDR EXTENSION3 V4.0"
DETECTOR_ID = MEX_HRSC_S2
EVENT_TYPE = "MARS-REGIONAL-MAPPING-Vo-Eo"
INSTRUMENT_HOST_ID = MEX
INSTRUMENT_HOST_NAME = "MARS EXPRESS"
INSTRUMENT_ID = HRSC
INSTRUMENT_NAME = "HIGH RESOLUTION STEREO CAMERA"
MISSION_NAME = "MARS EXPRESS"
MISSION_PHASE_NAME = ME_Phase_18
PROCESSING_LEVEL_ID = 4
PRODUCT_CREATION_TIME = 2023-02-01T22:33:16.000Z
PRODUCT_ID = "H7256_0000_S24.TIF"
RELEASE_ID = 0002
REVISION_ID = 0000
/* QUALITY DATA ELEMENTS */
DATA_QUALITY_ID = 1
DATA_QUALITY_DESC = "Data calculated based on original SPICE kernels"
/* TIME DATA ELEMENTS */
SPACECRAFT_CLOCK_START_COUNT = "1/0199629333.07295"
SPACECRAFT_CLOCK_STOP_COUNT = "1/0199629539.46199"
START_TIME = 2009-08-29T12:36:41.442Z
STOP_TIME = 2009-08-29T12:39:00.200Z
/* ORBITAL DATA ELEMENTS */
ASCENDING_NODE_LONGITUDE = 79.05
MAXIMUM_RESOLUTION = 0.0317
FOOTPRINT_POINT_LATITUDE = (4.61593,4.60387,4.59546,4.58738, 4.57966,4.57222,4.56503,4.56458,4.58821 ,4.41861,4.24915,4.07986,3.91073, 3.74178,3.57298,3.40436,3.23592,3.06763 ,2.89956,2.73162,2.56386,2.39625,2.2288 ,2.06154,1.89443,1.72749,1.56075, 1.39418,1.06162,0.729825,0.398745, 0.0683811,-0.261232,-0.59011,-0.918198, -1.24551,-1.49543,-1.6629,-1.83018, -1.99724,-2.16409,-2.4972,-2.75264, -2.92289,-3.0929,-3.26271,-3.43228, -3.68819,-3.77492,-3.80399,-3.79723, -3.78801,-3.77847,-3.76953,-3.75945, -3.75294,-3.75232,-3.7516,-3.49258, -3.32315,-3.1535,-2.98378,-2.81373, -2.64336,-2.3891,-2.22254,-2.05582, -1.88887,-1.72172,-1.5544,-1.38687, -1.22004,-0.8928,-0.564889,-0.236068, 0.175899,0.506254,0.837568,1.16956, 1.50222,1.66881,1.83557,2.00254,2.16967 ,2.33699,2.50449,2.67215,2.83999, 3.00799,3.17616,3.34451,3.51305,3.68176 ,3.85063,4.01967,4.18886,4.35823, 4.52775,4.61258,4.61593)
FOOTPRINT_POINT_LONGITUDE = (167.617,167.329,167.121,166.915, 166.712,166.51,166.31,166.297,166.294, 166.292,166.289,166.286,166.283,166.28, 166.277,166.274,166.271,166.268,166.265 ,166.262,166.259,166.256,166.253, 166.249,166.246,166.243,166.24,166.236, 166.23,166.223,166.216,166.209,166.202, 166.195,166.187,166.18,166.174,166.17, 166.166,166.163,166.159,166.151,166.144 ,166.14,166.136,166.132,166.128,166.121 ,166.119,166.118,166.353,166.665, 166.949,167.206,167.481,167.65,167.665, 167.671,167.669,167.667,167.666,167.664 ,167.663,167.661,167.66,167.658,167.657 ,167.656,167.655,167.654,167.652, 167.651,167.649,167.647,167.646,167.644 ,167.642,167.641,167.64,167.638,167.638 ,167.637,167.637,167.637,167.636, 167.636,167.635,167.635,167.635,167.635 ,167.634,167.634,167.634,167.634, 167.634,167.634,167.634,167.634,167.634 ,167.617)
ORBIT_NUMBER = 7256
ORBITAL_ECCENTRICITY = 0.574
ORBITAL_INCLINATION = 86.81
ORBITAL_SEMIMAJOR_AXIS = 8763.7
PERIAPSIS_ALTITUDE = 338.4
PERIAPSIS_ARGUMENT_ANGLE = 165.4
PERIAPSIS_TIME = 2009-08-29T12:33:33.000Z
SPACECRAFT_ORIENTATION = (0.0,-1.0,0.0)
^MEX_ORIENTATION_DESC = "MEX_ORIENTATION_DESC.TXT"
SPACECRAFT_POINTING_MODE = ACROSSTRACK
^MEX_POINTING_DESC = "MEX_POINTING_DESC.TXT"
RIGHT_ASCENSION = -1e+32
DECLINATION = -1e+32
OFFSET_ANGLE = 0.75
SPACECRAFT_SOLAR_DISTANCE = 2.21823e+08
TARGET_NAME = MARS
/* CAMERA DATA ELEMENTS */
DETECTOR_TEMPERATURE = 18.5744
FOCAL_PLANE_TEMPERATURE = 8.1755
INST_CMPRS_NAME = "DISCRETE COSINE TRANSFORMATION (DCT)"
INST_CMPRS_RATIO = 11.4064
INST_CMPRS_QUALITY = 0
INST_CMPRS_QUANTZ_TBL_ID = 0
INSTRUMENT_TEMPERATURE = 11.0301
LENS_TEMPERATURE = 8.5833
MACROPIXEL_SIZE = 2
MISSING_FRAMES = 0
PIXEL_SUBSAMPLING_FLAG = N
SIGNAL_CHAIN_ID = 1
/* RADIOMETRIC DATA ELEMENTS */
BANDWIDTH = 178.0
CENTER_FILTER_WAVELENGTH = 679.0
RADIANCE_OFFSET = 5.57337
RADIANCE_SCALING_FACTOR = 0.00558374
REFLECTANCE_SCALING_FACTOR = 0.000145501
MEX:REFLECTANCE_OFFSET = 0.145231
/* IMAGE OBJECT DEFINITIONS */
OBJECT = IMAGE
  INTERCHANGE_FORMAT = BINARY
  LINES = 19929
  LINE_SAMPLES = 3466
  SAMPLE_TYPE = UNSIGNED_INTEGER
  SAMPLE_BITS = 8
  BANDS = 1
  BAND_STORAGE_TYPE = BAND_SEQUENTIAL
  MAXIMUM = 254
  MEAN = 129.952
  MINIMUM = 1
  STANDARD_DEVIATION = 40.0743
END_OBJECT = IMAGE
/* MAP OBJECT DEFINITIONS */
OBJECT = IMAGE_MAP_PROJECTION
  ^DATA_SET_MAP_PROJECTION_CATALOG= "DSMAP.CAT"
  A_AXIS_RADIUS = 3396.0
  B_AXIS_RADIUS = 3396.0
  C_AXIS_RADIUS = 3396.0
  CENTER_LATITUDE = 0.0
  CENTER_LONGITUDE = 167.0
  COORDINATE_SYSTEM_NAME = PLANETOGRAPHIC
  COORDINATE_SYSTEM_TYPE = "BODY-FIXED ROTATING"
  EASTERNMOST_LONGITUDE = 167.671
  FIRST_STANDARD_PARALLEL = "N/A"
  LINE_FIRST_PIXEL = 1
  LINE_LAST_PIXEL = 19929
  LINE_PROJECTION_OFFSET = 10907.25
  MAP_PROJECTION_ROTATION = 0.0
  MAP_PROJECTION_TYPE = SINUSOIDAL
  MAP_RESOLUTION = 2370.85521546667
  MAP_SCALE = 0.025
  MAXIMUM_LATITUDE = 4.61593
  MINIMUM_LATITUDE = -3.80399
  POSITIVE_LONGITUDE_DIRECTION = EAST
  REFERENCE_LATITUDE = "N/A"
  REFERENCE_LONGITUDE = "N/A"
  SAMPLE_FIRST_PIXEL = 1
  SAMPLE_LAST_PIXEL = 3466
  SAMPLE_PROJECTION_OFFSET = 1993.25
  SECOND_STANDARD_PARALLEL = "N/A"
  WESTERNMOST_LONGITUDE = 166.118
END_OBJECT = IMAGE_MAP_PROJECTION
END
