PDS_VERSION_ID = PDS3
/* FILE DATA ELEMENTS */
RECORD_TYPE = UNDEFINED
/* POINTERS TO DATA OBJECTS */
^IMAGE = ("H7255_0000_BL4.TIF")
/* IDENTIFICATION DATA ELEMENTS */
DATA_SET_ID = "MEX-M-HRSC-4-REFDR-MAPPROJECT-EXT3-V4.0"
DATA_SET_NAME = "MARS EXPRESS HRSC MAP PROJECTED REFDR EXTENSION3 V4.0"
DETECTOR_ID = MEX_HRSC_BLUE
EVENT_TYPE = "MARS-REGIONAL-MAPPING-Vo"
INSTRUMENT_HOST_ID = MEX
INSTRUMENT_HOST_NAME = "MARS EXPRESS"
INSTRUMENT_ID = HRSC
INSTRUMENT_NAME = "HIGH RESOLUTION STEREO CAMERA"
MISSION_NAME = "MARS EXPRESS"
MISSION_PHASE_NAME = ME_Phase_18
PROCESSING_LEVEL_ID = 4
PRODUCT_CREATION_TIME = 2023-02-01T22:33:16.000Z
PRODUCT_ID = "H7255_0000_BL4.TIF"
RELEASE_ID = 0002
REVISION_ID = 0000
/* QUALITY DATA ELEMENTS */
DATA_QUALITY_ID = 1
DATA_QUALITY_DESC = "Data calculated based on original SPICE kernels"
/* TIME DATA ELEMENTS */
SPACECRAFT_CLOCK_START_COUNT = "1/0199604252.08234"
SPACECRAFT_CLOCK_STOP_COUNT = "1/0199604494.30600"
START_TIME = 2009-08-29T05:38:12.048Z
STOP_TIME = 2009-08-29T05:41:09.047Z
/* ORBITAL DATA ELEMENTS */
ASCENDING_NODE_LONGITUDE = 79.07
MAXIMUM_RESOLUTION = 0.1072
FOOTPRINT_POINT_LATITUDE = (21.3251,21.3255,21.3249,21.3237, 21.3237,21.3214,20.9757,20.7452,20.3998 ,20.0533,19.8226,19.5919,19.3611, 19.1303,18.8995,18.6686,18.3223,18.0913 ,17.8603,17.5139,17.1675,16.821,16.4745 ,16.2435,16.0126,15.6661,15.3221, 15.0985,14.875,14.5398,13.9813,13.1996, 12.8567,12.6261,12.3955,12.1649,11.9345 ,11.704,11.4737,11.2434,11.0132,10.668, 10.4379,10.2079,9.978,9.86306,9.80474, 9.80353,9.80246,9.80055,9.79914,9.79907 ,9.80074,10.0307,10.3759,10.606,10.8362 ,11.0665,11.2968,11.5273,11.7577, 11.9883,12.2189,12.4496,12.6803,12.9111 ,13.1405,13.5873,14.0344,14.3698, 14.5934,14.9288,15.1525,15.3762,15.6066 ,15.8378,16.1846,16.4157,16.6468, 16.8779,17.1091,17.3402,17.5713,17.8025 ,18.0336,18.2646,18.4957,18.7267, 18.9578,19.1888,19.4198,19.7662,19.9971 ,20.2279,20.4587,20.6895,20.9202, 21.1509,21.2662,21.3251)
FOOTPRINT_POINT_LONGITUDE = (267.722,267.29,266.798,266.462,266.45, 266.445,266.449,266.451,266.454,266.458 ,266.46,266.462,266.464,266.466,266.467 ,266.469,266.471,266.473,266.474, 266.476,266.477,266.479,266.48,266.48, 266.481,266.482,266.482,266.483,266.483 ,266.483,266.483,266.482,266.482, 266.481,266.481,266.48,266.479,266.478, 266.477,266.476,266.475,266.474,266.472 ,266.471,266.47,266.469,266.469,266.778 ,267.011,267.389,267.634,267.645, 267.653,267.654,267.655,267.656,267.657 ,267.658,267.659,267.659,267.66,267.661 ,267.663,267.664,267.665,267.666, 267.667,267.669,267.672,267.674,267.675 ,267.677,267.678,267.68,267.681,267.683 ,267.685,267.686,267.688,267.689, 267.691,267.692,267.694,267.695,267.697 ,267.699,267.7,267.702,267.704,267.705, 267.707,267.71,267.711,267.713,267.715, 267.717,267.719,267.72,267.721,267.722)
ORBIT_NUMBER = 7255
ORBITAL_ECCENTRICITY = 0.575
ORBITAL_INCLINATION = 86.8
ORBITAL_SEMIMAJOR_AXIS = 8779.51
PERIAPSIS_ALTITUDE = 337.53
PERIAPSIS_ARGUMENT_ANGLE = 165.57
PERIAPSIS_TIME = 2009-08-29T05:39:53.000Z
SPACECRAFT_ORIENTATION = (0.0,-1.0,0.0)
^MEX_ORIENTATION_DESC = "MEX_ORIENTATION_DESC.TXT"
SPACECRAFT_POINTING_MODE = NADIR
^MEX_POINTING_DESC = "MEX_POINTING_DESC.TXT"
RIGHT_ASCENSION = -1e+32
DECLINATION = -1e+32
OFFSET_ANGLE = -1e+32
SPACECRAFT_SOLAR_DISTANCE = 2.21768e+08
TARGET_NAME = MARS
/* CAMERA DATA ELEMENTS */
DETECTOR_TEMPERATURE = 18.3705
FOCAL_PLANE_TEMPERATURE = 8.5833
INST_CMPRS_NAME = "DISCRETE COSINE TRANSFORMATION (DCT)"
INST_CMPRS_RATIO = 21.653
INST_CMPRS_QUALITY = 0
INST_CMPRS_QUANTZ_TBL_ID = 0
INSTRUMENT_TEMPERATURE = 11.4379
LENS_TEMPERATURE = 8.7872
MACROPIXEL_SIZE = 8
MISSING_FRAMES = 0
PIXEL_SUBSAMPLING_FLAG = N
SIGNAL_CHAIN_ID = 2
/* RADIOMETRIC DATA ELEMENTS */
BANDWIDTH = 76.0
CENTER_FILTER_WAVELENGTH = 444.0
RADIANCE_OFFSET = 0.482083
RADIANCE_SCALING_FACTOR = 0.00136538
REFLECTANCE_SCALING_FACTOR = 6.89928e-05
MEX:REFLECTANCE_OFFSET = 0.0243598
/* IMAGE OBJECT DEFINITIONS */
OBJECT = IMAGE
  INTERCHANGE_FORMAT = BINARY
  LINES = 6828
  LINE_SAMPLES = 719
  SAMPLE_TYPE = UNSIGNED_INTEGER
  SAMPLE_BITS = 8
  BANDS = 1
  BAND_STORAGE_TYPE = BAND_SEQUENTIAL
  MAXIMUM = 255
  MEAN = 126.618
  MINIMUM = 1
  STANDARD_DEVIATION = 16.7533
END_OBJECT = IMAGE
/* MAP OBJECT DEFINITIONS */
OBJECT = IMAGE_MAP_PROJECTION
  ^DATA_SET_MAP_PROJECTION_CATALOG= "DSMAP.CAT"
  A_AXIS_RADIUS = 3396.0
  B_AXIS_RADIUS = 3396.0
  C_AXIS_RADIUS = 3396.0
  CENTER_LATITUDE = 0.0
  CENTER_LONGITUDE = 267.0
  COORDINATE_SYSTEM_NAME = PLANETOGRAPHIC
  COORDINATE_SYSTEM_TYPE = "BODY-FIXED ROTATING"
  EASTERNMOST_LONGITUDE = 267.722
  FIRST_STANDARD_PARALLEL = "N/A"
  LINE_FIRST_PIXEL = 1
  LINE_LAST_PIXEL = 6828
  LINE_PROJECTION_OFFSET = 12643.5625
  MAP_PROJECTION_ROTATION = 0.0
  MAP_PROJECTION_TYPE = SINUSOIDAL
  MAP_RESOLUTION = 592.713803866667
  MAP_SCALE = 0.1
  MAXIMUM_LATITUDE = 21.3255
  MINIMUM_LATITUDE = 9.79907
  POSITIVE_LONGITUDE_DIRECTION = EAST
  REFERENCE_LATITUDE = "N/A"
  REFERENCE_LONGITUDE = "N/A"
  SAMPLE_FIRST_PIXEL = 1
  SAMPLE_LAST_PIXEL = 719
  SAMPLE_PROJECTION_OFFSET = 318.6875
  SECOND_STANDARD_PARALLEL = "N/A"
  WESTERNMOST_LONGITUDE = 266.445
END_OBJECT = IMAGE_MAP_PROJECTION
END
