PDS_VERSION_ID = PDS3
/* FILE DATA ELEMENTS */
RECORD_TYPE = UNDEFINED
/* POINTERS TO DATA OBJECTS */
^IMAGE = ("H7254_0001_IR4.TIF")
/* IDENTIFICATION DATA ELEMENTS */
DATA_SET_ID = "MEX-M-HRSC-4-REFDR-MAPPROJECT-EXT3-V4.0"
DATA_SET_NAME = "MARS EXPRESS HRSC MAP PROJECTED REFDR EXTENSION3 V4.0"
DETECTOR_ID = MEX_HRSC_IR
EVENT_TYPE = "MARS-REGIONAL-MAPPING-Im-Fl"
INSTRUMENT_HOST_ID = MEX
INSTRUMENT_HOST_NAME = "MARS EXPRESS"
INSTRUMENT_ID = HRSC
INSTRUMENT_NAME = "HIGH RESOLUTION STEREO CAMERA"
MISSION_NAME = "MARS EXPRESS"
MISSION_PHASE_NAME = ME_Phase_18
PROCESSING_LEVEL_ID = 4
PRODUCT_CREATION_TIME = 2023-02-01T22:33:16.000Z
PRODUCT_ID = "H7254_0001_IR4.TIF"
RELEASE_ID = 0002
REVISION_ID = 0000
/* QUALITY DATA ELEMENTS */
DATA_QUALITY_ID = 1
DATA_QUALITY_DESC = "Data calculated based on original SPICE kernels"
/* TIME DATA ELEMENTS */
SPACECRAFT_CLOCK_START_COUNT = "1/0199579937.07295"
SPACECRAFT_CLOCK_STOP_COUNT = "1/0199580239.52094"
START_TIME = 2009-08-28T22:52:26.678Z
STOP_TIME = 2009-08-28T22:55:13.819Z
/* ORBITAL DATA ELEMENTS */
ASCENDING_NODE_LONGITUDE = 79.1
MAXIMUM_RESOLUTION = 0.0774
FOOTPRINT_POINT_LATITUDE = (-12.1931,-12.1916,-12.19,-12.1883, -12.1863,-12.185,-12.1835,-12.1834, -12.1892,-12.5655,-12.9397,-13.2243, -13.61,-13.8984,-14.2826,-14.4775, -14.6727,-14.8679,-15.0663,-15.2646, -15.4636,-15.6618,-15.8625,-16.0656, -16.2688,-16.4715,-16.6759,-16.8824, -17.1922,-17.3987,-17.6096,-17.8196, -18.1347,-18.3483,-18.6683,-18.8822, -19.2073,-19.4243,-19.6411,-19.8616, -20.0817,-20.3019,-20.5262,-20.8621, -21.0859,-21.3135,-21.6548,-21.8841, -22.1163,-22.4625,-22.5798,-22.6816, -22.683,-22.6885,-22.6916,-22.6927, -22.6935,-22.6949,-22.695,-22.6935, -22.4584,-22.2254,-22.0026,-21.6513, -21.3071,-21.0793,-20.8555,-20.6321, -20.4122,-20.1919,-19.9712,-19.6403, -19.3099,-19.0938,-18.8766,-18.6697, -18.4571,-18.243,-18.0297,-17.8148, -17.6053,-17.2915,-17.0853,-16.879, -16.5699,-16.2656,-15.9619,-15.7591, -15.5595,-15.1667,-14.9676,-14.6689, -14.3769,-13.9906,-13.7045,-13.3211, -12.8429,-12.3735,-12.2799,-12.1931)
FOOTPRINT_POINT_LONGITUDE = (8.49266,8.26226,8.01652,7.75507, 7.41664,7.17027,6.86151,6.84606,6.84015 ,6.8285,6.81738,6.80855,6.79538,6.78562 ,6.77485,6.76865,6.7622,6.75569,6.74905 ,6.74269,6.73592,6.72941,6.72256, 6.71543,6.70812,6.70094,6.69359,6.68626 ,6.67497,6.66752,6.65952,6.65183, 6.63999,6.63194,6.61998,6.61165,6.59922 ,6.59086,6.58243,6.57379,6.56531, 6.55668,6.54708,6.53364,6.52456,6.51532 ,6.50121,6.49178,6.48161,6.4673,6.46231 ,6.45828,6.72897,7.18815,7.73098, 8.08581,8.336,8.66983,8.6907,8.69762, 8.69094,8.68399,8.68082,8.66945,8.65964 ,8.65383,8.64834,8.64313,8.63936, 8.63422,8.62907,8.62144,8.61243,8.6081, 8.60315,8.60093,8.59684,8.59237,8.58736 ,8.58144,8.57756,8.57146,8.56761, 8.56384,8.55832,8.55284,8.54777,8.54435 ,8.54083,8.5362,8.53314,8.52693,8.52286 ,8.51857,8.51486,8.50958,8.50204, 8.49617,8.49518,8.49266)
ORBIT_NUMBER = 7254
ORBITAL_ECCENTRICITY = 0.574
ORBITAL_INCLINATION = 86.79
ORBITAL_SEMIMAJOR_AXIS = 8769.0
PERIAPSIS_ALTITUDE = 338.01
PERIAPSIS_ARGUMENT_ANGLE = 165.73
PERIAPSIS_TIME = 2009-08-28T22:46:06.000Z
SPACECRAFT_ORIENTATION = (0.0,-1.0,0.0)
^MEX_ORIENTATION_DESC = "MEX_ORIENTATION_DESC.TXT"
SPACECRAFT_POINTING_MODE = ACROSSTRACK
^MEX_POINTING_DESC = "MEX_POINTING_DESC.TXT"
RIGHT_ASCENSION = -1e+32
DECLINATION = -1e+32
OFFSET_ANGLE = -0.08
SPACECRAFT_SOLAR_DISTANCE = 2.21713e+08
TARGET_NAME = MARS
/* CAMERA DATA ELEMENTS */
DETECTOR_TEMPERATURE = 18.9822
FOCAL_PLANE_TEMPERATURE = 10.2145
INST_CMPRS_NAME = "DISCRETE COSINE TRANSFORMATION (DCT)"
INST_CMPRS_RATIO = 14.6607
INST_CMPRS_QUALITY = 0
INST_CMPRS_QUANTZ_TBL_ID = 0
INSTRUMENT_TEMPERATURE = 13.273
LENS_TEMPERATURE = 9.6028
MACROPIXEL_SIZE = 4
MISSING_FRAMES = 0
PIXEL_SUBSAMPLING_FLAG = N
SIGNAL_CHAIN_ID = 2
/* RADIOMETRIC DATA ELEMENTS */
BANDWIDTH = 81.0
CENTER_FILTER_WAVELENGTH = 955.5
RADIANCE_OFFSET = 0.641908
RADIANCE_SCALING_FACTOR = 0.0044206
REFLECTANCE_SCALING_FACTOR = 0.000468805
MEX:REFLECTANCE_OFFSET = 0.0680744
/* IMAGE OBJECT DEFINITIONS */
OBJECT = IMAGE
  INTERCHANGE_FORMAT = BINARY
  LINES = 6235
  LINE_SAMPLES = 1317
  SAMPLE_TYPE = UNSIGNED_INTEGER
  SAMPLE_BITS = 8
  BANDS = 1
  BAND_STORAGE_TYPE = BAND_SEQUENTIAL
  MAXIMUM = 255
  MEAN = 102.212
  MINIMUM = 1
  STANDARD_DEVIATION = 24.6525
END_OBJECT = IMAGE
/* MAP OBJECT DEFINITIONS */
OBJECT = IMAGE_MAP_PROJECTION
  ^DATA_SET_MAP_PROJECTION_CATALOG= "DSMAP.CAT"
  A_AXIS_RADIUS = 3396.0
  B_AXIS_RADIUS = 3396.0
  C_AXIS_RADIUS = 3396.0
  CENTER_LATITUDE = 0.0
  CENTER_LONGITUDE = 8.0
  COORDINATE_SYSTEM_NAME = PLANETOGRAPHIC
  COORDINATE_SYSTEM_TYPE = "BODY-FIXED ROTATING"
  EASTERNMOST_LONGITUDE = 8.697620000000001
  FIRST_STANDARD_PARALLEL = "N/A"
  LINE_FIRST_PIXEL = 1
  LINE_LAST_PIXEL = 6235
  LINE_PROJECTION_OFFSET = -7212.875
  MAP_PROJECTION_ROTATION = 0.0
  MAP_PROJECTION_TYPE = SINUSOIDAL
  MAP_RESOLUTION = 592.713803866667
  MAP_SCALE = 0.1
  MAXIMUM_LATITUDE = -12.1834
  MINIMUM_LATITUDE = -22.695
  POSITIVE_LONGITUDE_DIRECTION = EAST
  REFERENCE_LATITUDE = "N/A"
  REFERENCE_LONGITUDE = "N/A"
  SAMPLE_FIRST_PIXEL = 1
  SAMPLE_LAST_PIXEL = 1317
  SAMPLE_PROJECTION_OFFSET = 889.375
  SECOND_STANDARD_PARALLEL = "N/A"
  WESTERNMOST_LONGITUDE = 6.45828
END_OBJECT = IMAGE_MAP_PROJECTION
END
