PDS_VERSION_ID = PDS3
/* FILE DATA ELEMENTS */
RECORD_TYPE = UNDEFINED
/* POINTERS TO DATA OBJECTS */
^IMAGE = ("H7254_0000_BL4.TIF")
/* IDENTIFICATION DATA ELEMENTS */
DATA_SET_ID = "MEX-M-HRSC-4-REFDR-MAPPROJECT-EXT3-V4.0"
DATA_SET_NAME = "MARS EXPRESS HRSC MAP PROJECTED REFDR EXTENSION3 V4.0"
DETECTOR_ID = MEX_HRSC_BLUE
EVENT_TYPE = "MARS-REGIONAL-MAPPING-Im-Fl-Lc"
INSTRUMENT_HOST_ID = MEX
INSTRUMENT_HOST_NAME = "MARS EXPRESS"
INSTRUMENT_ID = HRSC
INSTRUMENT_NAME = "HIGH RESOLUTION STEREO CAMERA"
MISSION_NAME = "MARS EXPRESS"
MISSION_PHASE_NAME = ME_Phase_18
PROCESSING_LEVEL_ID = 4
PRODUCT_CREATION_TIME = 2023-02-01T22:33:16.000Z
PRODUCT_ID = "H7254_0000_BL4.TIF"
RELEASE_ID = 0002
REVISION_ID = 0000
/* QUALITY DATA ELEMENTS */
DATA_QUALITY_ID = 1
DATA_QUALITY_DESC = "Data calculated based on original SPICE kernels"
/* TIME DATA ELEMENTS */
SPACECRAFT_CLOCK_START_COUNT = "1/0199579445.07299"
SPACECRAFT_CLOCK_STOP_COUNT = "1/0199579770.56107"
START_TIME = 2009-08-28T22:44:44.772Z
STOP_TIME = 2009-08-28T22:49:02.959Z
/* ORBITAL DATA ELEMENTS */
ASCENDING_NODE_LONGITUDE = 79.1
MAXIMUM_RESOLUTION = 0.0544
FOOTPRINT_POINT_LATITUDE = (19.9037,19.9048,19.904,19.904,19.9079, 19.5722,19.0688,18.7331,18.2298,17.893, 17.5573,17.2214,16.8853,16.5492,16.213, 15.7092,15.3733,15.0374,14.5336,14.1978 ,13.862,13.5264,13.1907,12.8552,12.352, 12.0166,11.6815,11.3465,10.8443,10.3418 ,10.0072,9.67278,9.17207,8.83767, 8.50407,8.1705,7.83722,7.33748,7.00546, 6.67236,6.34012,6.00824,5.6765,5.345, 5.01376,4.68294,4.0222,3.36254,3.1979, 3.1827,3.17855,3.17548,3.17245,3.17235, 3.17316,3.83245,4.16277,4.49327,4.8241, 5.15572,5.48706,5.81936,6.15051,6.48281 ,6.81544,7.31481,7.64782,7.98106, 8.48163,8.98254,9.31651,9.65282,9.98728 ,10.4875,10.8227,11.3255,11.6607, 11.9961,12.332,12.8352,13.171,13.507, 13.8428,14.1788,14.5148,15.0188,15.5233 ,16.0275,16.3636,16.8681,17.2044, 17.5405,17.8768,18.2132,18.549,18.8851, 19.2212,19.725,19.893,19.9037)
FOOTPRINT_POINT_LONGITUDE = (8.48946,7.72308,7.23799,7.22615, 7.21379,7.21724,7.22152,7.22408,7.22677 ,7.23068,7.23224,7.234,7.23581,7.23745, 7.23909,7.2404,7.24108,7.24165,7.24214, 7.24222,7.24242,7.24205,7.24185,7.24119 ,7.24017,7.23952,7.23835,7.237,7.23452, 7.23298,7.23122,7.22943,7.2253,7.22387, 7.22117,7.21864,7.21583,7.21174,7.2073, 7.2051,7.20164,7.19786,7.19417,7.19039, 7.1865,7.18223,7.17329,7.16411,7.1616, 7.16138,7.65989,8.05124,8.4183,8.43014, 8.43409,8.43323,8.43319,8.43304,8.43301 ,8.43376,8.43377,8.43482,8.43391, 8.43434,8.43495,8.43593,8.4364,8.43693, 8.43827,8.43959,8.44024,8.44407,8.44503 ,8.44399,8.44561,8.4477,8.44889,8.45032 ,8.45223,8.45414,8.45575,8.45753, 8.45901,8.46082,8.46244,8.46487,8.46806 ,8.47081,8.47269,8.47595,8.47812, 8.48019,8.48245,8.48505,8.48689,8.4893, 8.49169,8.49525,8.49648,8.48946)
ORBIT_NUMBER = 7254
ORBITAL_ECCENTRICITY = 0.574
ORBITAL_INCLINATION = 86.79
ORBITAL_SEMIMAJOR_AXIS = 8769.0
PERIAPSIS_ALTITUDE = 338.01
PERIAPSIS_ARGUMENT_ANGLE = 165.73
PERIAPSIS_TIME = 2009-08-28T22:46:06.000Z
SPACECRAFT_ORIENTATION = (0.0,-1.0,0.0)
^MEX_ORIENTATION_DESC = "MEX_ORIENTATION_DESC.TXT"
SPACECRAFT_POINTING_MODE = ACROSSTRACK
^MEX_POINTING_DESC = "MEX_POINTING_DESC.TXT"
RIGHT_ASCENSION = -1e+32
DECLINATION = -1e+32
OFFSET_ANGLE = -0.08
SPACECRAFT_SOLAR_DISTANCE = 2.21713e+08
TARGET_NAME = MARS
/* CAMERA DATA ELEMENTS */
DETECTOR_TEMPERATURE = 18.3705
FOCAL_PLANE_TEMPERATURE = 8.7872
INST_CMPRS_NAME = "DISCRETE COSINE TRANSFORMATION (DCT)"
INST_CMPRS_RATIO = 6.92918
INST_CMPRS_QUALITY = 0
INST_CMPRS_QUANTZ_TBL_ID = 0
INSTRUMENT_TEMPERATURE = 11.234
LENS_TEMPERATURE = 9.195
MACROPIXEL_SIZE = 4
MISSING_FRAMES = 0
PIXEL_SUBSAMPLING_FLAG = N
SIGNAL_CHAIN_ID = 2
/* RADIOMETRIC DATA ELEMENTS */
BANDWIDTH = 76.0
CENTER_FILTER_WAVELENGTH = 444.0
RADIANCE_OFFSET = 0.457907
RADIANCE_SCALING_FACTOR = 0.00135329
REFLECTANCE_SCALING_FACTOR = 6.83482e-05
MEX:REFLECTANCE_OFFSET = 0.0231267
/* IMAGE OBJECT DEFINITIONS */
OBJECT = IMAGE
  INTERCHANGE_FORMAT = BINARY
  LINES = 19852
  LINE_SAMPLES = 1554
  SAMPLE_TYPE = UNSIGNED_INTEGER
  SAMPLE_BITS = 8
  BANDS = 1
  BAND_STORAGE_TYPE = BAND_SEQUENTIAL
  MAXIMUM = 255
  MEAN = 123.103
  MINIMUM = 1
  STANDARD_DEVIATION = 20.8398
END_OBJECT = IMAGE
/* MAP OBJECT DEFINITIONS */
OBJECT = IMAGE_MAP_PROJECTION
  ^DATA_SET_MAP_PROJECTION_CATALOG= "DSMAP.CAT"
  A_AXIS_RADIUS = 3396.0
  B_AXIS_RADIUS = 3396.0
  C_AXIS_RADIUS = 3396.0
  CENTER_LATITUDE = 0.0
  CENTER_LONGITUDE = 8.0
  COORDINATE_SYSTEM_NAME = PLANETOGRAPHIC
  COORDINATE_SYSTEM_TYPE = "BODY-FIXED ROTATING"
  EASTERNMOST_LONGITUDE = 8.49648
  FIRST_STANDARD_PARALLEL = "N/A"
  LINE_FIRST_PIXEL = 1
  LINE_LAST_PIXEL = 19852
  LINE_PROJECTION_OFFSET = 23616.375
  MAP_PROJECTION_ROTATION = 0.0
  MAP_PROJECTION_TYPE = SINUSOIDAL
  MAP_RESOLUTION = 1185.42760773333
  MAP_SCALE = 0.05
  MAXIMUM_LATITUDE = 19.9079
  MINIMUM_LATITUDE = 3.17235
  POSITIVE_LONGITUDE_DIRECTION = EAST
  REFERENCE_LATITUDE = "N/A"
  REFERENCE_LONGITUDE = "N/A"
  SAMPLE_FIRST_PIXEL = 1
  SAMPLE_LAST_PIXEL = 1554
  SAMPLE_PROJECTION_OFFSET = 995.125
  SECOND_STANDARD_PARALLEL = "N/A"
  WESTERNMOST_LONGITUDE = 7.16138
END_OBJECT = IMAGE_MAP_PROJECTION
END
