PDS_VERSION_ID = PDS3
/* FILE DATA ELEMENTS */
RECORD_TYPE = UNDEFINED
/* POINTERS TO DATA OBJECTS */
^IMAGE = ("H7247_0000_ND4.TIF")
/* IDENTIFICATION DATA ELEMENTS */
DATA_SET_ID = "MEX-M-HRSC-4-REFDR-MAPPROJECT-EXT3-V4.0"
DATA_SET_NAME = "MARS EXPRESS HRSC MAP PROJECTED REFDR EXTENSION3 V4.0"
DETECTOR_ID = MEX_HRSC_NADIR
EVENT_TYPE = "MARS-REGIONAL-MAPPING-Im-Fl-La"
INSTRUMENT_HOST_ID = MEX
INSTRUMENT_HOST_NAME = "MARS EXPRESS"
INSTRUMENT_ID = HRSC
INSTRUMENT_NAME = "HIGH RESOLUTION STEREO CAMERA"
MISSION_NAME = "MARS EXPRESS"
MISSION_PHASE_NAME = ME_Phase_18
PROCESSING_LEVEL_ID = 4
PRODUCT_CREATION_TIME = 2023-02-01T22:33:16.000Z
PRODUCT_ID = "H7247_0000_ND4.TIF"
RELEASE_ID = 0002
REVISION_ID = 0000
/* QUALITY DATA ELEMENTS */
DATA_QUALITY_ID = 1
DATA_QUALITY_DESC = "Data calculated based on original SPICE kernels"
/* TIME DATA ELEMENTS */
SPACECRAFT_CLOCK_START_COUNT = "1/0199405750.09043"
SPACECRAFT_CLOCK_STOP_COUNT = "1/0199405907.65441"
START_TIME = 2009-08-26T22:29:43.356Z
STOP_TIME = 2009-08-26T22:31:17.347Z
/* ORBITAL DATA ELEMENTS */
ASCENDING_NODE_LONGITUDE = 79.23
MAXIMUM_RESOLUTION = 0.0136
FOOTPRINT_POINT_LATITUDE = (14.948,14.9485,14.9489,14.9491,14.9492 ,14.9491,14.9487,14.9487,14.9488, 14.8266,14.7044,14.5822,14.4599,14.3377 ,14.2155,14.0932,13.971,13.8487,13.7265 ,13.6042,13.4209,13.2377,13.1154, 12.9932,12.8709,12.6876,12.5653,12.443, 12.3207,12.1983,12.0761,11.8927,11.7094 ,11.5872,11.4039,11.2816,11.1594,10.854 ,10.6707,10.5485,10.3652,10.121,9.87669 ,9.63245,9.38825,9.08317,8.90006, 8.83907,8.83434,8.83366,8.83303,8.83201 ,8.83113,8.83033,8.8293,8.82923,8.82941 ,9.07363,9.31791,9.44007,9.56224, 9.74551,9.86771,10.051,10.1732,10.2955, 10.4178,10.5401,10.7235,10.8458,10.9679 ,11.0902,11.2125,11.3959,11.5182, 11.6405,11.824,11.9464,12.0687,12.191, 12.3134,12.4357,12.558,12.7416,12.9251, 13.0474,13.1698,13.2921,13.4145,13.5368 ,13.7204,13.9039,14.0262,14.2097, 14.3932,14.5767,14.7601,14.8825,14.9437 ,14.948)
FOOTPRINT_POINT_LONGITUDE = (353.895,353.704,353.512,353.319, 353.125,352.929,352.682,352.67,352.651, 352.651,352.652,352.652,352.653,352.653 ,352.653,352.654,352.655,352.656, 352.656,352.658,352.656,352.651,352.649 ,352.649,352.649,352.65,352.65,352.651, 352.653,352.659,352.659,352.658,352.657 ,352.657,352.657,352.657,352.657, 352.653,352.654,352.654,352.655,352.654 ,352.653,352.653,352.653,352.65,352.651 ,352.651,352.651,352.884,353.066,353.32 ,353.512,353.667,353.857,353.869, 353.875,353.875,353.876,353.876,353.877 ,353.877,353.877,353.878,353.878, 353.879,353.879,353.88,353.88,353.881, 353.881,353.881,353.881,353.882,353.882 ,353.883,353.883,353.884,353.884, 353.885,353.885,353.886,353.886,353.887 ,353.887,353.888,353.888,353.889, 353.889,353.89,353.891,353.891,353.892, 353.892,353.893,353.894,353.895,353.895 ,353.896,353.895)
ORBIT_NUMBER = 7247
ORBITAL_ECCENTRICITY = 0.574
ORBITAL_INCLINATION = 86.8
ORBITAL_SEMIMAJOR_AXIS = 8767.58
PERIAPSIS_ALTITUDE = 337.36
PERIAPSIS_ARGUMENT_ANGLE = 166.94
PERIAPSIS_TIME = 2009-08-26T22:30:12.000Z
SPACECRAFT_ORIENTATION = (0.0,-1.0,0.0)
^MEX_ORIENTATION_DESC = "MEX_ORIENTATION_DESC.TXT"
SPACECRAFT_POINTING_MODE = ACROSSTRACK
^MEX_POINTING_DESC = "MEX_POINTING_DESC.TXT"
RIGHT_ASCENSION = -1e+32
DECLINATION = -1e+32
OFFSET_ANGLE = -0.5
SPACECRAFT_SOLAR_DISTANCE = 2.21329e+08
TARGET_NAME = MARS
/* CAMERA DATA ELEMENTS */
DETECTOR_TEMPERATURE = 18.1666
FOCAL_PLANE_TEMPERATURE = 8.5833
INST_CMPRS_NAME = "DISCRETE COSINE TRANSFORMATION (DCT)"
INST_CMPRS_RATIO = 6.68841
INST_CMPRS_QUALITY = 0
INST_CMPRS_QUANTZ_TBL_ID = 0
INSTRUMENT_TEMPERATURE = 11.234
LENS_TEMPERATURE = 8.9911
MACROPIXEL_SIZE = 1
MISSING_FRAMES = 0
PIXEL_SUBSAMPLING_FLAG = N
SIGNAL_CHAIN_ID = 0
/* RADIOMETRIC DATA ELEMENTS */
BANDWIDTH = 177.0
CENTER_FILTER_WAVELENGTH = 677.5
RADIANCE_OFFSET = 2.99778
RADIANCE_SCALING_FACTOR = 0.0121352
REFLECTANCE_SCALING_FACTOR = 0.000315796
MEX:REFLECTANCE_OFFSET = 0.0780115
/* IMAGE OBJECT DEFINITIONS */
OBJECT = IMAGE
  INTERCHANGE_FORMAT = BINARY
  LINES = 29021
  LINE_SAMPLES = 5744
  SAMPLE_TYPE = UNSIGNED_INTEGER
  SAMPLE_BITS = 8
  BANDS = 1
  BAND_STORAGE_TYPE = BAND_SEQUENTIAL
  MAXIMUM = 255
  MEAN = 112.385
  MINIMUM = 1
  STANDARD_DEVIATION = 34.7783
END_OBJECT = IMAGE
/* MAP OBJECT DEFINITIONS */
OBJECT = IMAGE_MAP_PROJECTION
  ^DATA_SET_MAP_PROJECTION_CATALOG= "DSMAP.CAT"
  A_AXIS_RADIUS = 3396.0
  B_AXIS_RADIUS = 3396.0
  C_AXIS_RADIUS = 3396.0
  CENTER_LATITUDE = 0.0
  CENTER_LONGITUDE = 353.0
  COORDINATE_SYSTEM_NAME = PLANETOGRAPHIC
  COORDINATE_SYSTEM_TYPE = "BODY-FIXED ROTATING"
  EASTERNMOST_LONGITUDE = 353.896
  FIRST_STANDARD_PARALLEL = "N/A"
  LINE_FIRST_PIXEL = 1
  LINE_LAST_PIXEL = 29021
  LINE_PROJECTION_OFFSET = 70886.0
  MAP_PROJECTION_ROTATION = 0.0
  MAP_PROJECTION_TYPE = SINUSOIDAL
  MAP_RESOLUTION = 4741.71043093333
  MAP_SCALE = 0.0125
  MAXIMUM_LATITUDE = 14.9492
  MINIMUM_LATITUDE = 8.829230000000001
  POSITIVE_LONGITUDE_DIRECTION = EAST
  REFERENCE_LATITUDE = "N/A"
  REFERENCE_LONGITUDE = "N/A"
  SAMPLE_FIRST_PIXEL = 1
  SAMPLE_LAST_PIXEL = 5744
  SAMPLE_PROJECTION_OFFSET = 1639.0
  SECOND_STANDARD_PARALLEL = "N/A"
  WESTERNMOST_LONGITUDE = 352.649
END_OBJECT = IMAGE_MAP_PROJECTION
END
