PDS_VERSION_ID = PDS3
/* FILE DATA ELEMENTS */
RECORD_TYPE = UNDEFINED
/* POINTERS TO DATA OBJECTS */
^IMAGE = ("H7244_0000_IR4.TIF")
/* IDENTIFICATION DATA ELEMENTS */
DATA_SET_ID = "MEX-M-HRSC-4-REFDR-MAPPROJECT-EXT3-V4.0"
DATA_SET_NAME = "MARS EXPRESS HRSC MAP PROJECTED REFDR EXTENSION3 V4.0"
DETECTOR_ID = MEX_HRSC_IR
EVENT_TYPE = "MARS-REGIONAL-MAPPING-Vo-Te"
INSTRUMENT_HOST_ID = MEX
INSTRUMENT_HOST_NAME = "MARS EXPRESS"
INSTRUMENT_ID = HRSC
INSTRUMENT_NAME = "HIGH RESOLUTION STEREO CAMERA"
MISSION_NAME = "MARS EXPRESS"
MISSION_PHASE_NAME = ME_Phase_18
PROCESSING_LEVEL_ID = 4
PRODUCT_CREATION_TIME = 2023-02-01T22:33:16.000Z
PRODUCT_ID = "H7244_0000_IR4.TIF"
RELEASE_ID = 0002
REVISION_ID = 0000
/* QUALITY DATA ELEMENTS */
DATA_QUALITY_ID = 1
DATA_QUALITY_DESC = "Data calculated based on original SPICE kernels"
/* TIME DATA ELEMENTS */
SPACECRAFT_CLOCK_START_COUNT = "1/0199331184.08241"
SPACECRAFT_CLOCK_STOP_COUNT = "1/0199331622.07590"
START_TIME = 2009-08-26T01:46:32.300Z
STOP_TIME = 2009-08-26T01:52:37.336Z
/* ORBITAL DATA ELEMENTS */
ASCENDING_NODE_LONGITUDE = 79.29
MAXIMUM_RESOLUTION = 0.1126
FOOTPRINT_POINT_LATITUDE = (21.0829,21.0798,21.0733,21.0732, 21.0574,20.5972,20.1362,19.6738,19.2105 ,18.7469,18.2821,17.8167,17.3503, 16.8834,16.4157,15.9473,15.4778,14.7726 ,14.302,13.831,13.3589,12.6503,11.9629, 11.0447,10.5851,10.1246,9.66385,8.97213 ,8.51054,8.0457,7.56809,7.09023,6.37291 ,5.89462,5.41634,4.93743,4.45899, 3.74132,3.26233,2.54365,1.8244,1.34481, 0.865711,0.386202,-0.0930177,-0.572028, -1.05071,-1.52924,-2.30283,-2.58837, -2.63392,-2.6352,-2.63941,-2.63948, -2.63745,-1.80947,-1.33066,-0.851391, -0.372304,0.343894,1.06612,1.54542, 2.26471,2.74434,3.22375,3.7029,4.18178, 4.66094,5.13938,5.6176,6.09635,6.81392, 7.29226,7.77016,8.24457,8.70638,9.39862 ,10.0903,10.7813,11.2412,11.7005, 12.6181,13.0893,13.5622,14.2701,14.9764 ,15.4468,15.9161,16.3852,16.8536, 17.5543,18.0204,18.4858,18.9505,19.4142 ,19.8774,20.3396,20.8009,21.0314, 21.0829)
FOOTPRINT_POINT_LONGITUDE = (296.866,296.143,295.554,295.542, 295.529,295.536,295.542,295.548,295.553 ,295.559,295.563,295.567,295.571, 295.575,295.578,295.581,295.584,295.587 ,295.589,295.59,295.591,295.592,295.592 ,295.591,295.591,295.589,295.588, 295.585,295.583,295.581,295.578,295.575 ,295.57,295.566,295.562,295.558,295.553 ,295.547,295.541,295.533,295.524, 295.518,295.511,295.504,295.497,295.49, 295.483,295.475,295.462,295.457,295.456 ,295.963,296.724,296.736,296.744, 296.743,296.743,296.742,296.742,296.743 ,296.743,296.743,296.744,296.745, 296.746,296.748,296.749,296.751,296.752 ,296.754,296.756,296.759,296.761, 296.763,296.766,296.768,296.772,296.776 ,296.78,296.783,296.786,296.793,296.797 ,296.8,296.806,296.812,296.816,296.82, 296.824,296.828,296.835,296.839,296.844 ,296.849,296.854,296.858,296.863, 296.868,296.871,296.866)
ORBIT_NUMBER = 7244
ORBITAL_ECCENTRICITY = 0.575
ORBITAL_INCLINATION = 86.8
ORBITAL_SEMIMAJOR_AXIS = 8771.47
PERIAPSIS_ALTITUDE = 336.61
PERIAPSIS_ARGUMENT_ANGLE = 167.51
PERIAPSIS_TIME = 2009-08-26T01:49:11.000Z
SPACECRAFT_ORIENTATION = (0.0,-1.0,0.0)
^MEX_ORIENTATION_DESC = "MEX_ORIENTATION_DESC.TXT"
SPACECRAFT_POINTING_MODE = ACROSSTRACK
^MEX_POINTING_DESC = "MEX_POINTING_DESC.TXT"
RIGHT_ASCENSION = -1e+32
DECLINATION = -1e+32
OFFSET_ANGLE = -0.1
SPACECRAFT_SOLAR_DISTANCE = 2.21165e+08
TARGET_NAME = MARS
/* CAMERA DATA ELEMENTS */
DETECTOR_TEMPERATURE = 17.7588
FOCAL_PLANE_TEMPERATURE = 7.9716
INST_CMPRS_NAME = "DISCRETE COSINE TRANSFORMATION (DCT)"
INST_CMPRS_RATIO = 21.7425
INST_CMPRS_QUALITY = 0
INST_CMPRS_QUANTZ_TBL_ID = 0
INSTRUMENT_TEMPERATURE = 11.0301
LENS_TEMPERATURE = 8.5833
MACROPIXEL_SIZE = 8
MISSING_FRAMES = 0
PIXEL_SUBSAMPLING_FLAG = N
SIGNAL_CHAIN_ID = 2
/* RADIOMETRIC DATA ELEMENTS */
BANDWIDTH = 81.0
CENTER_FILTER_WAVELENGTH = 955.5
RADIANCE_OFFSET = 0.835686
RADIANCE_SCALING_FACTOR = 0.00423132
REFLECTANCE_SCALING_FACTOR = 0.000446512
MEX:REFLECTANCE_OFFSET = 0.0881861
/* IMAGE OBJECT DEFINITIONS */
OBJECT = IMAGE
  INTERCHANGE_FORMAT = BINARY
  LINES = 14046
  LINE_SAMPLES = 814
  SAMPLE_TYPE = UNSIGNED_INTEGER
  SAMPLE_BITS = 8
  BANDS = 1
  BAND_STORAGE_TYPE = BAND_SEQUENTIAL
  MAXIMUM = 255
  MEAN = 79.8689
  MINIMUM = 1
  STANDARD_DEVIATION = 24.6806
END_OBJECT = IMAGE
/* MAP OBJECT DEFINITIONS */
OBJECT = IMAGE_MAP_PROJECTION
  ^DATA_SET_MAP_PROJECTION_CATALOG= "DSMAP.CAT"
  A_AXIS_RADIUS = 3396.0
  B_AXIS_RADIUS = 3396.0
  C_AXIS_RADIUS = 3396.0
  CENTER_LATITUDE = 0.0
  CENTER_LONGITUDE = 296.0
  COORDINATE_SYSTEM_NAME = PLANETOGRAPHIC
  COORDINATE_SYSTEM_TYPE = "BODY-FIXED ROTATING"
  EASTERNMOST_LONGITUDE = 296.871
  FIRST_STANDARD_PARALLEL = "N/A"
  LINE_FIRST_PIXEL = 1
  LINE_LAST_PIXEL = 14046
  LINE_PROJECTION_OFFSET = 12480.4375
  MAP_PROJECTION_ROTATION = 0.0
  MAP_PROJECTION_TYPE = SINUSOIDAL
  MAP_RESOLUTION = 592.713803866667
  MAP_SCALE = 0.1
  MAXIMUM_LATITUDE = 21.0829
  MINIMUM_LATITUDE = -2.63948
  POSITIVE_LONGITUDE_DIRECTION = EAST
  REFERENCE_LATITUDE = "N/A"
  REFERENCE_LONGITUDE = "N/A"
  SAMPLE_FIRST_PIXEL = 1
  SAMPLE_LAST_PIXEL = 814
  SAMPLE_PROJECTION_OFFSET = 340.4375
  SECOND_STANDARD_PARALLEL = "N/A"
  WESTERNMOST_LONGITUDE = 295.456
END_OBJECT = IMAGE_MAP_PROJECTION
END
