PDS_VERSION_ID = PDS3
/* FILE DATA ELEMENTS */
RECORD_TYPE = UNDEFINED
/* POINTERS TO DATA OBJECTS */
^IMAGE = ("H7240_0000_S24.TIF")
/* IDENTIFICATION DATA ELEMENTS */
DATA_SET_ID = "MEX-M-HRSC-4-REFDR-MAPPROJECT-EXT3-V4.0"
DATA_SET_NAME = "MARS EXPRESS HRSC MAP PROJECTED REFDR EXTENSION3 V4.0"
DETECTOR_ID = MEX_HRSC_S2
EVENT_TYPE = "MARS-REGIONAL-MAPPING-Te-Lc-Mw"
INSTRUMENT_HOST_ID = MEX
INSTRUMENT_HOST_NAME = "MARS EXPRESS"
INSTRUMENT_ID = HRSC
INSTRUMENT_NAME = "HIGH RESOLUTION STEREO CAMERA"
MISSION_NAME = "MARS EXPRESS"
MISSION_PHASE_NAME = ME_Phase_18
PROCESSING_LEVEL_ID = 4
PRODUCT_CREATION_TIME = 2023-02-01T22:33:16.000Z
PRODUCT_ID = "H7240_0000_S24.TIF"
RELEASE_ID = 0002
REVISION_ID = 0000
/* QUALITY DATA ELEMENTS */
DATA_QUALITY_ID = 1
DATA_QUALITY_DESC = "Data calculated based on original SPICE kernels"
/* TIME DATA ELEMENTS */
SPACECRAFT_CLOCK_START_COUNT = "1/0199232255.08386"
SPACECRAFT_CLOCK_STOP_COUNT = "1/0199232547.53671"
START_TIME = 2009-08-24T22:18:48.695Z
STOP_TIME = 2009-08-24T22:22:28.327Z
/* ORBITAL DATA ELEMENTS */
ASCENDING_NODE_LONGITUDE = 79.37
MAXIMUM_RESOLUTION = 0.0344
FOOTPRINT_POINT_LATITUDE = (-3.29881,-3.30919,-3.31606,-3.32137, -3.32151,-3.30611,-4.10581,-4.56228, -4.79681,-5.02948,-5.26268,-5.72254, -6.0765,-6.31342,-6.55336,-6.79182, -7.14953,-7.38615,-7.62721,-7.87159, -8.11819,-8.36307,-8.60325,-8.84948, -9.217,-9.46653,-9.71988,-10.1019, -10.3494,-10.6042,-10.9917,-11.3746, -11.6349,-12.0243,-12.2844,-12.5509, -12.8173,-13.0863,-13.3448,-13.6221, -13.8938,-14.1621,-14.5746,-14.8499, -15.1294,-15.4075,-15.6881,-15.8294, -15.8446,-15.8444,-15.8325,-15.8362, -15.8303,-15.8239,-15.8141,-15.8136, -15.8128,-15.5329,-15.2494,-14.9728, -14.7025,-14.4275,-14.1531,-13.883, -13.4768,-13.0766,-12.8098,-12.5455, -12.2822,-12.017,-11.7588,-11.4992, -11.2388,-10.9832,-10.726,-10.34, -10.0886,-9.71061,-9.33562,-9.08593, -8.83961,-8.47709,-8.23145,-7.98626, -7.73467,-7.49444,-7.13719,-6.89696, -6.53841,-6.30289,-6.06803,-5.82976, -5.47043,-5.01245,-4.78146,-4.31993, -3.74983,-3.40668,-3.29249,-3.29881)
FOOTPRINT_POINT_LONGITUDE = (340.694,340.168,339.73,339.294,339.281 ,339.275,339.257,339.246,339.241, 339.235,339.23,339.217,339.208,339.202, 339.197,339.191,339.181,339.174,339.168 ,339.161,339.155,339.148,339.141, 339.133,339.122,339.115,339.108,339.097 ,339.089,339.081,339.07,339.057,339.049 ,339.036,339.027,339.018,339.01,339.001 ,338.99,338.982,338.973,338.963,338.948 ,338.939,338.928,338.918,338.908, 338.902,338.902,339.208,339.516,339.882 ,340.134,340.387,340.875,340.895, 340.902,340.894,340.889,340.881,340.872 ,340.865,340.859,340.853,340.843, 340.835,340.829,340.823,340.818,340.813 ,340.808,340.803,340.798,340.794,340.79 ,340.785,340.78,340.774,340.769,340.766 ,340.761,340.753,340.75,340.748,340.748 ,340.744,340.739,340.736,340.732, 340.729,340.726,340.725,340.725,340.718 ,340.715,340.711,340.707,340.704, 340.703,340.694)
ORBIT_NUMBER = 7240
ORBITAL_ECCENTRICITY = 0.574
ORBITAL_INCLINATION = 86.8
ORBITAL_SEMIMAJOR_AXIS = 8766.36
PERIAPSIS_ALTITUDE = 336.54
PERIAPSIS_ARGUMENT_ANGLE = 168.17
PERIAPSIS_TIME = 2009-08-24T22:14:17.000Z
SPACECRAFT_ORIENTATION = (0.0,-1.0,0.0)
^MEX_ORIENTATION_DESC = "MEX_ORIENTATION_DESC.TXT"
SPACECRAFT_POINTING_MODE = ACROSSTRACK
^MEX_POINTING_DESC = "MEX_POINTING_DESC.TXT"
RIGHT_ASCENSION = -1e+32
DECLINATION = -1e+32
OFFSET_ANGLE = 0.4
SPACECRAFT_SOLAR_DISTANCE = 2.20946e+08
TARGET_NAME = MARS
/* CAMERA DATA ELEMENTS */
DETECTOR_TEMPERATURE = 18.5744
FOCAL_PLANE_TEMPERATURE = 8.5833
INST_CMPRS_NAME = "DISCRETE COSINE TRANSFORMATION (DCT)"
INST_CMPRS_RATIO = 13.4969
INST_CMPRS_QUALITY = 0
INST_CMPRS_QUANTZ_TBL_ID = 0
INSTRUMENT_TEMPERATURE = 11.8457
LENS_TEMPERATURE = 8.7872
MACROPIXEL_SIZE = 2
MISSING_FRAMES = 0
PIXEL_SUBSAMPLING_FLAG = N
SIGNAL_CHAIN_ID = 1
/* RADIOMETRIC DATA ELEMENTS */
BANDWIDTH = 178.0
CENTER_FILTER_WAVELENGTH = 679.0
RADIANCE_OFFSET = 2.85739
RADIANCE_SCALING_FACTOR = 0.00930621
REFLECTANCE_SCALING_FACTOR = 0.00024059
MEX:REFLECTANCE_OFFSET = 0.0738709
/* IMAGE OBJECT DEFINITIONS */
OBJECT = IMAGE
  INTERCHANGE_FORMAT = BINARY
  LINES = 29736
  LINE_SAMPLES = 4175
  SAMPLE_TYPE = UNSIGNED_INTEGER
  SAMPLE_BITS = 8
  BANDS = 1
  BAND_STORAGE_TYPE = BAND_SEQUENTIAL
  MAXIMUM = 255
  MEAN = 103.778
  MINIMUM = 1
  STANDARD_DEVIATION = 25.0842
END_OBJECT = IMAGE
/* MAP OBJECT DEFINITIONS */
OBJECT = IMAGE_MAP_PROJECTION
  ^DATA_SET_MAP_PROJECTION_CATALOG= "DSMAP.CAT"
  A_AXIS_RADIUS = 3396.0
  B_AXIS_RADIUS = 3396.0
  C_AXIS_RADIUS = 3396.0
  CENTER_LATITUDE = 0.0
  CENTER_LONGITUDE = 340.0
  COORDINATE_SYSTEM_NAME = PLANETOGRAPHIC
  COORDINATE_SYSTEM_TYPE = "BODY-FIXED ROTATING"
  EASTERNMOST_LONGITUDE = 340.902
  FIRST_STANDARD_PARALLEL = "N/A"
  LINE_FIRST_PIXEL = 1
  LINE_LAST_PIXEL = 29736
  LINE_PROJECTION_OFFSET = -7833.75
  MAP_PROJECTION_ROTATION = 0.0
  MAP_PROJECTION_TYPE = SINUSOIDAL
  MAP_RESOLUTION = 2370.85521546667
  MAP_SCALE = 0.025
  MAXIMUM_LATITUDE = -3.29249
  MINIMUM_LATITUDE = -15.8446
  POSITIVE_LONGITUDE_DIRECTION = EAST
  REFERENCE_LATITUDE = "N/A"
  REFERENCE_LONGITUDE = "N/A"
  SAMPLE_FIRST_PIXEL = 1
  SAMPLE_LAST_PIXEL = 4175
  SAMPLE_PROJECTION_OFFSET = 2312.75
  SECOND_STANDARD_PARALLEL = "N/A"
  WESTERNMOST_LONGITUDE = 338.902
END_OBJECT = IMAGE_MAP_PROJECTION
END
