PDS_VERSION_ID = PDS3
/* FILE DATA ELEMENTS */
RECORD_TYPE = UNDEFINED
/* POINTERS TO DATA OBJECTS */
^IMAGE = ("H7239_0000_S24.TIF")
/* IDENTIFICATION DATA ELEMENTS */
DATA_SET_ID = "MEX-M-HRSC-4-REFDR-MAPPROJECT-EXT3-V4.0"
DATA_SET_NAME = "MARS EXPRESS HRSC MAP PROJECTED REFDR EXTENSION3 V4.0"
DETECTOR_ID = MEX_HRSC_S2
EVENT_TYPE = "MARS-REGIONAL-MAPPING-Vo-Te"
INSTRUMENT_HOST_ID = MEX
INSTRUMENT_HOST_NAME = "MARS EXPRESS"
INSTRUMENT_ID = HRSC
INSTRUMENT_NAME = "HIGH RESOLUTION STEREO CAMERA"
MISSION_NAME = "MARS EXPRESS"
MISSION_PHASE_NAME = ME_Phase_18
PROCESSING_LEVEL_ID = 4
PRODUCT_CREATION_TIME = 2023-02-01T22:33:16.000Z
PRODUCT_ID = "H7239_0000_S24.TIF"
RELEASE_ID = 0002
REVISION_ID = 0000
/* QUALITY DATA ELEMENTS */
DATA_QUALITY_ID = 1
DATA_QUALITY_DESC = "Data calculated based on original SPICE kernels"
/* TIME DATA ELEMENTS */
SPACECRAFT_CLOCK_START_COUNT = "1/0199207204.08229"
SPACECRAFT_CLOCK_STOP_COUNT = "1/0199207347.49317"
START_TIME = 2009-08-24T15:21:07.361Z
STOP_TIME = 2009-08-24T15:22:28.233Z
/* ORBITAL DATA ELEMENTS */
ASCENDING_NODE_LONGITUDE = 79.39
MAXIMUM_RESOLUTION = 0.029
FOOTPRINT_POINT_LATITUDE = (11.7141,11.7202,11.7264,11.7328, 11.7394,11.7461,11.7556,11.756,11.7807, 11.5269,11.324,11.1721,10.9704,10.7116, 10.6073,10.5029,10.3987,10.2945,10.1904 ,10.0862,9.9822,9.87838,9.7737,9.66948, 9.56537,9.40902,9.3053,9.14967,8.99356, 8.88957,8.73355,8.62981,8.47413,8.31833 ,8.21453,8.11069,8.00717,7.8011,7.64517 ,7.54097,7.43701,7.33244,7.22916, 7.12598,6.9712,6.86799,6.76475,6.66112, 6.6095,6.56908,6.56188,6.55716,6.55346, 6.5473,6.54376,6.53657,6.53505,6.53465, 6.53493,6.74055,6.94665,7.04992,7.15365 ,7.25686,7.36014,7.51512,7.66941, 7.77251,7.92756,8.03104,8.13457,8.23843 ,8.34299,8.44702,8.55083,8.70618, 8.80979,8.91354,9.01723,9.12125,9.22541 ,9.38172,9.48586,9.64203,9.74607, 9.85019,9.95419,10.0583,10.1625,10.2668 ,10.4233,10.5277,10.6844,10.7886, 10.9937,11.1455,11.4496,11.6526,11.7032 ,11.7141)
FOOTPRINT_POINT_LONGITUDE = (80.626,80.4409,80.2546,80.0672,79.8789 ,79.6893,79.4262,79.4142,79.3969, 79.3969,79.3967,79.3965,79.3958,79.3949 ,79.3945,79.3942,79.3939,79.3935,79.393 ,79.3927,79.3922,79.3916,79.3915, 79.3912,79.3908,79.3903,79.3897,79.3888 ,79.3882,79.3878,79.3871,79.3866, 79.3858,79.3851,79.3846,79.3841,79.3835 ,79.3817,79.3811,79.3809,79.3805, 79.3804,79.3797,79.379,79.3779,79.3771, 79.3764,79.3759,79.3756,79.3757,79.5703 ,79.6798,79.8003,80.04,80.2073,80.4691, 80.5995,80.6114,80.6156,80.6158,80.6161 ,80.6163,80.6165,80.6166,80.6168,80.617 ,80.6172,80.6174,80.6177,80.6179, 80.6181,80.6183,80.6186,80.6188,80.619, 80.6193,80.6196,80.6198,80.62,80.6203, 80.6205,80.6209,80.6212,80.6216,80.6219 ,80.6222,80.6224,80.6227,80.623,80.6233 ,80.6237,80.624,80.6245,80.6248,80.6254 ,80.6259,80.6269,80.6276,80.6278, 80.626)
ORBIT_NUMBER = 7239
ORBITAL_ECCENTRICITY = 0.575
ORBITAL_INCLINATION = 86.81
ORBITAL_SEMIMAJOR_AXIS = 8775.55
PERIAPSIS_ALTITUDE = 335.54
PERIAPSIS_ARGUMENT_ANGLE = 168.35
PERIAPSIS_TIME = 2009-08-24T15:20:38.000Z
SPACECRAFT_ORIENTATION = (0.0,-1.0,0.0)
^MEX_ORIENTATION_DESC = "MEX_ORIENTATION_DESC.TXT"
SPACECRAFT_POINTING_MODE = ACROSSTRACK
^MEX_POINTING_DESC = "MEX_POINTING_DESC.TXT"
RIGHT_ASCENSION = -1e+32
DECLINATION = -1e+32
OFFSET_ANGLE = -0.458
SPACECRAFT_SOLAR_DISTANCE = 2.20892e+08
TARGET_NAME = MARS
/* CAMERA DATA ELEMENTS */
DETECTOR_TEMPERATURE = 18.3705
FOCAL_PLANE_TEMPERATURE = 8.5833
INST_CMPRS_NAME = "DISCRETE COSINE TRANSFORMATION (DCT)"
INST_CMPRS_RATIO = 12.8336
INST_CMPRS_QUALITY = 0
INST_CMPRS_QUANTZ_TBL_ID = 0
INSTRUMENT_TEMPERATURE = 11.234
LENS_TEMPERATURE = 8.7872
MACROPIXEL_SIZE = 2
MISSING_FRAMES = 0
PIXEL_SUBSAMPLING_FLAG = N
SIGNAL_CHAIN_ID = 1
/* RADIOMETRIC DATA ELEMENTS */
BANDWIDTH = 178.0
CENTER_FILTER_WAVELENGTH = 679.0
RADIANCE_OFFSET = 2.67049
RADIANCE_SCALING_FACTOR = 0.00666433
REFLECTANCE_SCALING_FACTOR = 0.000172204
MEX:REFLECTANCE_OFFSET = 0.0690047
/* IMAGE OBJECT DEFINITIONS */
OBJECT = IMAGE
  INTERCHANGE_FORMAT = BINARY
  LINES = 12364
  LINE_SAMPLES = 2882
  SAMPLE_TYPE = UNSIGNED_INTEGER
  SAMPLE_BITS = 8
  BANDS = 1
  BAND_STORAGE_TYPE = BAND_SEQUENTIAL
  MAXIMUM = 255
  MEAN = 128.909
  MINIMUM = 1
  STANDARD_DEVIATION = 25.6266
END_OBJECT = IMAGE
/* MAP OBJECT DEFINITIONS */
OBJECT = IMAGE_MAP_PROJECTION
  ^DATA_SET_MAP_PROJECTION_CATALOG= "DSMAP.CAT"
  A_AXIS_RADIUS = 3396.0
  B_AXIS_RADIUS = 3396.0
  C_AXIS_RADIUS = 3396.0
  CENTER_LATITUDE = 0.0
  CENTER_LONGITUDE = 80.0
  COORDINATE_SYSTEM_NAME = PLANETOGRAPHIC
  COORDINATE_SYSTEM_TYPE = "BODY-FIXED ROTATING"
  EASTERNMOST_LONGITUDE = 80.62779999999999
  FIRST_STANDARD_PARALLEL = "N/A"
  LINE_FIRST_PIXEL = 1
  LINE_LAST_PIXEL = 12364
  LINE_PROJECTION_OFFSET = 27881.25
  MAP_PROJECTION_ROTATION = 0.0
  MAP_PROJECTION_TYPE = SINUSOIDAL
  MAP_RESOLUTION = 2370.85521546667
  MAP_SCALE = 0.025
  MAXIMUM_LATITUDE = 11.7807
  MINIMUM_LATITUDE = 6.53465
  POSITIVE_LONGITUDE_DIRECTION = EAST
  REFERENCE_LATITUDE = "N/A"
  REFERENCE_LONGITUDE = "N/A"
  SAMPLE_FIRST_PIXEL = 1
  SAMPLE_LAST_PIXEL = 2882
  SAMPLE_PROJECTION_OFFSET = 1428.75
  SECOND_STANDARD_PARALLEL = "N/A"
  WESTERNMOST_LONGITUDE = 79.37560000000001
END_OBJECT = IMAGE_MAP_PROJECTION
END
