PDS_VERSION_ID = PDS3
/* FILE DATA ELEMENTS */
RECORD_TYPE = UNDEFINED
/* POINTERS TO DATA OBJECTS */
^IMAGE = ("H7238_0000_ND4.TIF")
/* IDENTIFICATION DATA ELEMENTS */
DATA_SET_ID = "MEX-M-HRSC-4-REFDR-MAPPROJECT-EXT3-V4.0"
DATA_SET_NAME = "MARS EXPRESS HRSC MAP PROJECTED REFDR EXTENSION3 V4.0"
DETECTOR_ID = MEX_HRSC_NADIR
EVENT_TYPE = "MARS-REGIONAL-MAPPING-Vo-Te-Eo"
INSTRUMENT_HOST_ID = MEX
INSTRUMENT_HOST_NAME = "MARS EXPRESS"
INSTRUMENT_ID = HRSC
INSTRUMENT_NAME = "HIGH RESOLUTION STEREO CAMERA"
MISSION_NAME = "MARS EXPRESS"
MISSION_PHASE_NAME = ME_Phase_18
PROCESSING_LEVEL_ID = 4
PRODUCT_CREATION_TIME = 2023-02-01T22:33:16.000Z
PRODUCT_ID = "H7238_0000_ND4.TIF"
RELEASE_ID = 0002
REVISION_ID = 0000
/* QUALITY DATA ELEMENTS */
DATA_QUALITY_ID = 1
DATA_QUALITY_DESC = "Data calculated based on original SPICE kernels"
/* TIME DATA ELEMENTS */
SPACECRAFT_CLOCK_START_COUNT = "1/0199182501.07304"
SPACECRAFT_CLOCK_STOP_COUNT = "1/0199182857.44990"
START_TIME = 2009-08-24T08:28:54.431Z
STOP_TIME = 2009-08-24T08:33:29.449Z
/* ORBITAL DATA ELEMENTS */
ASCENDING_NODE_LONGITUDE = 79.4
MAXIMUM_RESOLUTION = 0.014
FOOTPRINT_POINT_LATITUDE = (3.98831,3.99221,3.99632,3.99639, 3.99665,3.53706,3.23088,2.92485,2.61903 ,2.31338,2.00793,1.3976,0.788144, 0.179579,-0.427983,-1.03461,-1.54851, -1.90948,-2.27006,-2.63024,-2.98999, -3.34932,-3.70822,-4.06667,-4.42468, -4.78223,-5.13931,-5.4959,-5.85202, -6.20761,-6.56269,-6.91729,-7.2714, -7.63398,-7.9965,-8.35846,-8.72547, -9.09571,-9.4653,-9.83948,-10.2171, -10.5941,-11.1699,-11.5546,-12.1408, -12.5328,-13.1301,-13.3298,-13.3449, -13.3488,-13.3529,-13.356,-13.3561, -13.3558,-12.9563,-12.5585,-12.1665, -11.58,-11.1954,-10.6193,-10.2424, -9.86464,-9.49011,-9.12049,-8.75025, -8.38288,-8.02091,-7.65836,-7.2954, -6.94129,-6.58666,-6.23151,-5.87584, -5.51968,-5.16306,-4.80594,-4.44834, -4.09028,-3.73176,-3.3728,-3.01341, -2.65359,-2.29335,-1.9327,-1.57166, -1.05549,-0.44874,0.158997,0.767697, 1.37731,1.68247,1.98781,2.29333,2.59907 ,2.90497,3.21107,3.51737,3.82381, 3.97709,3.98831)
FOOTPRINT_POINT_LONGITUDE = (182.038,181.484,180.838,180.826, 180.815,180.81,180.806,180.802,180.798, 180.794,180.79,180.782,180.773,180.764, 180.754,180.744,180.735,180.729,180.723 ,180.716,180.709,180.703,180.696, 180.688,180.681,180.674,180.666,180.659 ,180.651,180.643,180.635,180.627, 180.619,180.61,180.602,180.593,180.584, 180.575,180.565,180.556,180.545,180.534 ,180.518,180.508,180.492,180.482, 180.464,180.458,180.457,180.887,181.449 ,182.113,182.13,182.138,182.133,182.128 ,182.124,182.117,182.113,182.105, 182.098,182.094,182.09,182.086,182.083, 182.079,182.076,182.074,182.071,182.068 ,182.066,182.064,182.062,182.06,182.057 ,182.055,182.054,182.052,182.05,182.049 ,182.048,182.047,182.046,182.045, 182.045,182.044,182.043,182.042,182.042 ,182.043,182.044,182.044,182.045, 182.045,182.045,182.046,182.047,182.047 ,182.048,182.038)
ORBIT_NUMBER = 7238
ORBITAL_ECCENTRICITY = 0.574
ORBITAL_INCLINATION = 86.81
ORBITAL_SEMIMAJOR_AXIS = 8764.98
PERIAPSIS_ALTITUDE = 336.29
PERIAPSIS_ARGUMENT_ANGLE = 168.53
PERIAPSIS_TIME = 2009-08-24T08:26:59.000Z
SPACECRAFT_ORIENTATION = (0.0,-1.0,0.0)
^MEX_ORIENTATION_DESC = "MEX_ORIENTATION_DESC.TXT"
SPACECRAFT_POINTING_MODE = ACROSSTRACK
^MEX_POINTING_DESC = "MEX_POINTING_DESC.TXT"
RIGHT_ASCENSION = -1e+32
DECLINATION = -1e+32
OFFSET_ANGLE = 0.15
SPACECRAFT_SOLAR_DISTANCE = 2.20837e+08
TARGET_NAME = MARS
/* CAMERA DATA ELEMENTS */
DETECTOR_TEMPERATURE = 18.1666
FOCAL_PLANE_TEMPERATURE = 8.5833
INST_CMPRS_NAME = "DISCRETE COSINE TRANSFORMATION (DCT)"
INST_CMPRS_RATIO = 7.6805
INST_CMPRS_QUALITY = 0
INST_CMPRS_QUANTZ_TBL_ID = 0
INSTRUMENT_TEMPERATURE = 11.4379
LENS_TEMPERATURE = 9.3989
MACROPIXEL_SIZE = 1
MISSING_FRAMES = 0
PIXEL_SUBSAMPLING_FLAG = N
SIGNAL_CHAIN_ID = 0
/* RADIOMETRIC DATA ELEMENTS */
BANDWIDTH = 177.0
CENTER_FILTER_WAVELENGTH = 677.5
RADIANCE_OFFSET = 4.49677
RADIANCE_SCALING_FACTOR = 0.00762568
REFLECTANCE_SCALING_FACTOR = 0.000197564
MEX:REFLECTANCE_OFFSET = 0.116501
/* IMAGE OBJECT DEFINITIONS */
OBJECT = IMAGE
  INTERCHANGE_FORMAT = BINARY
  LINES = 82282
  LINE_SAMPLES = 7754
  SAMPLE_TYPE = UNSIGNED_INTEGER
  SAMPLE_BITS = 8
  BANDS = 1
  BAND_STORAGE_TYPE = BAND_SEQUENTIAL
  MAXIMUM = 255
  MEAN = 133.721
  MINIMUM = 1
  STANDARD_DEVIATION = 37.5116
END_OBJECT = IMAGE
/* MAP OBJECT DEFINITIONS */
OBJECT = IMAGE_MAP_PROJECTION
  ^DATA_SET_MAP_PROJECTION_CATALOG= "DSMAP.CAT"
  A_AXIS_RADIUS = 3396.0
  B_AXIS_RADIUS = 3396.0
  C_AXIS_RADIUS = 3396.0
  CENTER_LATITUDE = 0.0
  CENTER_LONGITUDE = 181.0
  COORDINATE_SYSTEM_NAME = PLANETOGRAPHIC
  COORDINATE_SYSTEM_TYPE = "BODY-FIXED ROTATING"
  EASTERNMOST_LONGITUDE = 182.138
  FIRST_STANDARD_PARALLEL = "N/A"
  LINE_FIRST_PIXEL = 1
  LINE_LAST_PIXEL = 82282
  LINE_PROJECTION_OFFSET = 18951.0
  MAP_PROJECTION_ROTATION = 0.0
  MAP_PROJECTION_TYPE = SINUSOIDAL
  MAP_RESOLUTION = 4741.71043093333
  MAP_SCALE = 0.0125
  MAXIMUM_LATITUDE = 3.99665
  MINIMUM_LATITUDE = -13.3561
  POSITIVE_LONGITUDE_DIRECTION = EAST
  REFERENCE_LATITUDE = "N/A"
  REFERENCE_LONGITUDE = "N/A"
  SAMPLE_FIRST_PIXEL = 1
  SAMPLE_LAST_PIXEL = 7754
  SAMPLE_PROJECTION_OFFSET = 2503.0
  SECOND_STANDARD_PARALLEL = "N/A"
  WESTERNMOST_LONGITUDE = 180.457
END_OBJECT = IMAGE_MAP_PROJECTION
END
